BEGIN:VCALENDAR
VERSION:2.0
PRODID:-//Bigfork | Small Village - Big Adventure - ECPv6.15.20//NONSGML v1.0//EN
CALSCALE:GREGORIAN
METHOD:PUBLISH
X-ORIGINAL-URL:https://bigfork.org
X-WR-CALDESC:Events for Bigfork | Small Village - Big Adventure
REFRESH-INTERVAL;VALUE=DURATION:PT1H
X-Robots-Tag:noindex
X-PUBLISHED-TTL:PT1H
BEGIN:VTIMEZONE
TZID:America/Denver
BEGIN:DAYLIGHT
TZOFFSETFROM:-0700
TZOFFSETTO:-0600
TZNAME:MDT
DTSTART:20240310T090000
END:DAYLIGHT
BEGIN:STANDARD
TZOFFSETFROM:-0600
TZOFFSETTO:-0700
TZNAME:MST
DTSTART:20241103T080000
END:STANDARD
BEGIN:DAYLIGHT
TZOFFSETFROM:-0700
TZOFFSETTO:-0600
TZNAME:MDT
DTSTART:20250309T090000
END:DAYLIGHT
BEGIN:STANDARD
TZOFFSETFROM:-0600
TZOFFSETTO:-0700
TZNAME:MST
DTSTART:20251102T080000
END:STANDARD
BEGIN:DAYLIGHT
TZOFFSETFROM:-0700
TZOFFSETTO:-0600
TZNAME:MDT
DTSTART:20260308T090000
END:DAYLIGHT
BEGIN:STANDARD
TZOFFSETFROM:-0600
TZOFFSETTO:-0700
TZNAME:MST
DTSTART:20261101T080000
END:STANDARD
BEGIN:DAYLIGHT
TZOFFSETFROM:-0700
TZOFFSETTO:-0600
TZNAME:MDT
DTSTART:20270314T090000
END:DAYLIGHT
BEGIN:STANDARD
TZOFFSETFROM:-0600
TZOFFSETTO:-0700
TZNAME:MST
DTSTART:20271107T080000
END:STANDARD
END:VTIMEZONE
BEGIN:VEVENT
DTSTART;TZID=America/Denver:20260207T130000
DTEND;TZID=America/Denver:20260207T130000
DTSTAMP:20260423T155936
CREATED:20260115T201949Z
LAST-MODIFIED:20260115T201949Z
UID:10036095-1770469200-1770469200@bigfork.org
SUMMARY:Bingo at the Bigfork VFW
DESCRIPTION:Join us for Bingo every Saturday at the Bigfork VFW.
URL:https://bigfork.org/event/bingo-at-the-bigfork-vfw/2026-02-07/
LOCATION:VFW Post 4042 Bigfork\, 8098 Montana Highway 35\, Bigfork\, MT\, 59911\, United States
CATEGORIES:Community
GEO:48.0739296;-114.0802386
X-APPLE-STRUCTURED-LOCATION;VALUE=URI;X-ADDRESS=VFW Post 4042 Bigfork 8098 Montana Highway 35 Bigfork MT 59911 United States;X-APPLE-RADIUS=500;X-TITLE=8098 Montana Highway 35:geo:-114.0802386,48.0739296
END:VEVENT
BEGIN:VEVENT
DTSTART;TZID=America/Denver:20260205T173000
DTEND;TZID=America/Denver:20260205T173000
DTSTAMP:20260423T155936
CREATED:20251113T205714Z
LAST-MODIFIED:20251113T205714Z
UID:10013345-1770312600-1770312600@bigfork.org
SUMMARY:Bingo at VFW
DESCRIPTION:Join us at the Bigfork VFW for BINGO night every Thursday at 5:30pm.  Restaurant open until 9pm.
URL:https://bigfork.org/event/bingo-at-vfw-3-2-2/2026-02-05/
LOCATION:VFW Post 4042 Bigfork\, 8098 Montana Highway 35\, Bigfork\, MT\, 59911\, United States
CATEGORIES:Community
ATTACH;FMTTYPE=image/jpeg:https://bigfork.org/wp-content/uploads/2024/09/z-vfw-bingo.jpg
GEO:48.0739296;-114.0802386
X-APPLE-STRUCTURED-LOCATION;VALUE=URI;X-ADDRESS=VFW Post 4042 Bigfork 8098 Montana Highway 35 Bigfork MT 59911 United States;X-APPLE-RADIUS=500;X-TITLE=8098 Montana Highway 35:geo:-114.0802386,48.0739296
END:VEVENT
BEGIN:VEVENT
DTSTART;TZID=America/Denver:20260131T130000
DTEND;TZID=America/Denver:20260131T130000
DTSTAMP:20260423T155936
CREATED:20260115T201949Z
LAST-MODIFIED:20260115T201949Z
UID:10036094-1769864400-1769864400@bigfork.org
SUMMARY:Bingo at the Bigfork VFW
DESCRIPTION:Join us for Bingo every Saturday at the Bigfork VFW.
URL:https://bigfork.org/event/bingo-at-the-bigfork-vfw/2026-01-31/
LOCATION:VFW Post 4042 Bigfork\, 8098 Montana Highway 35\, Bigfork\, MT\, 59911\, United States
CATEGORIES:Community
GEO:48.0739296;-114.0802386
X-APPLE-STRUCTURED-LOCATION;VALUE=URI;X-ADDRESS=VFW Post 4042 Bigfork 8098 Montana Highway 35 Bigfork MT 59911 United States;X-APPLE-RADIUS=500;X-TITLE=8098 Montana Highway 35:geo:-114.0802386,48.0739296
END:VEVENT
BEGIN:VEVENT
DTSTART;TZID=America/Denver:20260129T173000
DTEND;TZID=America/Denver:20260129T173000
DTSTAMP:20260423T155936
CREATED:20251113T205714Z
LAST-MODIFIED:20251113T205714Z
UID:10013344-1769707800-1769707800@bigfork.org
SUMMARY:Bingo at VFW
DESCRIPTION:Join us at the Bigfork VFW for BINGO night every Thursday at 5:30pm.  Restaurant open until 9pm.
URL:https://bigfork.org/event/bingo-at-vfw-3-2-2/2026-01-29/
LOCATION:VFW Post 4042 Bigfork\, 8098 Montana Highway 35\, Bigfork\, MT\, 59911\, United States
CATEGORIES:Community
ATTACH;FMTTYPE=image/jpeg:https://bigfork.org/wp-content/uploads/2024/09/z-vfw-bingo.jpg
GEO:48.0739296;-114.0802386
X-APPLE-STRUCTURED-LOCATION;VALUE=URI;X-ADDRESS=VFW Post 4042 Bigfork 8098 Montana Highway 35 Bigfork MT 59911 United States;X-APPLE-RADIUS=500;X-TITLE=8098 Montana Highway 35:geo:-114.0802386,48.0739296
END:VEVENT
BEGIN:VEVENT
DTSTART;TZID=America/Denver:20260124T130000
DTEND;TZID=America/Denver:20260124T130000
DTSTAMP:20260423T155936
CREATED:20260115T201949Z
LAST-MODIFIED:20260115T201949Z
UID:10036093-1769259600-1769259600@bigfork.org
SUMMARY:Bingo at the Bigfork VFW
DESCRIPTION:Join us for Bingo every Saturday at the Bigfork VFW.
URL:https://bigfork.org/event/bingo-at-the-bigfork-vfw/2026-01-24/
LOCATION:VFW Post 4042 Bigfork\, 8098 Montana Highway 35\, Bigfork\, MT\, 59911\, United States
CATEGORIES:Community
GEO:48.0739296;-114.0802386
X-APPLE-STRUCTURED-LOCATION;VALUE=URI;X-ADDRESS=VFW Post 4042 Bigfork 8098 Montana Highway 35 Bigfork MT 59911 United States;X-APPLE-RADIUS=500;X-TITLE=8098 Montana Highway 35:geo:-114.0802386,48.0739296
END:VEVENT
BEGIN:VEVENT
DTSTART;TZID=America/Denver:20260122T173000
DTEND;TZID=America/Denver:20260122T173000
DTSTAMP:20260423T155936
CREATED:20251113T205714Z
LAST-MODIFIED:20251113T205714Z
UID:10013343-1769103000-1769103000@bigfork.org
SUMMARY:Bingo at VFW
DESCRIPTION:Join us at the Bigfork VFW for BINGO night every Thursday at 5:30pm.  Restaurant open until 9pm.
URL:https://bigfork.org/event/bingo-at-vfw-3-2-2/2026-01-22/
LOCATION:VFW Post 4042 Bigfork\, 8098 Montana Highway 35\, Bigfork\, MT\, 59911\, United States
CATEGORIES:Community
ATTACH;FMTTYPE=image/jpeg:https://bigfork.org/wp-content/uploads/2024/09/z-vfw-bingo.jpg
GEO:48.0739296;-114.0802386
X-APPLE-STRUCTURED-LOCATION;VALUE=URI;X-ADDRESS=VFW Post 4042 Bigfork 8098 Montana Highway 35 Bigfork MT 59911 United States;X-APPLE-RADIUS=500;X-TITLE=8098 Montana Highway 35:geo:-114.0802386,48.0739296
END:VEVENT
BEGIN:VEVENT
DTSTART;TZID=America/Denver:20260117T130000
DTEND;TZID=America/Denver:20260117T130000
DTSTAMP:20260423T155936
CREATED:20260115T201949Z
LAST-MODIFIED:20260115T201949Z
UID:10036092-1768654800-1768654800@bigfork.org
SUMMARY:Bingo at the Bigfork VFW
DESCRIPTION:Join us for Bingo every Saturday at the Bigfork VFW.
URL:https://bigfork.org/event/bingo-at-the-bigfork-vfw/2026-01-17/
LOCATION:VFW Post 4042 Bigfork\, 8098 Montana Highway 35\, Bigfork\, MT\, 59911\, United States
CATEGORIES:Community
GEO:48.0739296;-114.0802386
X-APPLE-STRUCTURED-LOCATION;VALUE=URI;X-ADDRESS=VFW Post 4042 Bigfork 8098 Montana Highway 35 Bigfork MT 59911 United States;X-APPLE-RADIUS=500;X-TITLE=8098 Montana Highway 35:geo:-114.0802386,48.0739296
END:VEVENT
BEGIN:VEVENT
DTSTART;TZID=America/Denver:20260115T173000
DTEND;TZID=America/Denver:20260115T173000
DTSTAMP:20260423T155936
CREATED:20251113T205714Z
LAST-MODIFIED:20251113T205714Z
UID:10013342-1768498200-1768498200@bigfork.org
SUMMARY:Bingo at VFW
DESCRIPTION:Join us at the Bigfork VFW for BINGO night every Thursday at 5:30pm.  Restaurant open until 9pm.
URL:https://bigfork.org/event/bingo-at-vfw-3-2-2/2026-01-15/
LOCATION:VFW Post 4042 Bigfork\, 8098 Montana Highway 35\, Bigfork\, MT\, 59911\, United States
CATEGORIES:Community
ATTACH;FMTTYPE=image/jpeg:https://bigfork.org/wp-content/uploads/2024/09/z-vfw-bingo.jpg
GEO:48.0739296;-114.0802386
X-APPLE-STRUCTURED-LOCATION;VALUE=URI;X-ADDRESS=VFW Post 4042 Bigfork 8098 Montana Highway 35 Bigfork MT 59911 United States;X-APPLE-RADIUS=500;X-TITLE=8098 Montana Highway 35:geo:-114.0802386,48.0739296
END:VEVENT
BEGIN:VEVENT
DTSTART;TZID=America/Denver:20260108T173000
DTEND;TZID=America/Denver:20260108T173000
DTSTAMP:20260423T155936
CREATED:20251113T205714Z
LAST-MODIFIED:20251113T205714Z
UID:10013341-1767893400-1767893400@bigfork.org
SUMMARY:Bingo at VFW
DESCRIPTION:Join us at the Bigfork VFW for BINGO night every Thursday at 5:30pm.  Restaurant open until 9pm.
URL:https://bigfork.org/event/bingo-at-vfw-3-2-2/2026-01-08/
LOCATION:VFW Post 4042 Bigfork\, 8098 Montana Highway 35\, Bigfork\, MT\, 59911\, United States
CATEGORIES:Community
ATTACH;FMTTYPE=image/jpeg:https://bigfork.org/wp-content/uploads/2024/09/z-vfw-bingo.jpg
GEO:48.0739296;-114.0802386
X-APPLE-STRUCTURED-LOCATION;VALUE=URI;X-ADDRESS=VFW Post 4042 Bigfork 8098 Montana Highway 35 Bigfork MT 59911 United States;X-APPLE-RADIUS=500;X-TITLE=8098 Montana Highway 35:geo:-114.0802386,48.0739296
END:VEVENT
BEGIN:VEVENT
DTSTART;TZID=America/Denver:20260101T173000
DTEND;TZID=America/Denver:20260101T173000
DTSTAMP:20260423T155936
CREATED:20251113T205714Z
LAST-MODIFIED:20251113T205714Z
UID:10013340-1767288600-1767288600@bigfork.org
SUMMARY:Bingo at VFW
DESCRIPTION:Join us at the Bigfork VFW for BINGO night every Thursday at 5:30pm.  Restaurant open until 9pm.
URL:https://bigfork.org/event/bingo-at-vfw-3-2-2/2026-01-01/
LOCATION:VFW Post 4042 Bigfork\, 8098 Montana Highway 35\, Bigfork\, MT\, 59911\, United States
CATEGORIES:Community
ATTACH;FMTTYPE=image/jpeg:https://bigfork.org/wp-content/uploads/2024/09/z-vfw-bingo.jpg
GEO:48.0739296;-114.0802386
X-APPLE-STRUCTURED-LOCATION;VALUE=URI;X-ADDRESS=VFW Post 4042 Bigfork 8098 Montana Highway 35 Bigfork MT 59911 United States;X-APPLE-RADIUS=500;X-TITLE=8098 Montana Highway 35:geo:-114.0802386,48.0739296
END:VEVENT
BEGIN:VEVENT
DTSTART;TZID=America/Denver:20251225T173000
DTEND;TZID=America/Denver:20251225T173000
DTSTAMP:20260423T155936
CREATED:20251113T205714Z
LAST-MODIFIED:20251113T205714Z
UID:10013339-1766683800-1766683800@bigfork.org
SUMMARY:Bingo at VFW
DESCRIPTION:Join us at the Bigfork VFW for BINGO night every Thursday at 5:30pm.  Restaurant open until 9pm.
URL:https://bigfork.org/event/bingo-at-vfw-3-2-2/2025-12-25/
LOCATION:VFW Post 4042 Bigfork\, 8098 Montana Highway 35\, Bigfork\, MT\, 59911\, United States
CATEGORIES:Community
ATTACH;FMTTYPE=image/jpeg:https://bigfork.org/wp-content/uploads/2024/09/z-vfw-bingo.jpg
GEO:48.0739296;-114.0802386
X-APPLE-STRUCTURED-LOCATION;VALUE=URI;X-ADDRESS=VFW Post 4042 Bigfork 8098 Montana Highway 35 Bigfork MT 59911 United States;X-APPLE-RADIUS=500;X-TITLE=8098 Montana Highway 35:geo:-114.0802386,48.0739296
END:VEVENT
BEGIN:VEVENT
DTSTART;TZID=America/Denver:20251218T173000
DTEND;TZID=America/Denver:20251218T173000
DTSTAMP:20260423T155936
CREATED:20251113T205714Z
LAST-MODIFIED:20251113T205714Z
UID:10013338-1766079000-1766079000@bigfork.org
SUMMARY:Bingo at VFW
DESCRIPTION:Join us at the Bigfork VFW for BINGO night every Thursday at 5:30pm.  Restaurant open until 9pm.
URL:https://bigfork.org/event/bingo-at-vfw-3-2-2/2025-12-18/
LOCATION:VFW Post 4042 Bigfork\, 8098 Montana Highway 35\, Bigfork\, MT\, 59911\, United States
CATEGORIES:Community
ATTACH;FMTTYPE=image/jpeg:https://bigfork.org/wp-content/uploads/2024/09/z-vfw-bingo.jpg
GEO:48.0739296;-114.0802386
X-APPLE-STRUCTURED-LOCATION;VALUE=URI;X-ADDRESS=VFW Post 4042 Bigfork 8098 Montana Highway 35 Bigfork MT 59911 United States;X-APPLE-RADIUS=500;X-TITLE=8098 Montana Highway 35:geo:-114.0802386,48.0739296
END:VEVENT
BEGIN:VEVENT
DTSTART;TZID=America/Denver:20251211T173000
DTEND;TZID=America/Denver:20251211T173000
DTSTAMP:20260423T155936
CREATED:20251113T205714Z
LAST-MODIFIED:20251113T205714Z
UID:10013337-1765474200-1765474200@bigfork.org
SUMMARY:Bingo at VFW
DESCRIPTION:Join us at the Bigfork VFW for BINGO night every Thursday at 5:30pm.  Restaurant open until 9pm.
URL:https://bigfork.org/event/bingo-at-vfw-3-2-2/2025-12-11/
LOCATION:VFW Post 4042 Bigfork\, 8098 Montana Highway 35\, Bigfork\, MT\, 59911\, United States
CATEGORIES:Community
ATTACH;FMTTYPE=image/jpeg:https://bigfork.org/wp-content/uploads/2024/09/z-vfw-bingo.jpg
GEO:48.0739296;-114.0802386
X-APPLE-STRUCTURED-LOCATION;VALUE=URI;X-ADDRESS=VFW Post 4042 Bigfork 8098 Montana Highway 35 Bigfork MT 59911 United States;X-APPLE-RADIUS=500;X-TITLE=8098 Montana Highway 35:geo:-114.0802386,48.0739296
END:VEVENT
BEGIN:VEVENT
DTSTART;TZID=America/Denver:20251204T173000
DTEND;TZID=America/Denver:20251204T173000
DTSTAMP:20260423T155936
CREATED:20251113T205714Z
LAST-MODIFIED:20251113T205714Z
UID:10013336-1764869400-1764869400@bigfork.org
SUMMARY:Bingo at VFW
DESCRIPTION:Join us at the Bigfork VFW for BINGO night every Thursday at 5:30pm.  Restaurant open until 9pm.
URL:https://bigfork.org/event/bingo-at-vfw-3-2-2/2025-12-04/
LOCATION:VFW Post 4042 Bigfork\, 8098 Montana Highway 35\, Bigfork\, MT\, 59911\, United States
CATEGORIES:Community
ATTACH;FMTTYPE=image/jpeg:https://bigfork.org/wp-content/uploads/2024/09/z-vfw-bingo.jpg
GEO:48.0739296;-114.0802386
X-APPLE-STRUCTURED-LOCATION;VALUE=URI;X-ADDRESS=VFW Post 4042 Bigfork 8098 Montana Highway 35 Bigfork MT 59911 United States;X-APPLE-RADIUS=500;X-TITLE=8098 Montana Highway 35:geo:-114.0802386,48.0739296
END:VEVENT
BEGIN:VEVENT
DTSTART;TZID=America/Denver:20251120T173000
DTEND;TZID=America/Denver:20251120T173000
DTSTAMP:20260423T155936
CREATED:20251113T205714Z
LAST-MODIFIED:20251113T205714Z
UID:10013335-1763659800-1763659800@bigfork.org
SUMMARY:Bingo at VFW
DESCRIPTION:Join us at the Bigfork VFW for BINGO night every Thursday at 5:30pm.  Restaurant open until 9pm.
URL:https://bigfork.org/event/bingo-at-vfw-3-2-2/2025-11-20/
LOCATION:VFW Post 4042 Bigfork\, 8098 Montana Highway 35\, Bigfork\, MT\, 59911\, United States
CATEGORIES:Community
ATTACH;FMTTYPE=image/jpeg:https://bigfork.org/wp-content/uploads/2024/09/z-vfw-bingo.jpg
GEO:48.0739296;-114.0802386
X-APPLE-STRUCTURED-LOCATION;VALUE=URI;X-ADDRESS=VFW Post 4042 Bigfork 8098 Montana Highway 35 Bigfork MT 59911 United States;X-APPLE-RADIUS=500;X-TITLE=8098 Montana Highway 35:geo:-114.0802386,48.0739296
END:VEVENT
BEGIN:VEVENT
DTSTART;TZID=America/Denver:20251120T173000
DTEND;TZID=America/Denver:20251120T173000
DTSTAMP:20260423T155936
CREATED:20240926T170340Z
LAST-MODIFIED:20240926T180053Z
UID:10013334-1763659800-1763659800@bigfork.org
SUMMARY:Bingo at VFW
DESCRIPTION:Join us at the Bigfork VFW for BINGO night every Thursday at 5:30pm.  Restaurant open until 9pm.
URL:https://bigfork.org/event/bingo-at-vfw-3-2/2025-11-20/
LOCATION:VFW Post 4042 Bigfork\, 8098 Montana Highway 35\, Bigfork\, MT\, 59911\, United States
CATEGORIES:Community
ATTACH;FMTTYPE=image/jpeg:https://bigfork.org/wp-content/uploads/2024/09/z-vfw-bingo.jpg
GEO:48.0739296;-114.0802386
X-APPLE-STRUCTURED-LOCATION;VALUE=URI;X-ADDRESS=VFW Post 4042 Bigfork 8098 Montana Highway 35 Bigfork MT 59911 United States;X-APPLE-RADIUS=500;X-TITLE=8098 Montana Highway 35:geo:-114.0802386,48.0739296
END:VEVENT
BEGIN:VEVENT
DTSTART;TZID=America/Denver:20251113T173000
DTEND;TZID=America/Denver:20251113T173000
DTSTAMP:20260423T155936
CREATED:20240926T170340Z
LAST-MODIFIED:20240926T180053Z
UID:10013333-1763055000-1763055000@bigfork.org
SUMMARY:Bingo at VFW
DESCRIPTION:Join us at the Bigfork VFW for BINGO night every Thursday at 5:30pm.  Restaurant open until 9pm.
URL:https://bigfork.org/event/bingo-at-vfw-3-2/2025-11-13/
LOCATION:VFW Post 4042 Bigfork\, 8098 Montana Highway 35\, Bigfork\, MT\, 59911\, United States
CATEGORIES:Community
ATTACH;FMTTYPE=image/jpeg:https://bigfork.org/wp-content/uploads/2024/09/z-vfw-bingo.jpg
GEO:48.0739296;-114.0802386
X-APPLE-STRUCTURED-LOCATION;VALUE=URI;X-ADDRESS=VFW Post 4042 Bigfork 8098 Montana Highway 35 Bigfork MT 59911 United States;X-APPLE-RADIUS=500;X-TITLE=8098 Montana Highway 35:geo:-114.0802386,48.0739296
END:VEVENT
BEGIN:VEVENT
DTSTART;TZID=America/Denver:20251106T173000
DTEND;TZID=America/Denver:20251106T173000
DTSTAMP:20260423T155936
CREATED:20240926T170340Z
LAST-MODIFIED:20240926T180053Z
UID:10013332-1762450200-1762450200@bigfork.org
SUMMARY:Bingo at VFW
DESCRIPTION:Join us at the Bigfork VFW for BINGO night every Thursday at 5:30pm.  Restaurant open until 9pm.
URL:https://bigfork.org/event/bingo-at-vfw-3-2/2025-11-06/
LOCATION:VFW Post 4042 Bigfork\, 8098 Montana Highway 35\, Bigfork\, MT\, 59911\, United States
CATEGORIES:Community
ATTACH;FMTTYPE=image/jpeg:https://bigfork.org/wp-content/uploads/2024/09/z-vfw-bingo.jpg
GEO:48.0739296;-114.0802386
X-APPLE-STRUCTURED-LOCATION;VALUE=URI;X-ADDRESS=VFW Post 4042 Bigfork 8098 Montana Highway 35 Bigfork MT 59911 United States;X-APPLE-RADIUS=500;X-TITLE=8098 Montana Highway 35:geo:-114.0802386,48.0739296
END:VEVENT
BEGIN:VEVENT
DTSTART;TZID=America/Denver:20251030T173000
DTEND;TZID=America/Denver:20251030T173000
DTSTAMP:20260423T155936
CREATED:20240926T170340Z
LAST-MODIFIED:20240926T180053Z
UID:10013331-1761845400-1761845400@bigfork.org
SUMMARY:Bingo at VFW
DESCRIPTION:Join us at the Bigfork VFW for BINGO night every Thursday at 5:30pm.  Restaurant open until 9pm.
URL:https://bigfork.org/event/bingo-at-vfw-3-2/2025-10-30/
LOCATION:VFW Post 4042 Bigfork\, 8098 Montana Highway 35\, Bigfork\, MT\, 59911\, United States
CATEGORIES:Community
ATTACH;FMTTYPE=image/jpeg:https://bigfork.org/wp-content/uploads/2024/09/z-vfw-bingo.jpg
GEO:48.0739296;-114.0802386
X-APPLE-STRUCTURED-LOCATION;VALUE=URI;X-ADDRESS=VFW Post 4042 Bigfork 8098 Montana Highway 35 Bigfork MT 59911 United States;X-APPLE-RADIUS=500;X-TITLE=8098 Montana Highway 35:geo:-114.0802386,48.0739296
END:VEVENT
BEGIN:VEVENT
DTSTART;TZID=America/Denver:20251023T173000
DTEND;TZID=America/Denver:20251023T173000
DTSTAMP:20260423T155936
CREATED:20240926T170340Z
LAST-MODIFIED:20240926T180053Z
UID:10013330-1761240600-1761240600@bigfork.org
SUMMARY:Bingo at VFW
DESCRIPTION:Join us at the Bigfork VFW for BINGO night every Thursday at 5:30pm.  Restaurant open until 9pm.
URL:https://bigfork.org/event/bingo-at-vfw-3-2/2025-10-23/
LOCATION:VFW Post 4042 Bigfork\, 8098 Montana Highway 35\, Bigfork\, MT\, 59911\, United States
CATEGORIES:Community
ATTACH;FMTTYPE=image/jpeg:https://bigfork.org/wp-content/uploads/2024/09/z-vfw-bingo.jpg
GEO:48.0739296;-114.0802386
X-APPLE-STRUCTURED-LOCATION;VALUE=URI;X-ADDRESS=VFW Post 4042 Bigfork 8098 Montana Highway 35 Bigfork MT 59911 United States;X-APPLE-RADIUS=500;X-TITLE=8098 Montana Highway 35:geo:-114.0802386,48.0739296
END:VEVENT
BEGIN:VEVENT
DTSTART;TZID=America/Denver:20251016T173000
DTEND;TZID=America/Denver:20251016T173000
DTSTAMP:20260423T155936
CREATED:20240926T170340Z
LAST-MODIFIED:20240926T180053Z
UID:10013329-1760635800-1760635800@bigfork.org
SUMMARY:Bingo at VFW
DESCRIPTION:Join us at the Bigfork VFW for BINGO night every Thursday at 5:30pm.  Restaurant open until 9pm.
URL:https://bigfork.org/event/bingo-at-vfw-3-2/2025-10-16/
LOCATION:VFW Post 4042 Bigfork\, 8098 Montana Highway 35\, Bigfork\, MT\, 59911\, United States
CATEGORIES:Community
ATTACH;FMTTYPE=image/jpeg:https://bigfork.org/wp-content/uploads/2024/09/z-vfw-bingo.jpg
GEO:48.0739296;-114.0802386
X-APPLE-STRUCTURED-LOCATION;VALUE=URI;X-ADDRESS=VFW Post 4042 Bigfork 8098 Montana Highway 35 Bigfork MT 59911 United States;X-APPLE-RADIUS=500;X-TITLE=8098 Montana Highway 35:geo:-114.0802386,48.0739296
END:VEVENT
BEGIN:VEVENT
DTSTART;TZID=America/Denver:20251009T173000
DTEND;TZID=America/Denver:20251009T173000
DTSTAMP:20260423T155936
CREATED:20240926T170340Z
LAST-MODIFIED:20240926T180053Z
UID:10013328-1760031000-1760031000@bigfork.org
SUMMARY:Bingo at VFW
DESCRIPTION:Join us at the Bigfork VFW for BINGO night every Thursday at 5:30pm.  Restaurant open until 9pm.
URL:https://bigfork.org/event/bingo-at-vfw-3-2/2025-10-09/
LOCATION:VFW Post 4042 Bigfork\, 8098 Montana Highway 35\, Bigfork\, MT\, 59911\, United States
CATEGORIES:Community
ATTACH;FMTTYPE=image/jpeg:https://bigfork.org/wp-content/uploads/2024/09/z-vfw-bingo.jpg
GEO:48.0739296;-114.0802386
X-APPLE-STRUCTURED-LOCATION;VALUE=URI;X-ADDRESS=VFW Post 4042 Bigfork 8098 Montana Highway 35 Bigfork MT 59911 United States;X-APPLE-RADIUS=500;X-TITLE=8098 Montana Highway 35:geo:-114.0802386,48.0739296
END:VEVENT
BEGIN:VEVENT
DTSTART;TZID=America/Denver:20251002T173000
DTEND;TZID=America/Denver:20251002T173000
DTSTAMP:20260423T155936
CREATED:20240926T170340Z
LAST-MODIFIED:20240926T180053Z
UID:10013327-1759426200-1759426200@bigfork.org
SUMMARY:Bingo at VFW
DESCRIPTION:Join us at the Bigfork VFW for BINGO night every Thursday at 5:30pm.  Restaurant open until 9pm.
URL:https://bigfork.org/event/bingo-at-vfw-3-2/2025-10-02/
LOCATION:VFW Post 4042 Bigfork\, 8098 Montana Highway 35\, Bigfork\, MT\, 59911\, United States
CATEGORIES:Community
ATTACH;FMTTYPE=image/jpeg:https://bigfork.org/wp-content/uploads/2024/09/z-vfw-bingo.jpg
GEO:48.0739296;-114.0802386
X-APPLE-STRUCTURED-LOCATION;VALUE=URI;X-ADDRESS=VFW Post 4042 Bigfork 8098 Montana Highway 35 Bigfork MT 59911 United States;X-APPLE-RADIUS=500;X-TITLE=8098 Montana Highway 35:geo:-114.0802386,48.0739296
END:VEVENT
BEGIN:VEVENT
DTSTART;TZID=America/Denver:20250925T173000
DTEND;TZID=America/Denver:20250925T173000
DTSTAMP:20260423T155936
CREATED:20240926T170340Z
LAST-MODIFIED:20240926T180053Z
UID:10013326-1758821400-1758821400@bigfork.org
SUMMARY:Bingo at VFW
DESCRIPTION:Join us at the Bigfork VFW for BINGO night every Thursday at 5:30pm.  Restaurant open until 9pm.
URL:https://bigfork.org/event/bingo-at-vfw-3-2/2025-09-25/
LOCATION:VFW Post 4042 Bigfork\, 8098 Montana Highway 35\, Bigfork\, MT\, 59911\, United States
CATEGORIES:Community
ATTACH;FMTTYPE=image/jpeg:https://bigfork.org/wp-content/uploads/2024/09/z-vfw-bingo.jpg
GEO:48.0739296;-114.0802386
X-APPLE-STRUCTURED-LOCATION;VALUE=URI;X-ADDRESS=VFW Post 4042 Bigfork 8098 Montana Highway 35 Bigfork MT 59911 United States;X-APPLE-RADIUS=500;X-TITLE=8098 Montana Highway 35:geo:-114.0802386,48.0739296
END:VEVENT
BEGIN:VEVENT
DTSTART;TZID=America/Denver:20250918T173000
DTEND;TZID=America/Denver:20250918T173000
DTSTAMP:20260423T155936
CREATED:20240926T170340Z
LAST-MODIFIED:20240926T180053Z
UID:10013325-1758216600-1758216600@bigfork.org
SUMMARY:Bingo at VFW
DESCRIPTION:Join us at the Bigfork VFW for BINGO night every Thursday at 5:30pm.  Restaurant open until 9pm.
URL:https://bigfork.org/event/bingo-at-vfw-3-2/2025-09-18/
LOCATION:VFW Post 4042 Bigfork\, 8098 Montana Highway 35\, Bigfork\, MT\, 59911\, United States
CATEGORIES:Community
ATTACH;FMTTYPE=image/jpeg:https://bigfork.org/wp-content/uploads/2024/09/z-vfw-bingo.jpg
GEO:48.0739296;-114.0802386
X-APPLE-STRUCTURED-LOCATION;VALUE=URI;X-ADDRESS=VFW Post 4042 Bigfork 8098 Montana Highway 35 Bigfork MT 59911 United States;X-APPLE-RADIUS=500;X-TITLE=8098 Montana Highway 35:geo:-114.0802386,48.0739296
END:VEVENT
BEGIN:VEVENT
DTSTART;TZID=America/Denver:20250911T173000
DTEND;TZID=America/Denver:20250911T173000
DTSTAMP:20260423T155936
CREATED:20240926T170340Z
LAST-MODIFIED:20240926T180053Z
UID:10013324-1757611800-1757611800@bigfork.org
SUMMARY:Bingo at VFW
DESCRIPTION:Join us at the Bigfork VFW for BINGO night every Thursday at 5:30pm.  Restaurant open until 9pm.
URL:https://bigfork.org/event/bingo-at-vfw-3-2/2025-09-11/
LOCATION:VFW Post 4042 Bigfork\, 8098 Montana Highway 35\, Bigfork\, MT\, 59911\, United States
CATEGORIES:Community
ATTACH;FMTTYPE=image/jpeg:https://bigfork.org/wp-content/uploads/2024/09/z-vfw-bingo.jpg
GEO:48.0739296;-114.0802386
X-APPLE-STRUCTURED-LOCATION;VALUE=URI;X-ADDRESS=VFW Post 4042 Bigfork 8098 Montana Highway 35 Bigfork MT 59911 United States;X-APPLE-RADIUS=500;X-TITLE=8098 Montana Highway 35:geo:-114.0802386,48.0739296
END:VEVENT
BEGIN:VEVENT
DTSTART;TZID=America/Denver:20250904T173000
DTEND;TZID=America/Denver:20250904T173000
DTSTAMP:20260423T155936
CREATED:20240926T170340Z
LAST-MODIFIED:20240926T180053Z
UID:10013323-1757007000-1757007000@bigfork.org
SUMMARY:Bingo at VFW
DESCRIPTION:Join us at the Bigfork VFW for BINGO night every Thursday at 5:30pm.  Restaurant open until 9pm.
URL:https://bigfork.org/event/bingo-at-vfw-3-2/2025-09-04/
LOCATION:VFW Post 4042 Bigfork\, 8098 Montana Highway 35\, Bigfork\, MT\, 59911\, United States
CATEGORIES:Community
ATTACH;FMTTYPE=image/jpeg:https://bigfork.org/wp-content/uploads/2024/09/z-vfw-bingo.jpg
GEO:48.0739296;-114.0802386
X-APPLE-STRUCTURED-LOCATION;VALUE=URI;X-ADDRESS=VFW Post 4042 Bigfork 8098 Montana Highway 35 Bigfork MT 59911 United States;X-APPLE-RADIUS=500;X-TITLE=8098 Montana Highway 35:geo:-114.0802386,48.0739296
END:VEVENT
BEGIN:VEVENT
DTSTART;TZID=America/Denver:20250828T173000
DTEND;TZID=America/Denver:20250828T173000
DTSTAMP:20260423T155936
CREATED:20240926T170340Z
LAST-MODIFIED:20240926T180053Z
UID:10013322-1756402200-1756402200@bigfork.org
SUMMARY:Bingo at VFW
DESCRIPTION:Join us at the Bigfork VFW for BINGO night every Thursday at 5:30pm.  Restaurant open until 9pm.
URL:https://bigfork.org/event/bingo-at-vfw-3-2/2025-08-28/
LOCATION:VFW Post 4042 Bigfork\, 8098 Montana Highway 35\, Bigfork\, MT\, 59911\, United States
CATEGORIES:Community
ATTACH;FMTTYPE=image/jpeg:https://bigfork.org/wp-content/uploads/2024/09/z-vfw-bingo.jpg
GEO:48.0739296;-114.0802386
X-APPLE-STRUCTURED-LOCATION;VALUE=URI;X-ADDRESS=VFW Post 4042 Bigfork 8098 Montana Highway 35 Bigfork MT 59911 United States;X-APPLE-RADIUS=500;X-TITLE=8098 Montana Highway 35:geo:-114.0802386,48.0739296
END:VEVENT
BEGIN:VEVENT
DTSTART;TZID=America/Denver:20250821T173000
DTEND;TZID=America/Denver:20250821T173000
DTSTAMP:20260423T155936
CREATED:20240926T170340Z
LAST-MODIFIED:20240926T180053Z
UID:10013321-1755797400-1755797400@bigfork.org
SUMMARY:Bingo at VFW
DESCRIPTION:Join us at the Bigfork VFW for BINGO night every Thursday at 5:30pm.  Restaurant open until 9pm.
URL:https://bigfork.org/event/bingo-at-vfw-3-2/2025-08-21/
LOCATION:VFW Post 4042 Bigfork\, 8098 Montana Highway 35\, Bigfork\, MT\, 59911\, United States
CATEGORIES:Community
ATTACH;FMTTYPE=image/jpeg:https://bigfork.org/wp-content/uploads/2024/09/z-vfw-bingo.jpg
GEO:48.0739296;-114.0802386
X-APPLE-STRUCTURED-LOCATION;VALUE=URI;X-ADDRESS=VFW Post 4042 Bigfork 8098 Montana Highway 35 Bigfork MT 59911 United States;X-APPLE-RADIUS=500;X-TITLE=8098 Montana Highway 35:geo:-114.0802386,48.0739296
END:VEVENT
BEGIN:VEVENT
DTSTART;TZID=America/Denver:20250814T173000
DTEND;TZID=America/Denver:20250814T173000
DTSTAMP:20260423T155936
CREATED:20240926T170340Z
LAST-MODIFIED:20240926T180053Z
UID:10013320-1755192600-1755192600@bigfork.org
SUMMARY:Bingo at VFW
DESCRIPTION:Join us at the Bigfork VFW for BINGO night every Thursday at 5:30pm.  Restaurant open until 9pm.
URL:https://bigfork.org/event/bingo-at-vfw-3-2/2025-08-14/
LOCATION:VFW Post 4042 Bigfork\, 8098 Montana Highway 35\, Bigfork\, MT\, 59911\, United States
CATEGORIES:Community
ATTACH;FMTTYPE=image/jpeg:https://bigfork.org/wp-content/uploads/2024/09/z-vfw-bingo.jpg
GEO:48.0739296;-114.0802386
X-APPLE-STRUCTURED-LOCATION;VALUE=URI;X-ADDRESS=VFW Post 4042 Bigfork 8098 Montana Highway 35 Bigfork MT 59911 United States;X-APPLE-RADIUS=500;X-TITLE=8098 Montana Highway 35:geo:-114.0802386,48.0739296
END:VEVENT
END:VCALENDAR