BEGIN:VCALENDAR
VERSION:2.0
PRODID:-//Bigfork | Small Village - Big Adventure - ECPv6.15.20//NONSGML v1.0//EN
CALSCALE:GREGORIAN
METHOD:PUBLISH
X-ORIGINAL-URL:https://bigfork.org
X-WR-CALDESC:Events for Bigfork | Small Village - Big Adventure
REFRESH-INTERVAL;VALUE=DURATION:PT1H
X-Robots-Tag:noindex
X-PUBLISHED-TTL:PT1H
BEGIN:VTIMEZONE
TZID:America/Denver
BEGIN:DAYLIGHT
TZOFFSETFROM:-0700
TZOFFSETTO:-0600
TZNAME:MDT
DTSTART:20220313T090000
END:DAYLIGHT
BEGIN:STANDARD
TZOFFSETFROM:-0600
TZOFFSETTO:-0700
TZNAME:MST
DTSTART:20221106T080000
END:STANDARD
BEGIN:DAYLIGHT
TZOFFSETFROM:-0700
TZOFFSETTO:-0600
TZNAME:MDT
DTSTART:20230312T090000
END:DAYLIGHT
BEGIN:STANDARD
TZOFFSETFROM:-0600
TZOFFSETTO:-0700
TZNAME:MST
DTSTART:20231105T080000
END:STANDARD
BEGIN:DAYLIGHT
TZOFFSETFROM:-0700
TZOFFSETTO:-0600
TZNAME:MDT
DTSTART:20240310T090000
END:DAYLIGHT
BEGIN:STANDARD
TZOFFSETFROM:-0600
TZOFFSETTO:-0700
TZNAME:MST
DTSTART:20241103T080000
END:STANDARD
END:VTIMEZONE
BEGIN:VEVENT
DTSTART;TZID=America/Denver:20230309T170000
DTEND;TZID=America/Denver:20230309T183000
DTSTAMP:20260425T093958
CREATED:20221117T174233Z
LAST-MODIFIED:20221117T174843Z
UID:10009901-1678381200-1678386600@bigfork.org
SUMMARY:Sundowner at TCB Design & Cross Ctry Mtg
DESCRIPTION:Join us for our monthly networking event at TCB DESIGN co-hosting with CROSS COUNTRY MORTGAGE  from 5 pm to 6:30 pm. \nPlan to attend and network with business professionals in the community and hear about upcoming events.  Don’t forget to bring a few dollars for raffle tickets for you chance to win great prizes! The Public is welcome and there is no cost to attend! \n\nSundowners are always held the 2nd Thursday of the month at 5 pm. Location varies.
URL:https://bigfork.org/event/sundowner-at-tcb-design-cross-ctry-mtg/
LOCATION:TCB Design\, 253 MT Highway 83\, Bigfork\, MT\, 59911\, United States
CATEGORIES:Business,Community,Special Events
GEO:47.8251185;-113.82992
X-APPLE-STRUCTURED-LOCATION;VALUE=URI;X-ADDRESS=TCB Design 253 MT Highway 83 Bigfork MT 59911 United States;X-APPLE-RADIUS=500;X-TITLE=253 MT Highway 83:geo:-113.82992,47.8251185
END:VEVENT
END:VCALENDAR