BEGIN:VCALENDAR
VERSION:2.0
PRODID:-//Bigfork | Small Village - Big Adventure - ECPv6.15.20//NONSGML v1.0//EN
CALSCALE:GREGORIAN
METHOD:PUBLISH
X-WR-CALNAME:Bigfork | Small Village - Big Adventure
X-ORIGINAL-URL:https://bigfork.org
X-WR-CALDESC:Events for Bigfork | Small Village - Big Adventure
REFRESH-INTERVAL;VALUE=DURATION:PT1H
X-Robots-Tag:noindex
X-PUBLISHED-TTL:PT1H
BEGIN:VTIMEZONE
TZID:America/Denver
BEGIN:DAYLIGHT
TZOFFSETFROM:-0700
TZOFFSETTO:-0600
TZNAME:MDT
DTSTART:20250309T090000
END:DAYLIGHT
BEGIN:STANDARD
TZOFFSETFROM:-0600
TZOFFSETTO:-0700
TZNAME:MST
DTSTART:20251102T080000
END:STANDARD
BEGIN:DAYLIGHT
TZOFFSETFROM:-0700
TZOFFSETTO:-0600
TZNAME:MDT
DTSTART:20260308T090000
END:DAYLIGHT
BEGIN:STANDARD
TZOFFSETFROM:-0600
TZOFFSETTO:-0700
TZNAME:MST
DTSTART:20261101T080000
END:STANDARD
BEGIN:DAYLIGHT
TZOFFSETFROM:-0700
TZOFFSETTO:-0600
TZNAME:MDT
DTSTART:20270314T090000
END:DAYLIGHT
BEGIN:STANDARD
TZOFFSETFROM:-0600
TZOFFSETTO:-0700
TZNAME:MST
DTSTART:20271107T080000
END:STANDARD
END:VTIMEZONE
BEGIN:VEVENT
DTSTART;TZID=America/Denver:20260422T093000
DTEND;TZID=America/Denver:20260422T133000
DTSTAMP:20260420T065930
CREATED:20260407T174912Z
LAST-MODIFIED:20260407T200304Z
UID:10036516-1776850200-1776864600@bigfork.org
SUMMARY:Public Lands Clean Up Day in Condon
DESCRIPTION:Join us this Earth Day for a special Public Lands Cleanup Day! \n\n\nMeet at the SVC office at 9:30 am.  \n\n\nFrom there\, we’ll disperse in groups to clean public lands\, focusing on common dumping sites\, around gated roads\, and other dispersed recreation sites \n\n\nReturn to SVC office at 1:30pm to drop off garbage and for a complimentary lunch! \n\n\nplease RSVP below so we can plan lunch accordingly! \n\n\n\n\nGarbage bags and work gloves provided.  \n\n\nPrizes for the most unique garbage items found!  \n\n\n\n\n\n\n\n\nRSVP\n\n\n\n\n\n\nThe Swan Watershed is comprised of over 93% public land. It’s a gift to be able to live\, work\, and play on this landscape\, and it’s up to all of us to steward it.
URL:https://bigfork.org/event/public-lands-clean-up-day-in-condon/
LOCATION:Swan Valley Connections\, 6787 MT Highway 83/Condon Work Center\, Bigfork\, 59826\, United States
CATEGORIES:Community
ATTACH;FMTTYPE=image/jpeg:https://bigfork.org/wp-content/uploads/2026/04/z-public-lands.jpg
GEO:47.5357907;-113.7190802
X-APPLE-STRUCTURED-LOCATION;VALUE=URI;X-ADDRESS=Swan Valley Connections 6787 MT Highway 83/Condon Work Center Bigfork 59826 United States;X-APPLE-RADIUS=500;X-TITLE=6787 MT Highway 83/Condon Work Center:geo:-113.7190802,47.5357907
END:VEVENT
END:VCALENDAR