BEGIN:VCALENDAR
VERSION:2.0
PRODID:-//Bigfork | Small Village - Big Adventure - ECPv6.15.20//NONSGML v1.0//EN
CALSCALE:GREGORIAN
METHOD:PUBLISH
X-ORIGINAL-URL:https://bigfork.org
X-WR-CALDESC:Events for Bigfork | Small Village - Big Adventure
REFRESH-INTERVAL;VALUE=DURATION:PT1H
X-Robots-Tag:noindex
X-PUBLISHED-TTL:PT1H
BEGIN:VTIMEZONE
TZID:America/Denver
BEGIN:DAYLIGHT
TZOFFSETFROM:-0700
TZOFFSETTO:-0600
TZNAME:MDT
DTSTART:20210314T090000
END:DAYLIGHT
BEGIN:STANDARD
TZOFFSETFROM:-0600
TZOFFSETTO:-0700
TZNAME:MST
DTSTART:20211107T080000
END:STANDARD
BEGIN:DAYLIGHT
TZOFFSETFROM:-0700
TZOFFSETTO:-0600
TZNAME:MDT
DTSTART:20220313T090000
END:DAYLIGHT
BEGIN:STANDARD
TZOFFSETFROM:-0600
TZOFFSETTO:-0700
TZNAME:MST
DTSTART:20221106T080000
END:STANDARD
BEGIN:DAYLIGHT
TZOFFSETFROM:-0700
TZOFFSETTO:-0600
TZNAME:MDT
DTSTART:20230312T090000
END:DAYLIGHT
BEGIN:STANDARD
TZOFFSETFROM:-0600
TZOFFSETTO:-0700
TZNAME:MST
DTSTART:20231105T080000
END:STANDARD
END:VTIMEZONE
BEGIN:VEVENT
DTSTART;TZID=America/Denver:20221030T100000
DTEND;TZID=America/Denver:20221030T100000
DTSTAMP:20260420T024350
CREATED:20221018T163158Z
LAST-MODIFIED:20221018T163158Z
UID:10009784-1667124000-1667124000@bigfork.org
SUMMARY:Glowga at Grizzly Lanes
DESCRIPTION:Ready for a spooky edition of Glowga at Grizzly Lanes? Wear your best Halloween costume for a chance to win gift cards and other prizes. Enjoy great mimosas and an hour of yoga with Yogi Dobie . Call 406-837-2233 to make a reservation for you and your frightful crew!
URL:https://bigfork.org/event/glowga-at-grizzly-lanes-2/
LOCATION:Grizzly Lanes\, 2849 MT Highway 82\, Bigfork\, Montana\, 59911
CATEGORIES:Community
GEO:48.0986394;-114.0975343
X-APPLE-STRUCTURED-LOCATION;VALUE=URI;X-ADDRESS=Grizzly Lanes 2849 MT Highway 82 Bigfork Montana 59911;X-APPLE-RADIUS=500;X-TITLE=2849 MT Highway 82:geo:-114.0975343,48.0986394
END:VEVENT
BEGIN:VEVENT
DTSTART;TZID=America/Denver:20221024T183000
DTEND;TZID=America/Denver:20221024T183000
DTSTAMP:20260420T024350
CREATED:20220913T163146Z
LAST-MODIFIED:20220913T163146Z
UID:10009707-1666636200-1666636200@bigfork.org
SUMMARY:Women & Wine at Grizzly Lanes
DESCRIPTION:Join us at Grizzly Lanes on Monday evenings for Women and Wine!  Includes 2 games of bowling for $15.00 \nContact Grizzly Lanes at 406-837-2233 for more info.
URL:https://bigfork.org/event/women-wine-at-grizzly-lanes/2022-10-24/
LOCATION:Grizzly Lanes\, 2849 MT Highway 82\, Bigfork\, Montana\, 59911
CATEGORIES:Community
GEO:48.0986394;-114.0975343
X-APPLE-STRUCTURED-LOCATION;VALUE=URI;X-ADDRESS=Grizzly Lanes 2849 MT Highway 82 Bigfork Montana 59911;X-APPLE-RADIUS=500;X-TITLE=2849 MT Highway 82:geo:-114.0975343,48.0986394
END:VEVENT
BEGIN:VEVENT
DTSTART;TZID=America/Denver:20221023T170000
DTEND;TZID=America/Denver:20221023T170000
DTSTAMP:20260420T024350
CREATED:20220913T163648Z
LAST-MODIFIED:20220913T163648Z
UID:10009715-1666544400-1666544400@bigfork.org
SUMMARY:Monte Carlo Night at Grizzly Lanes
DESCRIPTION: 
URL:https://bigfork.org/event/monte-carlo-night-at-grizzly-lanes/2022-10-23/
LOCATION:Grizzly Lanes\, 2849 MT Highway 82\, Bigfork\, Montana\, 59911
CATEGORIES:Community
GEO:48.0986394;-114.0975343
X-APPLE-STRUCTURED-LOCATION;VALUE=URI;X-ADDRESS=Grizzly Lanes 2849 MT Highway 82 Bigfork Montana 59911;X-APPLE-RADIUS=500;X-TITLE=2849 MT Highway 82:geo:-114.0975343,48.0986394
END:VEVENT
BEGIN:VEVENT
DTSTART;TZID=America/Denver:20221017T183000
DTEND;TZID=America/Denver:20221017T183000
DTSTAMP:20260420T024350
CREATED:20220913T163146Z
LAST-MODIFIED:20220913T163146Z
UID:10009706-1666031400-1666031400@bigfork.org
SUMMARY:Women & Wine at Grizzly Lanes
DESCRIPTION:Join us at Grizzly Lanes on Monday evenings for Women and Wine!  Includes 2 games of bowling for $15.00 \nContact Grizzly Lanes at 406-837-2233 for more info.
URL:https://bigfork.org/event/women-wine-at-grizzly-lanes/2022-10-17/
LOCATION:Grizzly Lanes\, 2849 MT Highway 82\, Bigfork\, Montana\, 59911
CATEGORIES:Community
GEO:48.0986394;-114.0975343
X-APPLE-STRUCTURED-LOCATION;VALUE=URI;X-ADDRESS=Grizzly Lanes 2849 MT Highway 82 Bigfork Montana 59911;X-APPLE-RADIUS=500;X-TITLE=2849 MT Highway 82:geo:-114.0975343,48.0986394
END:VEVENT
BEGIN:VEVENT
DTSTART;TZID=America/Denver:20221016T170000
DTEND;TZID=America/Denver:20221016T170000
DTSTAMP:20260420T024350
CREATED:20220913T163648Z
LAST-MODIFIED:20220913T163648Z
UID:10009714-1665939600-1665939600@bigfork.org
SUMMARY:Monte Carlo Night at Grizzly Lanes
DESCRIPTION: 
URL:https://bigfork.org/event/monte-carlo-night-at-grizzly-lanes/2022-10-16/
LOCATION:Grizzly Lanes\, 2849 MT Highway 82\, Bigfork\, Montana\, 59911
CATEGORIES:Community
GEO:48.0986394;-114.0975343
X-APPLE-STRUCTURED-LOCATION;VALUE=URI;X-ADDRESS=Grizzly Lanes 2849 MT Highway 82 Bigfork Montana 59911;X-APPLE-RADIUS=500;X-TITLE=2849 MT Highway 82:geo:-114.0975343,48.0986394
END:VEVENT
BEGIN:VEVENT
DTSTART;TZID=America/Denver:20221010T183000
DTEND;TZID=America/Denver:20221010T183000
DTSTAMP:20260420T024350
CREATED:20220913T163146Z
LAST-MODIFIED:20220913T163146Z
UID:10009705-1665426600-1665426600@bigfork.org
SUMMARY:Women & Wine at Grizzly Lanes
DESCRIPTION:Join us at Grizzly Lanes on Monday evenings for Women and Wine!  Includes 2 games of bowling for $15.00 \nContact Grizzly Lanes at 406-837-2233 for more info.
URL:https://bigfork.org/event/women-wine-at-grizzly-lanes/2022-10-10/
LOCATION:Grizzly Lanes\, 2849 MT Highway 82\, Bigfork\, Montana\, 59911
CATEGORIES:Community
GEO:48.0986394;-114.0975343
X-APPLE-STRUCTURED-LOCATION;VALUE=URI;X-ADDRESS=Grizzly Lanes 2849 MT Highway 82 Bigfork Montana 59911;X-APPLE-RADIUS=500;X-TITLE=2849 MT Highway 82:geo:-114.0975343,48.0986394
END:VEVENT
BEGIN:VEVENT
DTSTART;TZID=America/Denver:20221009T170000
DTEND;TZID=America/Denver:20221009T170000
DTSTAMP:20260420T024350
CREATED:20220913T163648Z
LAST-MODIFIED:20220913T163648Z
UID:10009713-1665334800-1665334800@bigfork.org
SUMMARY:Monte Carlo Night at Grizzly Lanes
DESCRIPTION: 
URL:https://bigfork.org/event/monte-carlo-night-at-grizzly-lanes/2022-10-09/
LOCATION:Grizzly Lanes\, 2849 MT Highway 82\, Bigfork\, Montana\, 59911
CATEGORIES:Community
GEO:48.0986394;-114.0975343
X-APPLE-STRUCTURED-LOCATION;VALUE=URI;X-ADDRESS=Grizzly Lanes 2849 MT Highway 82 Bigfork Montana 59911;X-APPLE-RADIUS=500;X-TITLE=2849 MT Highway 82:geo:-114.0975343,48.0986394
END:VEVENT
BEGIN:VEVENT
DTSTART;TZID=America/Denver:20221003T183000
DTEND;TZID=America/Denver:20221003T183000
DTSTAMP:20260420T024350
CREATED:20220913T163146Z
LAST-MODIFIED:20220913T163146Z
UID:10009704-1664821800-1664821800@bigfork.org
SUMMARY:Women & Wine at Grizzly Lanes
DESCRIPTION:Join us at Grizzly Lanes on Monday evenings for Women and Wine!  Includes 2 games of bowling for $15.00 \nContact Grizzly Lanes at 406-837-2233 for more info.
URL:https://bigfork.org/event/women-wine-at-grizzly-lanes/2022-10-03/
LOCATION:Grizzly Lanes\, 2849 MT Highway 82\, Bigfork\, Montana\, 59911
CATEGORIES:Community
GEO:48.0986394;-114.0975343
X-APPLE-STRUCTURED-LOCATION;VALUE=URI;X-ADDRESS=Grizzly Lanes 2849 MT Highway 82 Bigfork Montana 59911;X-APPLE-RADIUS=500;X-TITLE=2849 MT Highway 82:geo:-114.0975343,48.0986394
END:VEVENT
BEGIN:VEVENT
DTSTART;TZID=America/Denver:20221002T170000
DTEND;TZID=America/Denver:20221002T170000
DTSTAMP:20260420T024350
CREATED:20220913T163648Z
LAST-MODIFIED:20220913T163648Z
UID:10009712-1664730000-1664730000@bigfork.org
SUMMARY:Monte Carlo Night at Grizzly Lanes
DESCRIPTION: 
URL:https://bigfork.org/event/monte-carlo-night-at-grizzly-lanes/2022-10-02/
LOCATION:Grizzly Lanes\, 2849 MT Highway 82\, Bigfork\, Montana\, 59911
CATEGORIES:Community
GEO:48.0986394;-114.0975343
X-APPLE-STRUCTURED-LOCATION;VALUE=URI;X-ADDRESS=Grizzly Lanes 2849 MT Highway 82 Bigfork Montana 59911;X-APPLE-RADIUS=500;X-TITLE=2849 MT Highway 82:geo:-114.0975343,48.0986394
END:VEVENT
BEGIN:VEVENT
DTSTART;TZID=America/Denver:20220930T200000
DTEND;TZID=America/Denver:20220930T200000
DTSTAMP:20260420T024350
CREATED:20220929T171930Z
LAST-MODIFIED:20220929T171930Z
UID:10009752-1664568000-1664568000@bigfork.org
SUMMARY:Griz Glo at Grizzly Lanes
DESCRIPTION:Join us tomorrow night for Griz Glo with DJ Que from Destination DJ! Party starts at 8p! Wear neon or dress up. Best dressed individual will win a $25 gift card to Grizzly Lanes!
URL:https://bigfork.org/event/griz-glo-at-grizzly-lanes/
LOCATION:Grizzly Lanes\, 2849 MT Highway 82\, Bigfork\, Montana\, 59911
CATEGORIES:Community,Music
GEO:48.0986394;-114.0975343
X-APPLE-STRUCTURED-LOCATION;VALUE=URI;X-ADDRESS=Grizzly Lanes 2849 MT Highway 82 Bigfork Montana 59911;X-APPLE-RADIUS=500;X-TITLE=2849 MT Highway 82:geo:-114.0975343,48.0986394
END:VEVENT
BEGIN:VEVENT
DTSTART;TZID=America/Denver:20220926T183000
DTEND;TZID=America/Denver:20220926T183000
DTSTAMP:20260420T024350
CREATED:20220913T163146Z
LAST-MODIFIED:20220913T163146Z
UID:10009703-1664217000-1664217000@bigfork.org
SUMMARY:Women & Wine at Grizzly Lanes
DESCRIPTION:Join us at Grizzly Lanes on Monday evenings for Women and Wine!  Includes 2 games of bowling for $15.00 \nContact Grizzly Lanes at 406-837-2233 for more info.
URL:https://bigfork.org/event/women-wine-at-grizzly-lanes/2022-09-26/
LOCATION:Grizzly Lanes\, 2849 MT Highway 82\, Bigfork\, Montana\, 59911
CATEGORIES:Community
GEO:48.0986394;-114.0975343
X-APPLE-STRUCTURED-LOCATION;VALUE=URI;X-ADDRESS=Grizzly Lanes 2849 MT Highway 82 Bigfork Montana 59911;X-APPLE-RADIUS=500;X-TITLE=2849 MT Highway 82:geo:-114.0975343,48.0986394
END:VEVENT
BEGIN:VEVENT
DTSTART;TZID=America/Denver:20220925T170000
DTEND;TZID=America/Denver:20220925T170000
DTSTAMP:20260420T024350
CREATED:20220913T163648Z
LAST-MODIFIED:20220913T163648Z
UID:10009711-1664125200-1664125200@bigfork.org
SUMMARY:Monte Carlo Night at Grizzly Lanes
DESCRIPTION: 
URL:https://bigfork.org/event/monte-carlo-night-at-grizzly-lanes/2022-09-25/
LOCATION:Grizzly Lanes\, 2849 MT Highway 82\, Bigfork\, Montana\, 59911
CATEGORIES:Community
GEO:48.0986394;-114.0975343
X-APPLE-STRUCTURED-LOCATION;VALUE=URI;X-ADDRESS=Grizzly Lanes 2849 MT Highway 82 Bigfork Montana 59911;X-APPLE-RADIUS=500;X-TITLE=2849 MT Highway 82:geo:-114.0975343,48.0986394
END:VEVENT
BEGIN:VEVENT
DTSTART;TZID=America/Denver:20220919T183000
DTEND;TZID=America/Denver:20220919T183000
DTSTAMP:20260420T024350
CREATED:20220913T163146Z
LAST-MODIFIED:20220913T163146Z
UID:10009702-1663612200-1663612200@bigfork.org
SUMMARY:Women & Wine at Grizzly Lanes
DESCRIPTION:Join us at Grizzly Lanes on Monday evenings for Women and Wine!  Includes 2 games of bowling for $15.00 \nContact Grizzly Lanes at 406-837-2233 for more info.
URL:https://bigfork.org/event/women-wine-at-grizzly-lanes/2022-09-19/
LOCATION:Grizzly Lanes\, 2849 MT Highway 82\, Bigfork\, Montana\, 59911
CATEGORIES:Community
GEO:48.0986394;-114.0975343
X-APPLE-STRUCTURED-LOCATION;VALUE=URI;X-ADDRESS=Grizzly Lanes 2849 MT Highway 82 Bigfork Montana 59911;X-APPLE-RADIUS=500;X-TITLE=2849 MT Highway 82:geo:-114.0975343,48.0986394
END:VEVENT
BEGIN:VEVENT
DTSTART;TZID=America/Denver:20220918T170000
DTEND;TZID=America/Denver:20220918T170000
DTSTAMP:20260420T024350
CREATED:20220913T163648Z
LAST-MODIFIED:20220913T163648Z
UID:10009710-1663520400-1663520400@bigfork.org
SUMMARY:Monte Carlo Night at Grizzly Lanes
DESCRIPTION: 
URL:https://bigfork.org/event/monte-carlo-night-at-grizzly-lanes/2022-09-18/
LOCATION:Grizzly Lanes\, 2849 MT Highway 82\, Bigfork\, Montana\, 59911
CATEGORIES:Community
GEO:48.0986394;-114.0975343
X-APPLE-STRUCTURED-LOCATION;VALUE=URI;X-ADDRESS=Grizzly Lanes 2849 MT Highway 82 Bigfork Montana 59911;X-APPLE-RADIUS=500;X-TITLE=2849 MT Highway 82:geo:-114.0975343,48.0986394
END:VEVENT
BEGIN:VEVENT
DTSTART;TZID=America/Denver:20220912T183000
DTEND;TZID=America/Denver:20220912T183000
DTSTAMP:20260420T024350
CREATED:20220913T163146Z
LAST-MODIFIED:20220913T163146Z
UID:10009701-1663007400-1663007400@bigfork.org
SUMMARY:Women & Wine at Grizzly Lanes
DESCRIPTION:Join us at Grizzly Lanes on Monday evenings for Women and Wine!  Includes 2 games of bowling for $15.00 \nContact Grizzly Lanes at 406-837-2233 for more info.
URL:https://bigfork.org/event/women-wine-at-grizzly-lanes/2022-09-12/
LOCATION:Grizzly Lanes\, 2849 MT Highway 82\, Bigfork\, Montana\, 59911
CATEGORIES:Community
GEO:48.0986394;-114.0975343
X-APPLE-STRUCTURED-LOCATION;VALUE=URI;X-ADDRESS=Grizzly Lanes 2849 MT Highway 82 Bigfork Montana 59911;X-APPLE-RADIUS=500;X-TITLE=2849 MT Highway 82:geo:-114.0975343,48.0986394
END:VEVENT
BEGIN:VEVENT
DTSTART;TZID=America/Denver:20220828T170000
DTEND;TZID=America/Denver:20220828T170000
DTSTAMP:20260420T024350
CREATED:20220712T211601Z
LAST-MODIFIED:20220712T211601Z
UID:10009647-1661706000-1661706000@bigfork.org
SUMMARY:Bowling in the Dark at Grizzly Lanes
DESCRIPTION: 
URL:https://bigfork.org/event/bowling-in-the-dark-at-grizzly-lanes/2022-08-28/
LOCATION:Grizzly Lanes\, 2849 MT Highway 82\, Bigfork\, Montana\, 59911
CATEGORIES:Community
GEO:48.0986394;-114.0975343
X-APPLE-STRUCTURED-LOCATION;VALUE=URI;X-ADDRESS=Grizzly Lanes 2849 MT Highway 82 Bigfork Montana 59911;X-APPLE-RADIUS=500;X-TITLE=2849 MT Highway 82:geo:-114.0975343,48.0986394
END:VEVENT
BEGIN:VEVENT
DTSTART;TZID=America/Denver:20220821T170000
DTEND;TZID=America/Denver:20220821T170000
DTSTAMP:20260420T024350
CREATED:20220712T211601Z
LAST-MODIFIED:20220712T211601Z
UID:10009646-1661101200-1661101200@bigfork.org
SUMMARY:Bowling in the Dark at Grizzly Lanes
DESCRIPTION: 
URL:https://bigfork.org/event/bowling-in-the-dark-at-grizzly-lanes/2022-08-21/
LOCATION:Grizzly Lanes\, 2849 MT Highway 82\, Bigfork\, Montana\, 59911
CATEGORIES:Community
GEO:48.0986394;-114.0975343
X-APPLE-STRUCTURED-LOCATION;VALUE=URI;X-ADDRESS=Grizzly Lanes 2849 MT Highway 82 Bigfork Montana 59911;X-APPLE-RADIUS=500;X-TITLE=2849 MT Highway 82:geo:-114.0975343,48.0986394
END:VEVENT
BEGIN:VEVENT
DTSTART;TZID=America/Denver:20220814T170000
DTEND;TZID=America/Denver:20220814T170000
DTSTAMP:20260420T024350
CREATED:20220712T211601Z
LAST-MODIFIED:20220712T211601Z
UID:10009645-1660496400-1660496400@bigfork.org
SUMMARY:Bowling in the Dark at Grizzly Lanes
DESCRIPTION: 
URL:https://bigfork.org/event/bowling-in-the-dark-at-grizzly-lanes/2022-08-14/
LOCATION:Grizzly Lanes\, 2849 MT Highway 82\, Bigfork\, Montana\, 59911
CATEGORIES:Community
GEO:48.0986394;-114.0975343
X-APPLE-STRUCTURED-LOCATION;VALUE=URI;X-ADDRESS=Grizzly Lanes 2849 MT Highway 82 Bigfork Montana 59911;X-APPLE-RADIUS=500;X-TITLE=2849 MT Highway 82:geo:-114.0975343,48.0986394
END:VEVENT
BEGIN:VEVENT
DTSTART;TZID=America/Denver:20220813T103000
DTEND;TZID=America/Denver:20220813T103000
DTSTAMP:20260420T024350
CREATED:20220809T175044Z
LAST-MODIFIED:20220809T175044Z
UID:10008312-1660386600-1660386600@bigfork.org
SUMMARY:GLOWGA at Grizzly Lanes
DESCRIPTION:Don’t be in de-spare this weekend\, Yogi Dobie has something planned that’ll be right up your alley. \n\nThis Saturday August 13th at Grizzly Lanes bigfork Grizzly Lanes bigfork is presenting GLOWGA\, (yoga under the blacklight)and mimosas starting at 10:30am.\n1 hour of under a black light yoga fun and two mimosas for only $20 to start your Saturday out right. Because that’s how we roll.\nYoga\, mimosas\, black light\, neon\, and bowling!\nThis is going to be an incredi-bowl weekend.\nWe’ll feel adora-bowl when we glow our brightest on your mats\, which will make a glow pretty bright inside and off our mats.\nCall and reserve a spot (406) 837-2233.\n\n\nCan’t wait to see you there. You won’t miss me. I think I’ll truly be striking!
URL:https://bigfork.org/event/glowga-at-grizzly-lanes/
LOCATION:Grizzly Lanes\, 2849 MT Highway 82\, Bigfork\, Montana\, 59911
CATEGORIES:Community,Sports
GEO:48.0986394;-114.0975343
X-APPLE-STRUCTURED-LOCATION;VALUE=URI;X-ADDRESS=Grizzly Lanes 2849 MT Highway 82 Bigfork Montana 59911;X-APPLE-RADIUS=500;X-TITLE=2849 MT Highway 82:geo:-114.0975343,48.0986394
END:VEVENT
BEGIN:VEVENT
DTSTART;TZID=America/Denver:20220807T170000
DTEND;TZID=America/Denver:20220807T170000
DTSTAMP:20260420T024350
CREATED:20220712T211601Z
LAST-MODIFIED:20220712T211601Z
UID:10009644-1659891600-1659891600@bigfork.org
SUMMARY:Bowling in the Dark at Grizzly Lanes
DESCRIPTION: 
URL:https://bigfork.org/event/bowling-in-the-dark-at-grizzly-lanes/2022-08-07/
LOCATION:Grizzly Lanes\, 2849 MT Highway 82\, Bigfork\, Montana\, 59911
CATEGORIES:Community
GEO:48.0986394;-114.0975343
X-APPLE-STRUCTURED-LOCATION;VALUE=URI;X-ADDRESS=Grizzly Lanes 2849 MT Highway 82 Bigfork Montana 59911;X-APPLE-RADIUS=500;X-TITLE=2849 MT Highway 82:geo:-114.0975343,48.0986394
END:VEVENT
BEGIN:VEVENT
DTSTART;TZID=America/Denver:20220731T170000
DTEND;TZID=America/Denver:20220731T170000
DTSTAMP:20260420T024350
CREATED:20220712T211601Z
LAST-MODIFIED:20220712T211601Z
UID:10009643-1659286800-1659286800@bigfork.org
SUMMARY:Bowling in the Dark at Grizzly Lanes
DESCRIPTION: 
URL:https://bigfork.org/event/bowling-in-the-dark-at-grizzly-lanes/2022-07-31/
LOCATION:Grizzly Lanes\, 2849 MT Highway 82\, Bigfork\, Montana\, 59911
CATEGORIES:Community
GEO:48.0986394;-114.0975343
X-APPLE-STRUCTURED-LOCATION;VALUE=URI;X-ADDRESS=Grizzly Lanes 2849 MT Highway 82 Bigfork Montana 59911;X-APPLE-RADIUS=500;X-TITLE=2849 MT Highway 82:geo:-114.0975343,48.0986394
END:VEVENT
BEGIN:VEVENT
DTSTART;TZID=America/Denver:20220724T170000
DTEND;TZID=America/Denver:20220724T170000
DTSTAMP:20260420T024350
CREATED:20220712T211601Z
LAST-MODIFIED:20220712T211601Z
UID:10009642-1658682000-1658682000@bigfork.org
SUMMARY:Bowling in the Dark at Grizzly Lanes
DESCRIPTION: 
URL:https://bigfork.org/event/bowling-in-the-dark-at-grizzly-lanes/2022-07-24/
LOCATION:Grizzly Lanes\, 2849 MT Highway 82\, Bigfork\, Montana\, 59911
CATEGORIES:Community
GEO:48.0986394;-114.0975343
X-APPLE-STRUCTURED-LOCATION;VALUE=URI;X-ADDRESS=Grizzly Lanes 2849 MT Highway 82 Bigfork Montana 59911;X-APPLE-RADIUS=500;X-TITLE=2849 MT Highway 82:geo:-114.0975343,48.0986394
END:VEVENT
BEGIN:VEVENT
DTSTART;TZID=America/Denver:20220522T090000
DTEND;TZID=America/Denver:20220522T150000
DTSTAMP:20260420T024350
CREATED:20220331T164721Z
LAST-MODIFIED:20220331T164848Z
UID:10009422-1653210000-1653231600@bigfork.org
SUMMARY:Battle at Bigfork Bowling Tournament at Grizzly Lanes
DESCRIPTION:Don’t miss out and make your reservation now!  Contact Bernie Kuhns 406-880-4913  kuhnsjr2245@gmail.com
URL:https://bigfork.org/event/battle-at-bigfork-bowling-tournament-at-grizzly-lanes/2022-05-22/
LOCATION:Grizzly Lanes\, 2849 MT Highway 82\, Bigfork\, Montana\, 59911
CATEGORIES:Community,Sports
GEO:48.0986394;-114.0975343
X-APPLE-STRUCTURED-LOCATION;VALUE=URI;X-ADDRESS=Grizzly Lanes 2849 MT Highway 82 Bigfork Montana 59911;X-APPLE-RADIUS=500;X-TITLE=2849 MT Highway 82:geo:-114.0975343,48.0986394
END:VEVENT
BEGIN:VEVENT
DTSTART;TZID=America/Denver:20220521T090000
DTEND;TZID=America/Denver:20220521T150000
DTSTAMP:20260420T024350
CREATED:20220331T164721Z
LAST-MODIFIED:20220331T164848Z
UID:10009421-1653123600-1653145200@bigfork.org
SUMMARY:Battle at Bigfork Bowling Tournament at Grizzly Lanes
DESCRIPTION:Don’t miss out and make your reservation now!  Contact Bernie Kuhns 406-880-4913  kuhnsjr2245@gmail.com
URL:https://bigfork.org/event/battle-at-bigfork-bowling-tournament-at-grizzly-lanes/2022-05-21/
LOCATION:Grizzly Lanes\, 2849 MT Highway 82\, Bigfork\, Montana\, 59911
CATEGORIES:Community,Sports
GEO:48.0986394;-114.0975343
X-APPLE-STRUCTURED-LOCATION;VALUE=URI;X-ADDRESS=Grizzly Lanes 2849 MT Highway 82 Bigfork Montana 59911;X-APPLE-RADIUS=500;X-TITLE=2849 MT Highway 82:geo:-114.0975343,48.0986394
END:VEVENT
BEGIN:VEVENT
DTSTART;TZID=America/Denver:20220512T170000
DTEND;TZID=America/Denver:20220512T183000
DTSTAMP:20260420T024350
CREATED:20211214T203914Z
LAST-MODIFIED:20220429T154223Z
UID:10007822-1652374800-1652380200@bigfork.org
SUMMARY:Sundowner at Grizzly Lanes
DESCRIPTION:Join us for our monthly networking event at the Grizzly Lanes from 5 pm to 6:30 pm. This is a great opportunity to meet the new owners and see all the changes they have been making. \n\nPlan to attend and network with business professionals in the community and hear about upcoming events.  Don’t forget to bring a few dollars for raffle tickets for you chance to win great prizes! The Public is welcome and no cost to attend!\n\nAlways held the 2nd Thursday of the month at 5 pm. Location varies. Social distancing will be encouraged and attendees are welcome to spread out throughout the property.
URL:https://bigfork.org/event/sundowner-at-sliters-lumber-building-supply/
LOCATION:Grizzly Lanes\, 2849 MT Highway 82\, Bigfork\, Montana\, 59911
CATEGORIES:Business,Community
GEO:48.0986394;-114.0975343
X-APPLE-STRUCTURED-LOCATION;VALUE=URI;X-ADDRESS=Grizzly Lanes 2849 MT Highway 82 Bigfork Montana 59911;X-APPLE-RADIUS=500;X-TITLE=2849 MT Highway 82:geo:-114.0975343,48.0986394
END:VEVENT
BEGIN:VEVENT
DTSTART;TZID=America/Denver:20220428T000000
DTEND;TZID=America/Denver:20220428T000000
DTSTAMP:20260420T024350
CREATED:20220401T164020Z
LAST-MODIFIED:20220401T164020Z
UID:10008005-1651104000-1651104000@bigfork.org
SUMMARY:Summer Bowling Leagues Begin at Grizzly Lanes
DESCRIPTION:Get your game on on Grizzly Lanes this year.  Starting the week of April 26th\, 27th and 28th: \nTuesdays: Singles Scratch Sport \nWednesdays:  Four Person Mixed \nThursdays:  Unsactioned Adult/Juniors \nTBD:  Ladies Wine League\, Teams of Four \nPlease note: times to be announced.  Contact Grizzly Lanes at 406-837-2233 or visit our website grizzlylanes.com.
URL:https://bigfork.org/event/summer-bowling-leagues-begin-at-grizzly-lanes/2022-04-28/
LOCATION:Grizzly Lanes\, 2849 MT Highway 82\, Bigfork\, Montana\, 59911
CATEGORIES:Community,Sports
GEO:48.0986394;-114.0975343
X-APPLE-STRUCTURED-LOCATION;VALUE=URI;X-ADDRESS=Grizzly Lanes 2849 MT Highway 82 Bigfork Montana 59911;X-APPLE-RADIUS=500;X-TITLE=2849 MT Highway 82:geo:-114.0975343,48.0986394
END:VEVENT
BEGIN:VEVENT
DTSTART;TZID=America/Denver:20220427T000000
DTEND;TZID=America/Denver:20220427T000000
DTSTAMP:20260420T024350
CREATED:20220401T164020Z
LAST-MODIFIED:20220401T164020Z
UID:10008004-1651017600-1651017600@bigfork.org
SUMMARY:Summer Bowling Leagues Begin at Grizzly Lanes
DESCRIPTION:Get your game on on Grizzly Lanes this year.  Starting the week of April 26th\, 27th and 28th: \nTuesdays: Singles Scratch Sport \nWednesdays:  Four Person Mixed \nThursdays:  Unsactioned Adult/Juniors \nTBD:  Ladies Wine League\, Teams of Four \nPlease note: times to be announced.  Contact Grizzly Lanes at 406-837-2233 or visit our website grizzlylanes.com.
URL:https://bigfork.org/event/summer-bowling-leagues-begin-at-grizzly-lanes/2022-04-27/
LOCATION:Grizzly Lanes\, 2849 MT Highway 82\, Bigfork\, Montana\, 59911
CATEGORIES:Community,Sports
GEO:48.0986394;-114.0975343
X-APPLE-STRUCTURED-LOCATION;VALUE=URI;X-ADDRESS=Grizzly Lanes 2849 MT Highway 82 Bigfork Montana 59911;X-APPLE-RADIUS=500;X-TITLE=2849 MT Highway 82:geo:-114.0975343,48.0986394
END:VEVENT
BEGIN:VEVENT
DTSTART;TZID=America/Denver:20220426T000000
DTEND;TZID=America/Denver:20220426T000000
DTSTAMP:20260420T024350
CREATED:20220401T164020Z
LAST-MODIFIED:20220401T164020Z
UID:10008003-1650931200-1650931200@bigfork.org
SUMMARY:Summer Bowling Leagues Begin at Grizzly Lanes
DESCRIPTION:Get your game on on Grizzly Lanes this year.  Starting the week of April 26th\, 27th and 28th: \nTuesdays: Singles Scratch Sport \nWednesdays:  Four Person Mixed \nThursdays:  Unsactioned Adult/Juniors \nTBD:  Ladies Wine League\, Teams of Four \nPlease note: times to be announced.  Contact Grizzly Lanes at 406-837-2233 or visit our website grizzlylanes.com.
URL:https://bigfork.org/event/summer-bowling-leagues-begin-at-grizzly-lanes/2022-04-26/
LOCATION:Grizzly Lanes\, 2849 MT Highway 82\, Bigfork\, Montana\, 59911
CATEGORIES:Community,Sports
GEO:48.0986394;-114.0975343
X-APPLE-STRUCTURED-LOCATION;VALUE=URI;X-ADDRESS=Grizzly Lanes 2849 MT Highway 82 Bigfork Montana 59911;X-APPLE-RADIUS=500;X-TITLE=2849 MT Highway 82:geo:-114.0975343,48.0986394
END:VEVENT
BEGIN:VEVENT
DTSTART;TZID=America/Denver:20220410T100000
DTEND;TZID=America/Denver:20220410T100000
DTSTAMP:20260420T024350
CREATED:20220331T165230Z
LAST-MODIFIED:20220331T165230Z
UID:10009423-1649584800-1649584800@bigfork.org
SUMMARY:Handicap Singles Tournament at Grizzly Lanes
DESCRIPTION:Sign up Today!  Contact Bernie Kuhns at 406-880-4913 or email kuhnsjr2245@gmail.com.
URL:https://bigfork.org/event/handicap-singles-tournament-at-grizzly-lanes/
LOCATION:Grizzly Lanes\, 2849 MT Highway 82\, Bigfork\, Montana\, 59911
CATEGORIES:Community,Sports
GEO:48.0986394;-114.0975343
X-APPLE-STRUCTURED-LOCATION;VALUE=URI;X-ADDRESS=Grizzly Lanes 2849 MT Highway 82 Bigfork Montana 59911;X-APPLE-RADIUS=500;X-TITLE=2849 MT Highway 82:geo:-114.0975343,48.0986394
END:VEVENT
BEGIN:VEVENT
DTSTART;TZID=America/Denver:20220130T110000
DTEND;TZID=America/Denver:20220130T170000
DTSTAMP:20260420T024350
CREATED:20220113T210439Z
LAST-MODIFIED:20220113T210509Z
UID:10007895-1643540400-1643562000@bigfork.org
SUMMARY:Bowling Tournament at Grizzly Lanes
DESCRIPTION:Okay ladies and gents get ahold of me if you want to get signed up for this event. It will fill up fast. Only taking 80 entries!!
URL:https://bigfork.org/event/bowling-tournament-at-grizzley-lanes/
LOCATION:Grizzly Lanes\, 2849 MT Highway 82\, Bigfork\, Montana\, 59911
CATEGORIES:Community
GEO:48.0986394;-114.0975343
X-APPLE-STRUCTURED-LOCATION;VALUE=URI;X-ADDRESS=Grizzly Lanes 2849 MT Highway 82 Bigfork Montana 59911;X-APPLE-RADIUS=500;X-TITLE=2849 MT Highway 82:geo:-114.0975343,48.0986394
END:VEVENT
END:VCALENDAR