BEGIN:VCALENDAR
VERSION:2.0
PRODID:-//Bigfork | Small Village - Big Adventure - ECPv6.15.20//NONSGML v1.0//EN
CALSCALE:GREGORIAN
METHOD:PUBLISH
X-ORIGINAL-URL:https://bigfork.org
X-WR-CALDESC:Events for Bigfork | Small Village - Big Adventure
REFRESH-INTERVAL;VALUE=DURATION:PT1H
X-Robots-Tag:noindex
X-PUBLISHED-TTL:PT1H
BEGIN:VTIMEZONE
TZID:America/Denver
BEGIN:DAYLIGHT
TZOFFSETFROM:-0700
TZOFFSETTO:-0600
TZNAME:MDT
DTSTART:20210314T090000
END:DAYLIGHT
BEGIN:STANDARD
TZOFFSETFROM:-0600
TZOFFSETTO:-0700
TZNAME:MST
DTSTART:20211107T080000
END:STANDARD
BEGIN:DAYLIGHT
TZOFFSETFROM:-0700
TZOFFSETTO:-0600
TZNAME:MDT
DTSTART:20220313T090000
END:DAYLIGHT
BEGIN:STANDARD
TZOFFSETFROM:-0600
TZOFFSETTO:-0700
TZNAME:MST
DTSTART:20221106T080000
END:STANDARD
BEGIN:DAYLIGHT
TZOFFSETFROM:-0700
TZOFFSETTO:-0600
TZNAME:MDT
DTSTART:20230312T090000
END:DAYLIGHT
BEGIN:STANDARD
TZOFFSETFROM:-0600
TZOFFSETTO:-0700
TZNAME:MST
DTSTART:20231105T080000
END:STANDARD
BEGIN:DAYLIGHT
TZOFFSETFROM:-0700
TZOFFSETTO:-0600
TZNAME:MDT
DTSTART:20240310T090000
END:DAYLIGHT
BEGIN:STANDARD
TZOFFSETFROM:-0600
TZOFFSETTO:-0700
TZNAME:MST
DTSTART:20241103T080000
END:STANDARD
BEGIN:DAYLIGHT
TZOFFSETFROM:-0700
TZOFFSETTO:-0600
TZNAME:MDT
DTSTART:20250309T090000
END:DAYLIGHT
BEGIN:STANDARD
TZOFFSETFROM:-0600
TZOFFSETTO:-0700
TZNAME:MST
DTSTART:20251102T080000
END:STANDARD
BEGIN:DAYLIGHT
TZOFFSETFROM:-0700
TZOFFSETTO:-0600
TZNAME:MDT
DTSTART:20260308T090000
END:DAYLIGHT
BEGIN:STANDARD
TZOFFSETFROM:-0600
TZOFFSETTO:-0700
TZNAME:MST
DTSTART:20261101T080000
END:STANDARD
END:VTIMEZONE
BEGIN:VEVENT
DTSTART;TZID=America/Denver:20250319T180000
DTEND;TZID=America/Denver:20250319T180000
DTSTAMP:20260419T074209
CREATED:20250306T191659Z
LAST-MODIFIED:20250306T191659Z
UID:10031378-1742407200-1742407200@bigfork.org
SUMMARY:Bigfork Water and Sewer Public Board Meeting
DESCRIPTION:Please join us at our board meeting March 19th @ 6:00pm. The meeting will be held at the United Methodist Church located at 750 Electric Ave in Bigfork. Lots of great information about the future and legislative updates.
URL:https://bigfork.org/event/bigfork-water-and-sewer-public-board-meeting/
LOCATION:Bigfork United Methodist Church\, 750 Electric Avenue\, Bigfork\, MT\, 59911\, United States
CATEGORIES:Community
ATTACH;FMTTYPE=image/jpeg:https://bigfork.org/wp-content/uploads/2025/03/z-waters.jpg
GEO:48.064484;-114.073689
X-APPLE-STRUCTURED-LOCATION;VALUE=URI;X-ADDRESS=Bigfork United Methodist Church 750 Electric Avenue Bigfork MT 59911 United States;X-APPLE-RADIUS=500;X-TITLE=750 Electric Avenue:geo:-114.073689,48.064484
END:VEVENT
BEGIN:VEVENT
DTSTART;TZID=America/Denver:20240324T100000
DTEND;TZID=America/Denver:20240324T100000
DTSTAMP:20260419T074209
CREATED:20240321T194954Z
LAST-MODIFIED:20240321T194954Z
UID:10025418-1711274400-1711274400@bigfork.org
SUMMARY:Easter Cantata
DESCRIPTION:BIGFORK COMMUNITY UNITED METHODIST CHURCH \nEASTER CANTATA – WHAT WONDROUS HOPE \nMarch 24\, 10 am \nBigfork Community United Methodist Church (CUMC)\, located in the heart of Bigfork\, has a long history of being a place for community connection and meaningful worship. Founded in 1902 as the one and only church in a recently settled area\, Methodists\, Lutherans\, Presbyterians\, Catholics\, and more met each week to praise God and be encouraged in their faith. The church’s bell rang to announce the joy of a recent birth\, the passing of a beloved neighbor\, or the warning of an area fire. Each Sunday\, church members lifted their voices in song\, praying that CUMC would always be a place where God’s good music could be enjoyed. \nEach Sunday since – and more specifically\, this Easter season – the traditions of community connection\, meaningful worship\, and good music continue. CUMC’s Sanctuary Choir\, King’s Ringers (handbell choir)\, and Children’s Choir will be sharing an Easter Cantata titled “What Wondrous Hope.” Dr. Jordan Neiman\, CUMC’s Music Director and Church & Community Coordinator will be directing. He will also be part of a piano duet. Pastor Wendy Ochs will lead worship. The Cantata takes place on Sunday\, March 24\, at 10 am. CUMC is located at 750 Electric Avenue in Bigfork\, just one block from the Bigfork schools. As always\, the entire community is invited to join! \n  \n 
URL:https://bigfork.org/event/easter-cantata/
LOCATION:Bigfork United Methodist Church\, 750 Electric Avenue\, Bigfork\, MT\, 59911\, United States
CATEGORIES:Community
ATTACH;FMTTYPE=image/jpeg:https://bigfork.org/wp-content/uploads/2024/03/z-church.jpg
GEO:48.064484;-114.073689
X-APPLE-STRUCTURED-LOCATION;VALUE=URI;X-ADDRESS=Bigfork United Methodist Church 750 Electric Avenue Bigfork MT 59911 United States;X-APPLE-RADIUS=500;X-TITLE=750 Electric Avenue:geo:-114.073689,48.064484
END:VEVENT
BEGIN:VEVENT
DTSTART;TZID=America/Denver:20231217T100000
DTEND;TZID=America/Denver:20231217T100000
DTSTAMP:20260419T074209
CREATED:20231212T201217Z
LAST-MODIFIED:20231212T201217Z
UID:10019343-1702807200-1702807200@bigfork.org
SUMMARY:Christmas Cantata
DESCRIPTION:Join us at Community United Methodist Church for a Christmas Cantata et Kids’ Program:
URL:https://bigfork.org/event/christmas-cantata/
LOCATION:Bigfork United Methodist Church\, 750 Electric Avenue\, Bigfork\, MT\, 59911\, United States
CATEGORIES:Community,Music
GEO:48.064484;-114.073689
X-APPLE-STRUCTURED-LOCATION;VALUE=URI;X-ADDRESS=Bigfork United Methodist Church 750 Electric Avenue Bigfork MT 59911 United States;X-APPLE-RADIUS=500;X-TITLE=750 Electric Avenue:geo:-114.073689,48.064484
END:VEVENT
BEGIN:VEVENT
DTSTART;TZID=America/Denver:20231109T113000
DTEND;TZID=America/Denver:20231109T113000
DTSTAMP:20260419T074209
CREATED:20231031T164746Z
LAST-MODIFIED:20231031T164746Z
UID:10018426-1699529400-1699529400@bigfork.org
SUMMARY:Estate Planning 101
DESCRIPTION:The attorneys from Peters & Krown\, PLLC\, will be at Community United Methodist Church (750 Electric Ave) on Thursday\, Nov. 9\, at 11:30 pm to offer an “Estate Planning 101” overview. All are welcome! You are invited to bring your own lunch\, coffee & water will be provided. \n 
URL:https://bigfork.org/event/estate-planning-101/
LOCATION:Bigfork United Methodist Church\, 750 Electric Avenue\, Bigfork\, MT\, 59911\, United States
CATEGORIES:Community,Education
GEO:48.064484;-114.073689
X-APPLE-STRUCTURED-LOCATION;VALUE=URI;X-ADDRESS=Bigfork United Methodist Church 750 Electric Avenue Bigfork MT 59911 United States;X-APPLE-RADIUS=500;X-TITLE=750 Electric Avenue:geo:-114.073689,48.064484
END:VEVENT
BEGIN:VEVENT
DTSTART;TZID=America/Denver:20231007T100000
DTEND;TZID=America/Denver:20231007T140000
DTSTAMP:20260419T074209
CREATED:20230921T161835Z
LAST-MODIFIED:20230921T161835Z
UID:10017088-1696672800-1696687200@bigfork.org
SUMMARY:Church Fall Bazaar
DESCRIPTION:BIGFORK METHODIST CHURCH FALL BAZAAR\nJoin us for Sloppy Joes and Christmas shopping at the Bigfork Community United Methodist Church Bazaar\, October 7th\, from 10:00 AM to 2:00 PM.\nStroll through and purchase our beautifully wrapped homemade jams\, jellies and baked goods plus our frozen homemade fruit pies ready for the holiday dinner table.\nThe Vendors are Back!\nShop for unique gifts of jewelry\, wood and leather products\, pottery\, baby goods\, crafts and so much more!\n750 Electric Avenue\, Bigfork \n 
URL:https://bigfork.org/event/church-fall-bazaar/
LOCATION:Bigfork United Methodist Church\, 750 Electric Avenue\, Bigfork\, MT\, 59911\, United States
CATEGORIES:Community
GEO:48.064484;-114.073689
X-APPLE-STRUCTURED-LOCATION;VALUE=URI;X-ADDRESS=Bigfork United Methodist Church 750 Electric Avenue Bigfork MT 59911 United States;X-APPLE-RADIUS=500;X-TITLE=750 Electric Avenue:geo:-114.073689,48.064484
END:VEVENT
BEGIN:VEVENT
DTSTART;TZID=America/Denver:20230922T150000
DTEND;TZID=America/Denver:20230922T170000
DTSTAMP:20260419T074209
CREATED:20230919T190721Z
LAST-MODIFIED:20230919T190721Z
UID:10016703-1695394800-1695402000@bigfork.org
SUMMARY:Harrell Forest Community Trails Grand Opening
DESCRIPTION:To commemorate our 50th anniversary\, the Trust for Public Land – Northern Rockies regional office is celebrating the grand opening of the Harrell Forest Community Trails in Bigfork\, Montana. Located on the flanks of Swan Hill\, the community of Bigfork will soon enjoy 6 miles of new trail spanning 240-acres. \nThe celebration will take place on Friday\, September 22nd\, from 3pm-5pm at the trailhead of the Harrell Forest Community Trails\, located a short distance from downtown. All guests will take a shuttle from the Bigfork United Methodist Church due to limited parking (see shuttle information in the FAQs). \nThere will be small bites\, music\, and a few words from local leaders and stakeholders that helped us make Harrell Forest Community Trails a reality. Attendees will have the opportunity to learn more about this project and see the impact it will have on the Bigfork community. \nCome celebrate our 50th anniversary with us! \nTo Volunteer\, please click here:  https://www.signupgenius.com/go/10c094daaa823a1f8c07-tpl#/
URL:https://bigfork.org/event/harrell-forest-community-trails-grand-opening/
LOCATION:Bigfork United Methodist Church\, 750 Electric Avenue\, Bigfork\, MT\, 59911\, United States
CATEGORIES:Community
GEO:48.064484;-114.073689
X-APPLE-STRUCTURED-LOCATION;VALUE=URI;X-ADDRESS=Bigfork United Methodist Church 750 Electric Avenue Bigfork MT 59911 United States;X-APPLE-RADIUS=500;X-TITLE=750 Electric Avenue:geo:-114.073689,48.064484
END:VEVENT
BEGIN:VEVENT
DTSTART;TZID=America/Denver:20221205T180000
DTEND;TZID=America/Denver:20221205T180000
DTSTAMP:20260419T074209
CREATED:20221122T185954Z
LAST-MODIFIED:20221122T185954Z
UID:10009913-1670263200-1670263200@bigfork.org
SUMMARY:Potluck & Presentation @ United Methodist Church
DESCRIPTION:Join us for a wonderful discussion with Victoria Livschitz\, Serial Entrepreneur\, Philanthropist & Outdoorswoman: \nBorn in the Ukraine and now residing in Whitefish\, Victoria has led quite an adventurious life – she’s trekked across Patagonia\, Peru\, and Alaska\, thru-hiked the 211 mile John Muir trail\, and climbed Mt. Killimanjaro.  Early in her career \, Victoria worked as a software engineer for Ford Motor Company and Sun Microsystems before founding Grid Dynamics\, a large technology firm.  Her most recent endeavors include creating the outdoor recreation company RightOnTrek in the Flathead Valley and thru-hiking the Coast-to-Coast trail in the United Kingdom.  Come listen as Victoria shares her experience about growing up in the Soviet Union\, her journey to the US\, and what motivates her to keep pushing her limits mentally and physically. \nPotluck to follow; please bring a dish to share! \n  \n 
URL:https://bigfork.org/event/potluck-presentation-united-methodist-church/
LOCATION:Bigfork United Methodist Church\, 750 Electric Avenue\, Bigfork\, MT\, 59911\, United States
CATEGORIES:Community
GEO:48.064484;-114.073689
X-APPLE-STRUCTURED-LOCATION;VALUE=URI;X-ADDRESS=Bigfork United Methodist Church 750 Electric Avenue Bigfork MT 59911 United States;X-APPLE-RADIUS=500;X-TITLE=750 Electric Avenue:geo:-114.073689,48.064484
END:VEVENT
BEGIN:VEVENT
DTSTART;TZID=America/Denver:20220718T190000
DTEND;TZID=America/Denver:20220718T190000
DTSTAMP:20260419T074209
CREATED:20220712T153803Z
LAST-MODIFIED:20220712T153803Z
UID:10009637-1658170800-1658170800@bigfork.org
SUMMARY:Report on Afghanistan Series at United Methodist Church
DESCRIPTION:In our continuing ‘Did You Know’ monthly series\, the Bigfork Community United Methodist church at 750 Electric Avenue\, presents Budd MacKenzie of Trust in Education\, on Monday July 18th\, 7:00 pm. \n“Trust in Education (TIE) has provided aid to Afghan children and families for over 18 years. When the Taliban seized control last August\, founder Budd Mackenzie feared his work was over. Instead\, it has grown. Learn more about the incredible and important work TIE is doing – from providing education to girls to ensuring poverty stricken families can feed and house their children. You will be more informed about the realities of sharia law\, the needs of the Afghan people\, and what you can do to help.” \n \n 
URL:https://bigfork.org/event/report-on-afghanistan-series-at-united-methodist-church/
LOCATION:Bigfork United Methodist Church\, 750 Electric Avenue\, Bigfork\, MT\, 59911\, United States
CATEGORIES:Community,Education
GEO:48.064484;-114.073689
X-APPLE-STRUCTURED-LOCATION;VALUE=URI;X-ADDRESS=Bigfork United Methodist Church 750 Electric Avenue Bigfork MT 59911 United States;X-APPLE-RADIUS=500;X-TITLE=750 Electric Avenue:geo:-114.073689,48.064484
END:VEVENT
BEGIN:VEVENT
DTSTART;TZID=America/Denver:20220704T080000
DTEND;TZID=America/Denver:20220704T103000
DTSTAMP:20260419T074209
CREATED:20220623T224730Z
LAST-MODIFIED:20220623T224730Z
UID:10008215-1656921600-1656930600@bigfork.org
SUMMARY:Scout Troop Pancake Breakfast at United Methodist
DESCRIPTION:
URL:https://bigfork.org/event/scout-troop-pancake-breakfast-at-united-methodist/
LOCATION:Bigfork United Methodist Church\, 750 Electric Avenue\, Bigfork\, MT\, 59911\, United States
CATEGORIES:Community,Food
GEO:48.064484;-114.073689
X-APPLE-STRUCTURED-LOCATION;VALUE=URI;X-ADDRESS=Bigfork United Methodist Church 750 Electric Avenue Bigfork MT 59911 United States;X-APPLE-RADIUS=500;X-TITLE=750 Electric Avenue:geo:-114.073689,48.064484
END:VEVENT
BEGIN:VEVENT
DTSTART;TZID=America/Denver:20220425T180000
DTEND;TZID=America/Denver:20220425T180000
DTSTAMP:20260419T074209
CREATED:20220419T164720Z
LAST-MODIFIED:20220419T164720Z
UID:10008035-1650909600-1650909600@bigfork.org
SUMMARY:Working in Clay Demo at Bigfork United Methodist Church
DESCRIPTION:Joanna Griffin will bring her pottery wheel to visit and invites you to consider how working in clay is a relationship with the sacred.  Hands on invitational as she shares stories from her 30 years of producing brightly colored functional clay that also is combined with uplifting verse.  Get the feeling of “sitting behind the wheel.” \nAll are invited!! \n 
URL:https://bigfork.org/event/working-in-clay-demo-at-bigfork-united-methodist-church/
LOCATION:Bigfork United Methodist Church\, 750 Electric Avenue\, Bigfork\, MT\, 59911\, United States
CATEGORIES:Art,Community
GEO:48.064484;-114.073689
X-APPLE-STRUCTURED-LOCATION;VALUE=URI;X-ADDRESS=Bigfork United Methodist Church 750 Electric Avenue Bigfork MT 59911 United States;X-APPLE-RADIUS=500;X-TITLE=750 Electric Avenue:geo:-114.073689,48.064484
END:VEVENT
BEGIN:VEVENT
DTSTART;TZID=America/Denver:20220317T190000
DTEND;TZID=America/Denver:20220317T210000
DTSTAMP:20260419T074209
CREATED:20220315T161855Z
LAST-MODIFIED:20220315T161855Z
UID:10007973-1647543600-1647550800@bigfork.org
SUMMARY:Debris Pile Burning Presentation at Bigfork United Methodist Church
DESCRIPTION:Come out and learn about the proper techniques to burn your forest or yard debris piles safely and efficiently; presented by the Bigfork Fire Department and Montana Department of Natural Resources & Conversation (DNRC).
URL:https://bigfork.org/event/debris-pile-burning-presentation-at-bigfork-united-methodist-church/
LOCATION:Bigfork United Methodist Church\, 750 Electric Avenue\, Bigfork\, MT\, 59911\, United States
CATEGORIES:Community,Education
GEO:48.064484;-114.073689
X-APPLE-STRUCTURED-LOCATION;VALUE=URI;X-ADDRESS=Bigfork United Methodist Church 750 Electric Avenue Bigfork MT 59911 United States;X-APPLE-RADIUS=500;X-TITLE=750 Electric Avenue:geo:-114.073689,48.064484
END:VEVENT
BEGIN:VEVENT
DTSTART;TZID=America/Denver:20220221T190000
DTEND;TZID=America/Denver:20220221T210000
DTSTAMP:20260419T074209
CREATED:20220210T181332Z
LAST-MODIFIED:20220210T181332Z
UID:10009331-1645470000-1645477200@bigfork.org
SUMMARY:Birds Rock Presentation at Community United Methodist Church
DESCRIPTION:
URL:https://bigfork.org/event/birds-rock-presentation-at-community-united-methodist-church/
LOCATION:Bigfork United Methodist Church\, 750 Electric Avenue\, Bigfork\, MT\, 59911\, United States
CATEGORIES:Community,Education
GEO:48.064484;-114.073689
X-APPLE-STRUCTURED-LOCATION;VALUE=URI;X-ADDRESS=Bigfork United Methodist Church 750 Electric Avenue Bigfork MT 59911 United States;X-APPLE-RADIUS=500;X-TITLE=750 Electric Avenue:geo:-114.073689,48.064484
END:VEVENT
BEGIN:VEVENT
DTSTART;TZID=America/Denver:20220124T180000
DTEND;TZID=America/Denver:20220124T200000
DTSTAMP:20260419T074209
CREATED:20220118T171110Z
LAST-MODIFIED:20220118T171110Z
UID:10007897-1643047200-1643054400@bigfork.org
SUMMARY:Suicide Prevention Meeting at United Methodist Church
DESCRIPTION:The Nate Chute Foundation will be holding a Suicide Prevention Meeting at United Methodist Church on January 24th at 6 pm. \n 
URL:https://bigfork.org/event/suicide-prevention-meeting-at-united-methodist-church/
LOCATION:Bigfork United Methodist Church\, 750 Electric Avenue\, Bigfork\, MT\, 59911\, United States
CATEGORIES:Community
GEO:48.064484;-114.073689
X-APPLE-STRUCTURED-LOCATION;VALUE=URI;X-ADDRESS=Bigfork United Methodist Church 750 Electric Avenue Bigfork MT 59911 United States;X-APPLE-RADIUS=500;X-TITLE=750 Electric Avenue:geo:-114.073689,48.064484
END:VEVENT
END:VCALENDAR