BEGIN:VCALENDAR
VERSION:2.0
PRODID:-//Bigfork | Small Village - Big Adventure - ECPv6.15.20//NONSGML v1.0//EN
CALSCALE:GREGORIAN
METHOD:PUBLISH
X-ORIGINAL-URL:https://bigfork.org
X-WR-CALDESC:Events for Bigfork | Small Village - Big Adventure
REFRESH-INTERVAL;VALUE=DURATION:PT1H
X-Robots-Tag:noindex
X-PUBLISHED-TTL:PT1H
BEGIN:VTIMEZONE
TZID:America/Denver
BEGIN:DAYLIGHT
TZOFFSETFROM:-0700
TZOFFSETTO:-0600
TZNAME:MDT
DTSTART:20200308T090000
END:DAYLIGHT
BEGIN:STANDARD
TZOFFSETFROM:-0600
TZOFFSETTO:-0700
TZNAME:MST
DTSTART:20201101T080000
END:STANDARD
BEGIN:DAYLIGHT
TZOFFSETFROM:-0700
TZOFFSETTO:-0600
TZNAME:MDT
DTSTART:20210314T090000
END:DAYLIGHT
BEGIN:STANDARD
TZOFFSETFROM:-0600
TZOFFSETTO:-0700
TZNAME:MST
DTSTART:20211107T080000
END:STANDARD
BEGIN:DAYLIGHT
TZOFFSETFROM:-0700
TZOFFSETTO:-0600
TZNAME:MDT
DTSTART:20220313T090000
END:DAYLIGHT
BEGIN:STANDARD
TZOFFSETFROM:-0600
TZOFFSETTO:-0700
TZNAME:MST
DTSTART:20221106T080000
END:STANDARD
BEGIN:DAYLIGHT
TZOFFSETFROM:-0700
TZOFFSETTO:-0600
TZNAME:MDT
DTSTART:20230312T090000
END:DAYLIGHT
BEGIN:STANDARD
TZOFFSETFROM:-0600
TZOFFSETTO:-0700
TZNAME:MST
DTSTART:20231105T080000
END:STANDARD
BEGIN:DAYLIGHT
TZOFFSETFROM:-0700
TZOFFSETTO:-0600
TZNAME:MDT
DTSTART:20240310T090000
END:DAYLIGHT
BEGIN:STANDARD
TZOFFSETFROM:-0600
TZOFFSETTO:-0700
TZNAME:MST
DTSTART:20241103T080000
END:STANDARD
BEGIN:DAYLIGHT
TZOFFSETFROM:-0700
TZOFFSETTO:-0600
TZNAME:MDT
DTSTART:20250309T090000
END:DAYLIGHT
BEGIN:STANDARD
TZOFFSETFROM:-0600
TZOFFSETTO:-0700
TZNAME:MST
DTSTART:20251102T080000
END:STANDARD
END:VTIMEZONE
BEGIN:VEVENT
DTSTART;TZID=America/Denver:20240102T163000
DTEND;TZID=America/Denver:20240102T193000
DTSTAMP:20260419T104542
CREATED:20240102T184002Z
LAST-MODIFIED:20240102T184002Z
UID:10019355-1704213000-1704223800@bigfork.org
SUMMARY:Auditions for Guys & Dolls JR
DESCRIPTION:The Bigfork Playhouse Children’s Theater invites students in grades 2 through 6 to audition\, Tuesday January 2\, for the cast of “Guys & Dolls Jr. – based on the classic ‘Golden Age’ Musical.\nGuys and Dolls JR. is an adaptation of the show considered by many to be the perfect musical comedy.  Set in New York City\, Guys and Dolls JR. follows gambler\, Nathan Detroit\, as he tries to find the cash to set up the biggest crap game in town while the authorities breathe down his neck. Meanwhile\, his girlfriend and nightclub performer\, Adelaide\, laments that they’ve been engaged for fourteen years without ever getting married. Nathan turns to fellow gambler\, Sky Masterson\, for the dough\, but Sky ends up chasing the straight-laced missionary\, Sarah Brown. Guys and Dolls JR. takes us from the heart of Times Square to the cafes of Havana\, but everyone eventually ends up right where they belong.  Songs include: “Adelaide’s Lament\,” the romantic “I’ve Never Been in Love Before\,” the exuberant “If I Were a Bell\,” and the classic “Luck Be a Lady.” \nAuditions will be held at the Bigfork Playhouse Children’s Theatre afterschool Center on (on 833 Grand Dr.) on Tuesday\, January 2nd\, from 4:30-5:30 PM for 2nd and 3rd grades\, and 5:30-7:30 PM for 4th through 6th grades.  (Performances January 26 & 27 and Feb 2 & 3 at 7:30 and February 4 at 2:00) \nThis production calls for a large cast of around 40.  It costs nothing to audition and only $50 to be a part of the show if cast.  Please prepare a 30 second Monologue or short selection from another play\, poem or book\, (we’ll have several at the audition if you can’t find one) and plan to learn and sing something for us at the audition.  Don’t worry if you don’t have experience\, we’ll have materials at the theatre for you. Wear comfortable shoes that you can move in\, as we will be moving around the stage.  (Please do NOT SING your audition\, we’ll teach you a song when you’re there) \nNot interested in stage work but would like to be involved? Give us a call! We need help with the technical parts – building sets\, props\, costumes\, lights and sound.  Parental and student assistance is welcome.  To sign-up and for more information\, call 837-4886 or email bpct@bigforksummerplayhouse.com or check our website at www.bigforksummerplayhouse.com \n 
URL:https://bigfork.org/event/auditions-for-guys-dolls-jr/
LOCATION:Bigfork Playhouse Children’s Theatre Afterschool Center\, 833 Grand Drive\, Bigfork\, MT\, 59911
CATEGORIES:Community
GEO:48.0659757;-114.0806512
X-APPLE-STRUCTURED-LOCATION;VALUE=URI;X-ADDRESS=Bigfork Playhouse Children’s Theatre Afterschool Center 833 Grand Drive Bigfork MT 59911;X-APPLE-RADIUS=500;X-TITLE=833 Grand Drive:geo:-114.0806512,48.0659757
END:VEVENT
BEGIN:VEVENT
DTSTART;TZID=America/Denver:20220316T163000
DTEND;TZID=America/Denver:20220316T190000
DTSTAMP:20260419T104542
CREATED:20220208T203145Z
LAST-MODIFIED:20220208T203239Z
UID:10007937-1647448200-1647457200@bigfork.org
SUMMARY:Cowabunga Auditions at BF Playhouse Children's Theater
DESCRIPTION:It’s our favorite time of year… COWABUNGA!\n\n\nThis year’s theme is MADCOWGASCAR – “We like to mooo-vit!”\n\n\nAuditions will be taking place March 15th – 16th. Audition registration forms will be available in the next couple of days and can be found at Bigfork ACES\, the Elementary office\, the high school office or by emailing bigfork.cowabunga@gmail.com.\n\n\nRegistration forms will be due March 10th!
URL:https://bigfork.org/event/cowabunga-auditions-at-childrens-playhouse/2022-03-16/
LOCATION:Bigfork Playhouse Children’s Theatre Afterschool Center\, 833 Grand Drive\, Bigfork\, MT\, 59911
CATEGORIES:Art,Community
GEO:48.0659757;-114.0806512
X-APPLE-STRUCTURED-LOCATION;VALUE=URI;X-ADDRESS=Bigfork Playhouse Children’s Theatre Afterschool Center 833 Grand Drive Bigfork MT 59911;X-APPLE-RADIUS=500;X-TITLE=833 Grand Drive:geo:-114.0806512,48.0659757
END:VEVENT
BEGIN:VEVENT
DTSTART;TZID=America/Denver:20220315T163000
DTEND;TZID=America/Denver:20220315T190000
DTSTAMP:20260419T104542
CREATED:20220208T203145Z
LAST-MODIFIED:20220208T203239Z
UID:10007936-1647361800-1647370800@bigfork.org
SUMMARY:Cowabunga Auditions at BF Playhouse Children's Theater
DESCRIPTION:It’s our favorite time of year… COWABUNGA!\n\n\nThis year’s theme is MADCOWGASCAR – “We like to mooo-vit!”\n\n\nAuditions will be taking place March 15th – 16th. Audition registration forms will be available in the next couple of days and can be found at Bigfork ACES\, the Elementary office\, the high school office or by emailing bigfork.cowabunga@gmail.com.\n\n\nRegistration forms will be due March 10th!
URL:https://bigfork.org/event/cowabunga-auditions-at-childrens-playhouse/2022-03-15/
LOCATION:Bigfork Playhouse Children’s Theatre Afterschool Center\, 833 Grand Drive\, Bigfork\, MT\, 59911
CATEGORIES:Art,Community
GEO:48.0659757;-114.0806512
X-APPLE-STRUCTURED-LOCATION;VALUE=URI;X-ADDRESS=Bigfork Playhouse Children’s Theatre Afterschool Center 833 Grand Drive Bigfork MT 59911;X-APPLE-RADIUS=500;X-TITLE=833 Grand Drive:geo:-114.0806512,48.0659757
END:VEVENT
BEGIN:VEVENT
DTSTART;TZID=America/Denver:20211116T163000
DTEND;TZID=America/Denver:20211116T200000
DTSTAMP:20260419T104542
CREATED:20211102T190030Z
LAST-MODIFIED:20211102T190030Z
UID:10007698-1637080200-1637092800@bigfork.org
SUMMARY:Auditions for Bigfork Playhouse Children's Theater Elf Musical
DESCRIPTION:Calling all Actors – 3rd through Adult.  Come be like Buddy the Elf!  The Bigfork Playhouse Children’s Theater invites students grades 3 through Adult to audition for our annual Christmas production.  This year we are presenting ELF the Musical.  Buddy the elf is raised\, unaware that he is actually a human\, until his enormous size and poor toy-making abilities cause him to face the truth. With Santa’s permission\, Buddy embarks on a journey to New York City to find his birth father and discover his true identity. Faced with the harsh reality that his father is on the naughty list and that his half-brother doesn’t even believe in Santa\, Buddy is determined to win over his new family and help New York remember the true meaning of Christmas. \nAuditions for Elf the Musical will be held at the Bigfork Playhouse Children’s Theatre Afterschool Arts CENTER on Tuesday (November 16 – on 833 Grand Ave.) \nfrom 4:30 – 5:30 for grades 3 and 4\, from 5:30 – 6:30 for Grade 5 – 7 and from 6:30-8:00 for grades 8 through Adult. \nThis production calls for medium sized cast and cost nothing to audition. There is a $50 fee to participate in the production if cast in the show.  Please prepare a 30 second Monologue or selection from another play or book\, and plan to learn and sing something for us.  If you don’t have experience or can’t find something to prepare\, we’ll have materials at the CENTER for you.   (tentative rehearsal schedules will be at the auditions)  Performances Dec 10\, 11\, 12\,  17\, 18 & 19 \nNot interested in stage work but would like to be involved? Give us a call! We need some help with set building and technical assistance for the production too.  Parental and student assistance is welcome.  For more information email bpct@bigforksummerplayhouse.com \ncheck our website at www.bigforksummerplayhouse.com \nSo come on down for a “Sparklejollytwinklejingley” time.\nThe Bigfork Playhouse Children’s Theater would love to see YOU in Elf – the Musical. \n 
URL:https://bigfork.org/event/auditions-for-bigfork-playhouse-childrens-theater-elf-musical/
LOCATION:Bigfork Playhouse Children’s Theatre Afterschool Center\, 833 Grand Drive\, Bigfork\, MT\, 59911
CATEGORIES:Art,Community
GEO:48.0659757;-114.0806512
X-APPLE-STRUCTURED-LOCATION;VALUE=URI;X-ADDRESS=Bigfork Playhouse Children’s Theatre Afterschool Center 833 Grand Drive Bigfork MT 59911;X-APPLE-RADIUS=500;X-TITLE=833 Grand Drive:geo:-114.0806512,48.0659757
END:VEVENT
BEGIN:VEVENT
DTSTART;TZID=America/Denver:20211027T090000
DTEND;TZID=America/Denver:20211027T100000
DTSTAMP:20260419T104542
CREATED:20211019T195842Z
LAST-MODIFIED:20211019T200014Z
UID:10009170-1635325200-1635328800@bigfork.org
SUMMARY:Christmas Committee Meeting at BF Children's Theatre
DESCRIPTION:Love Montana’s Christmas Village?  Now is your chance to bring in some fresh ideas!! \nWe are meeting on October 27th at 9 am at the Bigfork Children’s Theatre (833 Grand Drive).  If you are not able to attend but would still like to be on the committee\, please email chamber@bigfork.org. \nBelow are notes from our initial 2019 meeting just to refresh everyone’s memory of what “normal” years look like. \nNov 23 – Decorating Day\, Art Walk\, Tree Lighting Ceremony\nNov 30 – Shop Small / Small business\nDec 4 – Wine Stroll – Mountain Lake Lodge\nDec 5 – Bigfork Shopping Spectacular\nDec 6 (deadline to enter) – Christmas Window Display contest\nDec 7 – Parade of Lights / Touch of Christmas Concert / Santa in Bigfork\nDec 12 – Sundowner – Clearwater Properties\nDec 13-14-15-20-21 – A Christmas Story\nDec 17 – Christmas Caroling at Lakeview Care Center – Community Caroling in Downtown Bigfork (led by BPCT)\nDec 18 – BHS Christmas Band Concert\nDec 21 – Santa in Bigfork / Procrastinators Christmas Shopping event
URL:https://bigfork.org/event/christmas-committee-meeting-at-bpac/
LOCATION:Bigfork Playhouse Children’s Theatre Afterschool Center\, 833 Grand Drive\, Bigfork\, MT\, 59911
CATEGORIES:Community
GEO:48.0659757;-114.0806512
X-APPLE-STRUCTURED-LOCATION;VALUE=URI;X-ADDRESS=Bigfork Playhouse Children’s Theatre Afterschool Center 833 Grand Drive Bigfork MT 59911;X-APPLE-RADIUS=500;X-TITLE=833 Grand Drive:geo:-114.0806512,48.0659757
END:VEVENT
END:VCALENDAR