BEGIN:VCALENDAR
VERSION:2.0
PRODID:-//Bigfork | Small Village - Big Adventure - ECPv6.15.20//NONSGML v1.0//EN
CALSCALE:GREGORIAN
METHOD:PUBLISH
X-ORIGINAL-URL:https://bigfork.org
X-WR-CALDESC:Events for Bigfork | Small Village - Big Adventure
REFRESH-INTERVAL;VALUE=DURATION:PT1H
X-Robots-Tag:noindex
X-PUBLISHED-TTL:PT1H
BEGIN:VTIMEZONE
TZID:America/Denver
BEGIN:DAYLIGHT
TZOFFSETFROM:-0700
TZOFFSETTO:-0600
TZNAME:MDT
DTSTART:20250309T090000
END:DAYLIGHT
BEGIN:STANDARD
TZOFFSETFROM:-0600
TZOFFSETTO:-0700
TZNAME:MST
DTSTART:20251102T080000
END:STANDARD
BEGIN:DAYLIGHT
TZOFFSETFROM:-0700
TZOFFSETTO:-0600
TZNAME:MDT
DTSTART:20260308T090000
END:DAYLIGHT
BEGIN:STANDARD
TZOFFSETFROM:-0600
TZOFFSETTO:-0700
TZNAME:MST
DTSTART:20261101T080000
END:STANDARD
BEGIN:DAYLIGHT
TZOFFSETFROM:-0700
TZOFFSETTO:-0600
TZNAME:MDT
DTSTART:20270314T090000
END:DAYLIGHT
BEGIN:STANDARD
TZOFFSETFROM:-0600
TZOFFSETTO:-0700
TZNAME:MST
DTSTART:20271107T080000
END:STANDARD
END:VTIMEZONE
BEGIN:VEVENT
DTSTART;TZID=America/Denver:20260816T150000
DTEND;TZID=America/Denver:20260816T183000
DTSTAMP:20260422T134931
CREATED:20260421T160524Z
LAST-MODIFIED:20260421T160524Z
UID:10036680-1786892400-1786905000@bigfork.org
SUMMARY:Summer Soirée in the Swan
DESCRIPTION:This year marks our seventh-annual Summer Soirée in the Swan\, a fundraising event\, during which we celebrate this special place and raise funds for the programs\, services\, and experiences that Swan Valley Connections continues to offer. \nSunday\, August 16\, 2026\nThe Nest on Swan River\n3:00PM-6:30PM\nDelicious food from The Kopper Kitchen\nHosted bar\nSilent & online auction\nMusic \nEarly Bird Tickets: $50\nStandard Tickets (starting May 15): $65\nhttps://swan.app.neoncrm.com/np/clients/swan/eventRegistration.jsp?event=1650& \nSpace is limited!
URL:https://bigfork.org/event/summer-soiree-in-the-swan-5/
LOCATION:The Nest on Swan River\, 600 Three Eagle Lane\, Bigfork\, MT\, 59911\, United States
CATEGORIES:Community,Food,Music
ATTACH;FMTTYPE=image/png:https://bigfork.org/wp-content/uploads/2026/04/Screenshot-2026-04-15-at-9.19.59-AM.png
ORGANIZER;CN="Swan Valley Connections":MAILTO:taylor@svconnections.org
GEO:48.0708761;-114.005486
X-APPLE-STRUCTURED-LOCATION;VALUE=URI;X-ADDRESS=The Nest on Swan River 600 Three Eagle Lane Bigfork MT 59911 United States;X-APPLE-RADIUS=500;X-TITLE=600 Three Eagle Lane:geo:-114.005486,48.0708761
END:VEVENT
END:VCALENDAR