BEGIN:VCALENDAR
VERSION:2.0
PRODID:-//Bigfork | Small Village - Big Adventure - ECPv6.15.20//NONSGML v1.0//EN
CALSCALE:GREGORIAN
METHOD:PUBLISH
X-ORIGINAL-URL:https://bigfork.org
X-WR-CALDESC:Events for Bigfork | Small Village - Big Adventure
REFRESH-INTERVAL;VALUE=DURATION:PT1H
X-Robots-Tag:noindex
X-PUBLISHED-TTL:PT1H
BEGIN:VTIMEZONE
TZID:America/Denver
BEGIN:DAYLIGHT
TZOFFSETFROM:-0700
TZOFFSETTO:-0600
TZNAME:MDT
DTSTART:20230312T090000
END:DAYLIGHT
BEGIN:STANDARD
TZOFFSETFROM:-0600
TZOFFSETTO:-0700
TZNAME:MST
DTSTART:20231105T080000
END:STANDARD
BEGIN:DAYLIGHT
TZOFFSETFROM:-0700
TZOFFSETTO:-0600
TZNAME:MDT
DTSTART:20240310T090000
END:DAYLIGHT
BEGIN:STANDARD
TZOFFSETFROM:-0600
TZOFFSETTO:-0700
TZNAME:MST
DTSTART:20241103T080000
END:STANDARD
BEGIN:DAYLIGHT
TZOFFSETFROM:-0700
TZOFFSETTO:-0600
TZNAME:MDT
DTSTART:20250309T090000
END:DAYLIGHT
BEGIN:STANDARD
TZOFFSETFROM:-0600
TZOFFSETTO:-0700
TZNAME:MST
DTSTART:20251102T080000
END:STANDARD
END:VTIMEZONE
BEGIN:VEVENT
DTSTART;TZID=America/Denver:20240305T120000
DTEND;TZID=America/Denver:20240305T130000
DTSTAMP:20260421T022619
CREATED:20240205T173029Z
LAST-MODIFIED:20240213T185341Z
UID:10024808-1709640000-1709643600@bigfork.org
SUMMARY:Business Efficiencies That Impact the Bottom Line
DESCRIPTION:Business Efficiencies That Impact the Bottom Line \nDate: Tuesday\, March 5\, 2024\nTime: 12 p.m. – 1 p.m.\nLocation: Job Service Kalispell\, 427 1st Avenue East\, Kalispell\nCost: Free to attend\nRegister: Sign up online & select in-person or Zoom option \nEfficient businesses make the most of their resources. If a business operates inefficiently\, incredible amounts of revenue can be lost each year. This seminar will focus on fundamental areas where you can make improvements that directly impact your profitability and working capital. Learn about how a Flathead business implemented real-world efficiencies that worked! \nAttend this seminar to learn:\n• The big four: financial\, process\, marketing\, and vision\n• How to apply efficiency tactics\n• How to manage process changes \nPresenter:\nGarridan Robinett\, Chief Operations Officer for Mountain Meadow Herbs\, Inc.®\, has worked as a team leader in manufacturing. For 20+ years\, he has overseen teams in production\, logistics\, information systems\, quality\, and facilities. His work of increasing efficiencies across business industries demonstrates his passion for continuous improvement and creating sustainable business systems. His hands-on experience in operations\, business development\, and supply chain makes Garridan’s current membership with the Kalispell Chamber of Commerce Manufacturers Alliance a perfect fit. He holds a Bachelor of Business Administration from Washington State University – College of Business and Economics. \nFor more information contact Job Service Kalispell or (406) 758-6200.
URL:https://bigfork.org/event/business-efficiencies-that-impact-the-bottom-line/
LOCATION:Job Service Kalispell\, 427 1st Ave East\, Kalispell\, MT\, 59901\, United States
CATEGORIES:Business
ATTACH;FMTTYPE=image/png:https://bigfork.org/wp-content/uploads/2024/02/Job-Service-Kalispell-logo.png
ORGANIZER;CN="Job Service Kalispell":MAILTO:MMcCarthy@mt.gov
END:VEVENT
END:VCALENDAR