BEGIN:VCALENDAR
VERSION:2.0
PRODID:-//Bigfork | Small Village - Big Adventure - ECPv6.15.20//NONSGML v1.0//EN
CALSCALE:GREGORIAN
METHOD:PUBLISH
X-ORIGINAL-URL:https://bigfork.org
X-WR-CALDESC:Events for Bigfork | Small Village - Big Adventure
REFRESH-INTERVAL;VALUE=DURATION:PT1H
X-Robots-Tag:noindex
X-PUBLISHED-TTL:PT1H
BEGIN:VTIMEZONE
TZID:America/Denver
BEGIN:DAYLIGHT
TZOFFSETFROM:-0700
TZOFFSETTO:-0600
TZNAME:MDT
DTSTART:20250309T090000
END:DAYLIGHT
BEGIN:STANDARD
TZOFFSETFROM:-0600
TZOFFSETTO:-0700
TZNAME:MST
DTSTART:20251102T080000
END:STANDARD
BEGIN:DAYLIGHT
TZOFFSETFROM:-0700
TZOFFSETTO:-0600
TZNAME:MDT
DTSTART:20260308T090000
END:DAYLIGHT
BEGIN:STANDARD
TZOFFSETFROM:-0600
TZOFFSETTO:-0700
TZNAME:MST
DTSTART:20261101T080000
END:STANDARD
BEGIN:DAYLIGHT
TZOFFSETFROM:-0700
TZOFFSETTO:-0600
TZNAME:MDT
DTSTART:20270314T090000
END:DAYLIGHT
BEGIN:STANDARD
TZOFFSETFROM:-0600
TZOFFSETTO:-0700
TZNAME:MST
DTSTART:20271107T080000
END:STANDARD
END:VTIMEZONE
BEGIN:VEVENT
DTSTART;TZID=America/Denver:20260321T193000
DTEND;TZID=America/Denver:20260321T193000
DTSTAMP:20260422T091712
CREATED:20260203T172411Z
LAST-MODIFIED:20260203T172411Z
UID:10036247-1774121400-1774121400@bigfork.org
SUMMARY:The Adams Family at Bigfork Center for Performing Arts
DESCRIPTION:America’s spookiest family comes to life in this ghoulishly funny musical. Wednesday Addams has grown up and fallen in love with a sweet\, smart young man from a “normal” family — but when the two families come together for dinner\, secrets are revealed\, relationships are tested\, and the Addams household faces hilarious chaos with a heartfelt twist. \nPurchase tickets here: https://ci.ovationtix.com/35549/production/1252663 \n 
URL:https://bigfork.org/event/the-adams-family-at-bigfork-center-for-performing-arts-2/2026-03-21/
LOCATION:Bigfork Center for the Performing Arts\, 526 Electric Ave\, Bigfork\, MT\, 59911\, United States
CATEGORIES:Community,Music
ATTACH;FMTTYPE=image/jpeg:https://bigfork.org/wp-content/uploads/2026/02/z-adams.jpg
GEO:48.0623155;-114.0736919
X-APPLE-STRUCTURED-LOCATION;VALUE=URI;X-ADDRESS=Bigfork Center for the Performing Arts 526 Electric Ave Bigfork MT 59911 United States;X-APPLE-RADIUS=500;X-TITLE=526 Electric Ave:geo:-114.0736919,48.0623155
END:VEVENT
END:VCALENDAR