BEGIN:VCALENDAR
VERSION:2.0
PRODID:-//Bigfork | Small Village - Big Adventure - ECPv6.15.20//NONSGML v1.0//EN
CALSCALE:GREGORIAN
METHOD:PUBLISH
X-WR-CALNAME:Bigfork | Small Village - Big Adventure
X-ORIGINAL-URL:https://bigfork.org
X-WR-CALDESC:Events for Bigfork | Small Village - Big Adventure
REFRESH-INTERVAL;VALUE=DURATION:PT1H
X-Robots-Tag:noindex
X-PUBLISHED-TTL:PT1H
BEGIN:VTIMEZONE
TZID:America/Denver
BEGIN:DAYLIGHT
TZOFFSETFROM:-0700
TZOFFSETTO:-0600
TZNAME:MDT
DTSTART:20250309T090000
END:DAYLIGHT
BEGIN:STANDARD
TZOFFSETFROM:-0600
TZOFFSETTO:-0700
TZNAME:MST
DTSTART:20251102T080000
END:STANDARD
BEGIN:DAYLIGHT
TZOFFSETFROM:-0700
TZOFFSETTO:-0600
TZNAME:MDT
DTSTART:20260308T090000
END:DAYLIGHT
BEGIN:STANDARD
TZOFFSETFROM:-0600
TZOFFSETTO:-0700
TZNAME:MST
DTSTART:20261101T080000
END:STANDARD
BEGIN:DAYLIGHT
TZOFFSETFROM:-0700
TZOFFSETTO:-0600
TZNAME:MDT
DTSTART:20270314T090000
END:DAYLIGHT
BEGIN:STANDARD
TZOFFSETFROM:-0600
TZOFFSETTO:-0700
TZNAME:MST
DTSTART:20271107T080000
END:STANDARD
END:VTIMEZONE
BEGIN:VEVENT
DTSTART;TZID=America/Denver:20260716T170000
DTEND;TZID=America/Denver:20260716T190000
DTSTAMP:20260423T030306
CREATED:20260407T162556Z
LAST-MODIFIED:20260407T162904Z
UID:10036510-1784221200-1784228400@bigfork.org
SUMMARY:Flathead Lake Cruise with Flathead Lake Bio Station
DESCRIPTION:Climb aboard the Far West in Lakeside\, MT for the first FLBS/University of Montana Alumni Association (UMAA) Flathead Lake Cruise. Learn about Flathead Lake directly from FLBS scientists while enjoying great food and outstanding conversation with FLBS community members and UM alumni! \nRegistration is required:  Register at: Flathead Lake Research Cruise signup page \n 
URL:https://bigfork.org/event/flathead-lake-cruise-with-flathead-lake-bio-station/
LOCATION:Far West Boat Tours\, 7007 U.S. 93 South\, Lakeside\, MT\, 59922\, United States
CATEGORIES:Community,Education
ATTACH;FMTTYPE=image/png:https://bigfork.org/wp-content/uploads/2026/04/z-cruise.png
GEO:48.0237004;-114.2258396
X-APPLE-STRUCTURED-LOCATION;VALUE=URI;X-ADDRESS=Far West Boat Tours 7007 U.S. 93 South Lakeside MT 59922 United States;X-APPLE-RADIUS=500;X-TITLE=7007 U.S. 93 South:geo:-114.2258396,48.0237004
END:VEVENT
END:VCALENDAR