BEGIN:VCALENDAR
VERSION:2.0
PRODID:-//Bigfork | Small Village - Big Adventure - ECPv6.15.20//NONSGML v1.0//EN
CALSCALE:GREGORIAN
METHOD:PUBLISH
X-WR-CALNAME:Bigfork | Small Village - Big Adventure
X-ORIGINAL-URL:https://bigfork.org
X-WR-CALDESC:Events for Bigfork | Small Village - Big Adventure
REFRESH-INTERVAL;VALUE=DURATION:PT1H
X-Robots-Tag:noindex
X-PUBLISHED-TTL:PT1H
BEGIN:VTIMEZONE
TZID:America/Denver
BEGIN:DAYLIGHT
TZOFFSETFROM:-0700
TZOFFSETTO:-0600
TZNAME:MDT
DTSTART:20250309T090000
END:DAYLIGHT
BEGIN:STANDARD
TZOFFSETFROM:-0600
TZOFFSETTO:-0700
TZNAME:MST
DTSTART:20251102T080000
END:STANDARD
BEGIN:DAYLIGHT
TZOFFSETFROM:-0700
TZOFFSETTO:-0600
TZNAME:MDT
DTSTART:20260308T090000
END:DAYLIGHT
BEGIN:STANDARD
TZOFFSETFROM:-0600
TZOFFSETTO:-0700
TZNAME:MST
DTSTART:20261101T080000
END:STANDARD
BEGIN:DAYLIGHT
TZOFFSETFROM:-0700
TZOFFSETTO:-0600
TZNAME:MDT
DTSTART:20270314T090000
END:DAYLIGHT
BEGIN:STANDARD
TZOFFSETFROM:-0600
TZOFFSETTO:-0700
TZNAME:MST
DTSTART:20271107T080000
END:STANDARD
END:VTIMEZONE
BEGIN:VEVENT
DTSTART;TZID=America/Denver:20260424T180000
DTEND;TZID=America/Denver:20260424T180000
DTSTAMP:20260424T055747
CREATED:20260122T175531Z
LAST-MODIFIED:20260122T175531Z
UID:10036231-1777053600-1777053600@bigfork.org
SUMMARY:International Fly Fishing Film Festival
DESCRIPTION:The international fly fishing film festival consists of premium films produced by professional film makers from all corners of the globe and showcases the passion\, lifestyle\, and culture of fly fishing. It’s the gathering place for the fly fishing community and a celebration of friendship\, stories\, and stoke. \nThe event is benefiting Cast Hope. Cast Hope is a local nonprofit organization positively impacting kids and their mentors through free fly fishing and outdoor experiences. Through their program\, clients build mentoring relationships\, fly fishing skills\, outdoor knowledge\, sustainable practices\, and personal values. Cast Hope’s gift of the outdoors empowers each mentoring pair to grow closer as they participate in healthy hobbies together. More information on the organization can be found here – www.casthope.org . \n  \nHere is the link to purchase tickets – Bigfork\, MT – International Fly Fishing Film Festival® \nHere is the link for the IF4 Trailer: https://vimeo.com/1144590406?fl=pl&fe=sh \nWe will be having a raffle and silent auction at the event. Everyone donating items to the auction/raffle will be recognized as sponsors at the event. \n \n 
URL:https://bigfork.org/event/international-fly-fishing-film-festival-2/
LOCATION:Bigfork Center for the Performing Arts\, 526 Electric Ave\, Bigfork\, MT\, 59911\, United States
CATEGORIES:Community,Education
ATTACH;FMTTYPE=image/jpeg:https://bigfork.org/wp-content/uploads/2026/01/z-fly-fishing.jpg
GEO:48.0623155;-114.0736919
X-APPLE-STRUCTURED-LOCATION;VALUE=URI;X-ADDRESS=Bigfork Center for the Performing Arts 526 Electric Ave Bigfork MT 59911 United States;X-APPLE-RADIUS=500;X-TITLE=526 Electric Ave:geo:-114.0736919,48.0623155
END:VEVENT
BEGIN:VEVENT
DTSTART;TZID=America/Denver:20260424T190000
DTEND;TZID=America/Denver:20260424T190000
DTSTAMP:20260424T055747
CREATED:20260423T172454Z
LAST-MODIFIED:20260423T172454Z
UID:10036695-1777057200-1777057200@bigfork.org
SUMMARY:Dan Dubuque LIVE at Andy's Crafthouse
DESCRIPTION:Experience a truly unique night of live music at Andy’s Crafthouse as Dan Dubuque takes the stage. Dan Dubuque is known for his powerful and unconventional style on the Weissenborn slide guitar. He delivers instrumental performances that blend rock\, blues\, and atmospheric sound into something completely his own. \nWith no vocals and nothing but strings\, rhythm\, and raw energy\, Dan creates an immersive sound that’s both intense and mesmerizing\, transforming familiar tones into something bold\, cinematic\, and unforgettable. \nJoin us for a Friday night filled with live music\, great food\, and craft drinks in the heart of Uptown Bigfork. Whether you’re a guitar enthusiast or just looking for an unforgettable night out\, this is a performance you don’t want to miss. \nGrab a Table Here: \n 
URL:https://bigfork.org/event/dan-dubuque-live-at-andys-crafthouse-3/
LOCATION:Andy’s Crafthouse\, 8030 MT Hwy 35\, Bigfork\, MT\, 59911\, United States
CATEGORIES:Community,Food,Music
ATTACH;FMTTYPE=image/jpeg:https://bigfork.org/wp-content/uploads/2026/04/z-dan.jpg
GEO:48.0768413;-114.0793403
X-APPLE-STRUCTURED-LOCATION;VALUE=URI;X-ADDRESS=Andy’s Crafthouse 8030 MT Hwy 35 Bigfork MT 59911 United States;X-APPLE-RADIUS=500;X-TITLE=8030 MT Hwy 35:geo:-114.0793403,48.0768413
END:VEVENT
BEGIN:VEVENT
DTSTART;TZID=America/Denver:20260424T193000
DTEND;TZID=America/Denver:20260424T193000
DTSTAMP:20260424T055747
CREATED:20260326T165805Z
LAST-MODIFIED:20260326T165934Z
UID:10036424-1777059000-1777059000@bigfork.org
SUMMARY:Trivia then Karaoke after Party at Taco Loco
DESCRIPTION:Join us Friday nights for Trivia with Brook Robinson.  We’ll have great food\, great drinks and immediately following KARAOKE for a fun night out in downtown Bigfork.\nThen tonight at 7:30 PM\, join us for Trivia with Brook — best Mexican home cooking\, handcrafted cocktails\, and a fun night out in downtown Bigfork.\n\nPuente Viejo (Taco Loco) 260 River Street downtown Bigfork 406-420-2828
URL:https://bigfork.org/event/trivia-then-karaoke-after-party-at-taco-loco/2026-04-24/
LOCATION:Puente Viejo Cantina (Taco Loco)\, 260 River Street\, Bigfork\, MT\, 59911\, United States
CATEGORIES:Community,Food
ATTACH;FMTTYPE=image/jpeg:https://bigfork.org/wp-content/uploads/2026/03/z-taco-loco.jpg
END:VEVENT
END:VCALENDAR