BEGIN:VCALENDAR
VERSION:2.0
PRODID:-//Bigfork | Small Village - Big Adventure - ECPv6.15.20//NONSGML v1.0//EN
CALSCALE:GREGORIAN
METHOD:PUBLISH
X-ORIGINAL-URL:https://bigfork.org
X-WR-CALDESC:Events for Bigfork | Small Village - Big Adventure
REFRESH-INTERVAL;VALUE=DURATION:PT1H
X-Robots-Tag:noindex
X-PUBLISHED-TTL:PT1H
BEGIN:VTIMEZONE
TZID:America/Denver
BEGIN:DAYLIGHT
TZOFFSETFROM:-0700
TZOFFSETTO:-0600
TZNAME:MDT
DTSTART:20240310T090000
END:DAYLIGHT
BEGIN:STANDARD
TZOFFSETFROM:-0600
TZOFFSETTO:-0700
TZNAME:MST
DTSTART:20241103T080000
END:STANDARD
BEGIN:DAYLIGHT
TZOFFSETFROM:-0700
TZOFFSETTO:-0600
TZNAME:MDT
DTSTART:20250309T090000
END:DAYLIGHT
BEGIN:STANDARD
TZOFFSETFROM:-0600
TZOFFSETTO:-0700
TZNAME:MST
DTSTART:20251102T080000
END:STANDARD
BEGIN:DAYLIGHT
TZOFFSETFROM:-0700
TZOFFSETTO:-0600
TZNAME:MDT
DTSTART:20260308T090000
END:DAYLIGHT
BEGIN:STANDARD
TZOFFSETFROM:-0600
TZOFFSETTO:-0700
TZNAME:MST
DTSTART:20261101T080000
END:STANDARD
END:VTIMEZONE
BEGIN:VEVENT
DTSTART;TZID=America/Denver:20250904T110000
DTEND;TZID=America/Denver:20250904T130000
DTSTAMP:20260420T141743
CREATED:20231122T203928Z
LAST-MODIFIED:20251113T203138Z
UID:10016234-1756983600-1756990800@bigfork.org
SUMMARY:Drop in Fiber Circle
DESCRIPTION:Working on a project?  Come join us at Fiber on Thursdays from 11-1 and bring your project and meet other knitters and crocheters!!
URL:https://bigfork.org/event/drop-in-fiber-circle-2/2025-09-04/
LOCATION:Fiber\, LLC\, 7984 Highway 35\, Bigfork\, MT\, 59911\, United States
CATEGORIES:Community
GEO:48.0777333;-114.0790862
X-APPLE-STRUCTURED-LOCATION;VALUE=URI;X-ADDRESS=Fiber LLC 7984 Highway 35 Bigfork MT 59911 United States;X-APPLE-RADIUS=500;X-TITLE=7984 Highway 35:geo:-114.0790862,48.0777333
END:VEVENT
BEGIN:VEVENT
DTSTART;TZID=America/Denver:20250904T170000
DTEND;TZID=America/Denver:20250904T170000
DTSTAMP:20260420T141743
CREATED:20250814T183313Z
LAST-MODIFIED:20250814T183313Z
UID:10033354-1757005200-1757005200@bigfork.org
SUMMARY:CFBB Fall Auction
DESCRIPTION:Join us for our annual Auction on Thursday\, September 4th at 5pm at the Garden Bar. \nTickets are $10 and provides food\, beer\, and wine. \nWe will have amazing local live and silent auction items galore! \nAll money raised at this event go directly to projects benefiting the Bigfork community. \n 
URL:https://bigfork.org/event/cfbb-fall-auction-2/
LOCATION:Garden Bar\, 451 Electric Avenue\, Bigfork\, MT\, 59911\, United States
CATEGORIES:Community
ATTACH;FMTTYPE=image/png:https://bigfork.org/wp-content/uploads/2025/08/z-cfbb.png
GEO:48.0613304;-114.0732233
X-APPLE-STRUCTURED-LOCATION;VALUE=URI;X-ADDRESS=Garden Bar 451 Electric Avenue Bigfork MT 59911 United States;X-APPLE-RADIUS=500;X-TITLE=451 Electric Avenue:geo:-114.0732233,48.0613304
END:VEVENT
BEGIN:VEVENT
DTSTART;TZID=America/Denver:20250904T173000
DTEND;TZID=America/Denver:20250904T173000
DTSTAMP:20260420T141743
CREATED:20240926T170340Z
LAST-MODIFIED:20240926T180053Z
UID:10013323-1757007000-1757007000@bigfork.org
SUMMARY:Bingo at VFW
DESCRIPTION:Join us at the Bigfork VFW for BINGO night every Thursday at 5:30pm.  Restaurant open until 9pm.
URL:https://bigfork.org/event/bingo-at-vfw-3-2/2025-09-04/
LOCATION:VFW Post 4042 Bigfork\, 8098 Montana Highway 35\, Bigfork\, MT\, 59911\, United States
CATEGORIES:Community
ATTACH;FMTTYPE=image/jpeg:https://bigfork.org/wp-content/uploads/2024/09/z-vfw-bingo.jpg
GEO:48.0739296;-114.0802386
X-APPLE-STRUCTURED-LOCATION;VALUE=URI;X-ADDRESS=VFW Post 4042 Bigfork 8098 Montana Highway 35 Bigfork MT 59911 United States;X-APPLE-RADIUS=500;X-TITLE=8098 Montana Highway 35:geo:-114.0802386,48.0739296
END:VEVENT
BEGIN:VEVENT
DTSTART;TZID=America/Denver:20250904T190000
DTEND;TZID=America/Denver:20250904T190000
DTSTAMP:20260420T141743
CREATED:20250904T170203Z
LAST-MODIFIED:20250904T170203Z
UID:10033384-1757012400-1757012400@bigfork.org
SUMMARY:Kenan Flannery LIVE at Andy's Crafthouse
DESCRIPTION:Kenan Flannery Live at Andy’s Crafthouse \nPraised for writing “bone-breakingly beautiful” music.\nKenan Flannery is a 25-year-old IYMA’s award-winning folk songwriter from Dublin\, Ireland.\nJoin us on Thursday\, September 4th at Andy’s Crafthouse to hear folk music in it’s most authentic and raw form starting at 7pm.\nYou absolutely do not want to miss this show!
URL:https://bigfork.org/event/kenan-flannery-live-at-andys-crafthouse/
LOCATION:Andy’s Crafthouse\, 8030 MT Hwy 35\, Bigfork\, MT\, 59911\, United States
CATEGORIES:Community,Food,Music
ATTACH;FMTTYPE=image/png:https://bigfork.org/wp-content/uploads/2025/09/z-andys.png
GEO:48.0768413;-114.0793403
X-APPLE-STRUCTURED-LOCATION;VALUE=URI;X-ADDRESS=Andy’s Crafthouse 8030 MT Hwy 35 Bigfork MT 59911 United States;X-APPLE-RADIUS=500;X-TITLE=8030 MT Hwy 35:geo:-114.0793403,48.0768413
END:VEVENT
BEGIN:VEVENT
DTSTART;TZID=America/Denver:20250904T193000
DTEND;TZID=America/Denver:20250904T193000
DTSTAMP:20260420T141743
CREATED:20250724T181231Z
LAST-MODIFIED:20250826T191026Z
UID:10033262-1757014200-1757014200@bigfork.org
SUMMARY:The Hits at Bigfork Center for Performing Arts
DESCRIPTION:Hits From the 50’s\, 60’s\, 70’s & 80’s (G-family)\n\n\n\n\nAugust 28-29-30-31\nSeptember  4 – 5 – 6  7:30 \n\n\n\n\n\n\n\n\nThe 50’s\, 60’s\, 70’s & 80s were 4 decades of some of the finest Rock and Roll music! Enjoy an evening of staged hits from artists like The Ronnettes\, Chuck Berry\, Elvis Presley\, Billy Joel\, The Four Seasons\, The Spaniels\, Elton John\, Cyndi Lauper\, The Big Bopper and many more as the Bigfork Summer Playhouse brings you the Hits of the 50’s\, 60’s\, and 70’s live onstage! (different than last summer’s lineup) \n\n** please note\, the performance on August 31st will begin at 2pm.
URL:https://bigfork.org/event/the-hits-at-bigfork-center-for-performing-arts-2/2025-09-04/
LOCATION:Bigfork Center for the Performing Arts\, 526 Electric Ave\, Bigfork\, MT\, 59911\, United States
CATEGORIES:Art,Community,Music
ATTACH;FMTTYPE=image/png:https://bigfork.org/wp-content/uploads/2025/05/z-hits.png
GEO:48.0623155;-114.0736919
X-APPLE-STRUCTURED-LOCATION;VALUE=URI;X-ADDRESS=Bigfork Center for the Performing Arts 526 Electric Ave Bigfork MT 59911 United States;X-APPLE-RADIUS=500;X-TITLE=526 Electric Ave:geo:-114.0736919,48.0623155
END:VEVENT
BEGIN:VEVENT
DTSTART;TZID=America/Denver:20250904T210000
DTEND;TZID=America/Denver:20250904T210000
DTSTAMP:20260420T141743
CREATED:20250617T184150Z
LAST-MODIFIED:20250619T171451Z
UID:10032683-1757019600-1757019600@bigfork.org
SUMMARY:Barton & Barber LIVE at The Garden Bar
DESCRIPTION:Join us for LIVE music at the Garden Bar with Barton & Barber.  Don’t miss it!
URL:https://bigfork.org/event/barton-barber-live-at-the-garden-bar/2025-09-04/
LOCATION:Garden Bar\, 451 Electric Avenue\, Bigfork\, MT\, 59911\, United States
CATEGORIES:Community,Food,Music
GEO:48.0613304;-114.0732233
X-APPLE-STRUCTURED-LOCATION;VALUE=URI;X-ADDRESS=Garden Bar 451 Electric Avenue Bigfork MT 59911 United States;X-APPLE-RADIUS=500;X-TITLE=451 Electric Avenue:geo:-114.0732233,48.0613304
END:VEVENT
END:VCALENDAR