BEGIN:VCALENDAR
VERSION:2.0
PRODID:-//Bigfork | Small Village - Big Adventure - ECPv6.15.20//NONSGML v1.0//EN
CALSCALE:GREGORIAN
METHOD:PUBLISH
X-ORIGINAL-URL:https://bigfork.org
X-WR-CALDESC:Events for Bigfork | Small Village - Big Adventure
REFRESH-INTERVAL;VALUE=DURATION:PT1H
X-Robots-Tag:noindex
X-PUBLISHED-TTL:PT1H
BEGIN:VTIMEZONE
TZID:America/Denver
BEGIN:DAYLIGHT
TZOFFSETFROM:-0700
TZOFFSETTO:-0600
TZNAME:MDT
DTSTART:20240310T090000
END:DAYLIGHT
BEGIN:STANDARD
TZOFFSETFROM:-0600
TZOFFSETTO:-0700
TZNAME:MST
DTSTART:20241103T080000
END:STANDARD
BEGIN:DAYLIGHT
TZOFFSETFROM:-0700
TZOFFSETTO:-0600
TZNAME:MDT
DTSTART:20250309T090000
END:DAYLIGHT
BEGIN:STANDARD
TZOFFSETFROM:-0600
TZOFFSETTO:-0700
TZNAME:MST
DTSTART:20251102T080000
END:STANDARD
BEGIN:DAYLIGHT
TZOFFSETFROM:-0700
TZOFFSETTO:-0600
TZNAME:MDT
DTSTART:20260308T090000
END:DAYLIGHT
BEGIN:STANDARD
TZOFFSETFROM:-0600
TZOFFSETTO:-0700
TZNAME:MST
DTSTART:20261101T080000
END:STANDARD
END:VTIMEZONE
BEGIN:VEVENT
DTSTART;TZID=America/Denver:20250714T100000
DTEND;TZID=America/Denver:20250714T150000
DTSTAMP:20260420T070422
CREATED:20250501T194906Z
LAST-MODIFIED:20250501T194906Z
UID:10031916-1752487200-1752505200@bigfork.org
SUMMARY:Kids Summer Camp at BACC
DESCRIPTION:Kids Summer Camp at BACC (1 week long M-F)\nJuly session: Art inside and out!\n\nJoin us for the Bigfork Art and Cultural Center’s 2025 Summer Art Camp\, where creativity and nature intertwine! Designed for young artists aged 6-12\, this week-long camp offers a diverse range of activities\, including outdoor crafts\, drawing\, sculpting\, and canvas painting. Our experienced instructors will guide participants through each project\, fostering artistic expression and appreciation for the natural beauty of Bigfork\, Montana. The camp runs from 10:00 AM to 3:00 PM\, providing a full day of artistic exploration and fun. Don’t miss this opportunity to inspire your child’s creativity in a supportive and engaging environment. \n\nSign Up
URL:https://bigfork.org/event/kids-summer-camp-at-bacc-2/
LOCATION:Bigfork Art and Cultural Center\, 525 Electric Ave\, Bigfork\, MT\, 59911\, United States
CATEGORIES:Community
ATTACH;FMTTYPE=image/png:https://bigfork.org/wp-content/uploads/2025/05/z-bacc-summer-camp-kids-july.png
GEO:48.0622919;-114.0730779
X-APPLE-STRUCTURED-LOCATION;VALUE=URI;X-ADDRESS=Bigfork Art and Cultural Center 525 Electric Ave Bigfork MT 59911 United States;X-APPLE-RADIUS=500;X-TITLE=525 Electric Ave:geo:-114.0730779,48.0622919
END:VEVENT
BEGIN:VEVENT
DTSTART;TZID=America/Denver:20250714T170000
DTEND;TZID=America/Denver:20250714T200000
DTSTAMP:20260420T070422
CREATED:20250515T191930Z
LAST-MODIFIED:20250529T162759Z
UID:10032224-1752512400-1752523200@bigfork.org
SUMMARY:Bigfork Monday Market & LIVE Music
DESCRIPTION:This is our 8th year of making Mondays in Bigfork just a little more fun. The BMM is a weekly summer market that includes: Fresh Goods\, Bakers\, Artists\, Food Trucks\, Cocktails\, Live Music and a chance to dance with your neighbors & friends—GOOD TIMES for all! We are a family-friendly event and assure you that there is something at our market for all ages.  \nNON PROFIT ORGANIZATIONS – Each week at our event\, we offer up a booth to a local non profit organization so that they may educate the community on their mission. Please contact us directly via the contact form to schedule your NP! \nSPONSORS – Interested in sponsoring our event? We would love to have you support the BMM. Please reach out to us via the contact form for more information. \n2025 Music Lineup:  \nMay 26th:       David Walburn and Michael Atherton \nJune 2nd:        Pocket Aces \nJune 9th:         Tim Helnore Trio \nJune 16th:       Mudslide Charley \nJune 23rd:       Wildwind \nJune 30th:        Tommy Edwards Jr and Sr \nJuly 7th:           Mike Murray Duo \nJuly 14th:         Dead and Down \nJuly 21st:         Tobacco River Ramblers \nJuly 28th:         Winnie Brave \nAugust 4th:      Joe Martinez \nAugust 11th:    Fetveit Brothers \nAugust 18th:    20 Grand \nAugust 25th:    Rylee and John Mix \nSept 1st:           Kenan Flannery & Isaac Elliott (from Ireland!) \n  \n  \n 
URL:https://bigfork.org/event/bigfork-monday-market-live-music/2025-07-14/
LOCATION:River View Bar
CATEGORIES:Art,Community,Food,Music,Special Events
ATTACH;FMTTYPE=image/jpeg:https://bigfork.org/wp-content/uploads/2024/04/z-bigfork-monday-market2.jpg
GEO:48.0610275;-114.0718917
END:VEVENT
BEGIN:VEVENT
DTSTART;TZID=America/Denver:20250714T180000
DTEND;TZID=America/Denver:20250714T200000
DTSTAMP:20260420T070422
CREATED:20250610T185046Z
LAST-MODIFIED:20250610T185046Z
UID:10032305-1752516000-1752523200@bigfork.org
SUMMARY:Katie Rose LIVE at The Raven
DESCRIPTION:Join us at The Raven for LIVE music with Katie Rose.  It’s also Margarita Monday too!  We hope to see you!
URL:https://bigfork.org/event/katie-rose-live-at-the-raven-2/
LOCATION:The Raven\, 15321 Montana Hwy 35\, Bigfork\, MT\, 59911\, United States
CATEGORIES:Community,Food,Music
END:VEVENT
END:VCALENDAR