BEGIN:VCALENDAR
VERSION:2.0
PRODID:-//Bigfork | Small Village - Big Adventure - ECPv6.15.20//NONSGML v1.0//EN
CALSCALE:GREGORIAN
METHOD:PUBLISH
X-WR-CALNAME:Bigfork | Small Village - Big Adventure
X-ORIGINAL-URL:https://bigfork.org
X-WR-CALDESC:Events for Bigfork | Small Village - Big Adventure
REFRESH-INTERVAL;VALUE=DURATION:PT1H
X-Robots-Tag:noindex
X-PUBLISHED-TTL:PT1H
BEGIN:VTIMEZONE
TZID:America/Denver
BEGIN:DAYLIGHT
TZOFFSETFROM:-0700
TZOFFSETTO:-0600
TZNAME:MDT
DTSTART:20240310T090000
END:DAYLIGHT
BEGIN:STANDARD
TZOFFSETFROM:-0600
TZOFFSETTO:-0700
TZNAME:MST
DTSTART:20241103T080000
END:STANDARD
BEGIN:DAYLIGHT
TZOFFSETFROM:-0700
TZOFFSETTO:-0600
TZNAME:MDT
DTSTART:20250309T090000
END:DAYLIGHT
BEGIN:STANDARD
TZOFFSETFROM:-0600
TZOFFSETTO:-0700
TZNAME:MST
DTSTART:20251102T080000
END:STANDARD
BEGIN:DAYLIGHT
TZOFFSETFROM:-0700
TZOFFSETTO:-0600
TZNAME:MDT
DTSTART:20260308T090000
END:DAYLIGHT
BEGIN:STANDARD
TZOFFSETFROM:-0600
TZOFFSETTO:-0700
TZNAME:MST
DTSTART:20261101T080000
END:STANDARD
END:VTIMEZONE
BEGIN:VEVENT
DTSTART;TZID=America/Denver:20250101T133000
DTEND;TZID=America/Denver:20250101T133000
DTSTAMP:20260420T061025
CREATED:20241219T210139Z
LAST-MODIFIED:20241219T210840Z
UID:10030582-1735738200-1735738200@bigfork.org
SUMMARY:Polar Bear Plunge on Flathead Lake
DESCRIPTION:Ring in 2025 with the Annual Flathead Lake Polar Bear Plunge! \nThe 2025 Polar Plunge on Flathead lake takes place at The Raven on January 1st! It usually starts around 1:30. Come early and enjoy Brunch and wintry cocktails at The Sitting Duck from 10am-3pm! \nDate: January 1\, 2025 \nTime: Parade starts at 1:45 PM\, followed by the plunge \nWhere: Flathead Lake\, Woods Bay (Meet at The Raven Brew Pub) \nStart your New Year with a splash – literally! Every January 1st\, thrill-seekers and fun-lovers gather at Flathead Lake for a bracing plunge into its icy waters. It’s a unique way to kick off the year\, and it’s become a cherished tradition for the community. \nEvent Highlights: \n• Costumes Welcome! Get creative and dress up for the plunge – the wackier\, the better! \n• Parade: Watch or join a short parade that kicks off the festivities at 1:30 PM. \n• Free Admission: No fees\, just bring your energy and sense of adventure! \n• Family-Friendly Fun: Whether you’re jumping in or cheering from the sidelines\, this event is for everyone. \n• Warm Up Afterward: The Raven Brew Pub will serve refreshments\, and we’ll have all day brunch plus warm winter cocktails at The Sitting Duck! \nBring your swimsuit\, towel\, camera\, and plenty of humor! If you’d rather stay dry\, come support the brave souls taking the plunge. \n 
URL:https://bigfork.org/event/polar-plunge-on-flathead-lake/
LOCATION:The Raven\, 15321 Montana Hwy 35\, Bigfork\, MT\, 59911\, United States
CATEGORIES:Community,Food
ATTACH;FMTTYPE=image/jpeg:https://bigfork.org/wp-content/uploads/2024/12/z-polar.jpg
END:VEVENT
BEGIN:VEVENT
DTSTART;TZID=America/Denver:20250101T183000
DTEND;TZID=America/Denver:20250101T200000
DTSTAMP:20260420T061025
CREATED:20241008T180425Z
LAST-MODIFIED:20241219T182853Z
UID:10028961-1735756200-1735761600@bigfork.org
SUMMARY:Trivia Night at Flathead Lake Brewery
DESCRIPTION:Experience fine Flathead Lake Brewing Co. brews and food while you play trivia for a chance to win $5 FLBC cash for every person on your team at the Pubhouse in Bigfork!\nOur friends at Professional Therapy Associates are back as trivia sponsors! Play on a PTA night for a chance to win the grand prize of a $120 gift certificate to the FLBC Pubhouse.\nPTA is sponsoring the first Wednesday of every month!Oct 2nd / Nov 6th / Dec 4th / Jan 1st / Feb 5th / Mar 5th / Apr 2nd / May 7th\nTrivia Guidelines:– Make sure at least one person on your team has a Smartphone and we will provide instructions on how to join the game when you get here!– We have limited tables available for teams. Please check in with our host so we can accurately seat you.– Come early to secure a table! Once our tables are full we will not be able to let in more teams.
URL:https://bigfork.org/event/trivia-night-at-flathead-lake-brewery-2/2025-01-01/
LOCATION:Flathead Lake Brewing Co. Pubhouse\, 116 Holt Drive\, Bigfork\, MT\, 59911\, United States
CATEGORIES:Community,Food
ATTACH;FMTTYPE=image/jpeg:https://bigfork.org/wp-content/uploads/2024/10/z-trivia.jpg
GEO:48.0642137;-114.0836354
X-APPLE-STRUCTURED-LOCATION;VALUE=URI;X-ADDRESS=Flathead Lake Brewing Co. Pubhouse 116 Holt Drive Bigfork MT 59911 United States;X-APPLE-RADIUS=500;X-TITLE=116 Holt Drive:geo:-114.0836354,48.0642137
END:VEVENT
END:VCALENDAR