BEGIN:VCALENDAR
VERSION:2.0
PRODID:-//Bigfork | Small Village - Big Adventure - ECPv6.15.20//NONSGML v1.0//EN
CALSCALE:GREGORIAN
METHOD:PUBLISH
X-ORIGINAL-URL:https://bigfork.org
X-WR-CALDESC:Events for Bigfork | Small Village - Big Adventure
REFRESH-INTERVAL;VALUE=DURATION:PT1H
X-Robots-Tag:noindex
X-PUBLISHED-TTL:PT1H
BEGIN:VTIMEZONE
TZID:America/Denver
BEGIN:DAYLIGHT
TZOFFSETFROM:-0700
TZOFFSETTO:-0600
TZNAME:MDT
DTSTART:20230312T090000
END:DAYLIGHT
BEGIN:STANDARD
TZOFFSETFROM:-0600
TZOFFSETTO:-0700
TZNAME:MST
DTSTART:20231105T080000
END:STANDARD
BEGIN:DAYLIGHT
TZOFFSETFROM:-0700
TZOFFSETTO:-0600
TZNAME:MDT
DTSTART:20240310T090000
END:DAYLIGHT
BEGIN:STANDARD
TZOFFSETFROM:-0600
TZOFFSETTO:-0700
TZNAME:MST
DTSTART:20241103T080000
END:STANDARD
BEGIN:DAYLIGHT
TZOFFSETFROM:-0700
TZOFFSETTO:-0600
TZNAME:MDT
DTSTART:20250309T090000
END:DAYLIGHT
BEGIN:STANDARD
TZOFFSETFROM:-0600
TZOFFSETTO:-0700
TZNAME:MST
DTSTART:20251102T080000
END:STANDARD
END:VTIMEZONE
BEGIN:VEVENT
DTSTART;TZID=America/Denver:20241227T190000
DTEND;TZID=America/Denver:20241227T190000
DTSTAMP:20260422T104558
CREATED:20241121T172644Z
LAST-MODIFIED:20241121T172644Z
UID:10029925-1735326000-1735326000@bigfork.org
SUMMARY:Guthrie Brown LIVE at Max's
DESCRIPTION:Join us for LIVE music with Guthrie Brown at 7pm on December 27th.  Hope to see you!!
URL:https://bigfork.org/event/guthrie-brown-live-at-maxs/
LOCATION:Max’s\, 125 Village Lane\, Bigfork\, MT\, 59911\, United States
CATEGORIES:Community,Music
ATTACH;FMTTYPE=image/jpeg:https://bigfork.org/wp-content/uploads/2024/11/z-guthrie.jpg
GEO:48.0559437;-114.0743199
X-APPLE-STRUCTURED-LOCATION;VALUE=URI;X-ADDRESS=Max’s 125 Village Lane Bigfork MT 59911 United States;X-APPLE-RADIUS=500;X-TITLE=125 Village Lane:geo:-114.0743199,48.0559437
END:VEVENT
BEGIN:VEVENT
DTSTART;TZID=America/Denver:20241227T190000
DTEND;TZID=America/Denver:20241227T210000
DTSTAMP:20260422T104558
CREATED:20241217T175613Z
LAST-MODIFIED:20241217T175942Z
UID:10030289-1735326000-1735333200@bigfork.org
SUMMARY:Miller Campbell LIVE at Andy's Crafthouse
DESCRIPTION:Miller Campbell Live at Andy’s Crafthouse \nOn Friday\, December 27th\, we’re excited to host the talented Miller Campbell at Andy’s Crafthouse. With a blend of gritty\, heartland rock and coastal cool\, Miller’s intimate confessions disguised as anthems will captivate you.  Don’t miss this opportunity to experience live music at its finest.  We hope to see you there!! \n 
URL:https://bigfork.org/event/miller-campbell-live-at-andys-crafthouse-4/
LOCATION:Andy’s Crafthouse\, 8030 MT Hwy 35\, Bigfork\, MT\, 59911\, United States
CATEGORIES:Community,Food,Music
ATTACH;FMTTYPE=image/png:https://bigfork.org/wp-content/uploads/2024/12/z-miller-campbell.png
GEO:48.0768413;-114.0793403
X-APPLE-STRUCTURED-LOCATION;VALUE=URI;X-ADDRESS=Andy’s Crafthouse 8030 MT Hwy 35 Bigfork MT 59911 United States;X-APPLE-RADIUS=500;X-TITLE=8030 MT Hwy 35:geo:-114.0793403,48.0768413
END:VEVENT
END:VCALENDAR