BEGIN:VCALENDAR
VERSION:2.0
PRODID:-//Bigfork | Small Village - Big Adventure - ECPv6.15.20//NONSGML v1.0//EN
CALSCALE:GREGORIAN
METHOD:PUBLISH
X-WR-CALNAME:Bigfork | Small Village - Big Adventure
X-ORIGINAL-URL:https://bigfork.org
X-WR-CALDESC:Events for Bigfork | Small Village - Big Adventure
REFRESH-INTERVAL;VALUE=DURATION:PT1H
X-Robots-Tag:noindex
X-PUBLISHED-TTL:PT1H
BEGIN:VTIMEZONE
TZID:America/Denver
BEGIN:DAYLIGHT
TZOFFSETFROM:-0700
TZOFFSETTO:-0600
TZNAME:MDT
DTSTART:20230312T090000
END:DAYLIGHT
BEGIN:STANDARD
TZOFFSETFROM:-0600
TZOFFSETTO:-0700
TZNAME:MST
DTSTART:20231105T080000
END:STANDARD
BEGIN:DAYLIGHT
TZOFFSETFROM:-0700
TZOFFSETTO:-0600
TZNAME:MDT
DTSTART:20240310T090000
END:DAYLIGHT
BEGIN:STANDARD
TZOFFSETFROM:-0600
TZOFFSETTO:-0700
TZNAME:MST
DTSTART:20241103T080000
END:STANDARD
BEGIN:DAYLIGHT
TZOFFSETFROM:-0700
TZOFFSETTO:-0600
TZNAME:MDT
DTSTART:20250309T090000
END:DAYLIGHT
BEGIN:STANDARD
TZOFFSETFROM:-0600
TZOFFSETTO:-0700
TZNAME:MST
DTSTART:20251102T080000
END:STANDARD
END:VTIMEZONE
BEGIN:VEVENT
DTSTART;TZID=America/Denver:20241212T110000
DTEND;TZID=America/Denver:20241212T130000
DTSTAMP:20260424T024625
CREATED:20231122T203928Z
LAST-MODIFIED:20251113T203138Z
UID:10016196-1734001200-1734008400@bigfork.org
SUMMARY:Drop in Fiber Circle
DESCRIPTION:Working on a project?  Come join us at Fiber on Thursdays from 11-1 and bring your project and meet other knitters and crocheters!!
URL:https://bigfork.org/event/drop-in-fiber-circle-2/2024-12-12/
LOCATION:Fiber\, LLC\, 7984 Highway 35\, Bigfork\, MT\, 59911\, United States
CATEGORIES:Community
GEO:48.0777333;-114.0790862
X-APPLE-STRUCTURED-LOCATION;VALUE=URI;X-ADDRESS=Fiber LLC 7984 Highway 35 Bigfork MT 59911 United States;X-APPLE-RADIUS=500;X-TITLE=7984 Highway 35:geo:-114.0790862,48.0777333
END:VEVENT
BEGIN:VEVENT
DTSTART;TZID=America/Denver:20241212T170000
DTEND;TZID=America/Denver:20241212T183000
DTSTAMP:20260424T024625
CREATED:20240109T193239Z
LAST-MODIFIED:20241205T194208Z
UID:10022386-1734022800-1734028200@bigfork.org
SUMMARY:Sundowner at Clearwater MT Properties
DESCRIPTION:‘Tis the season for the December Sundowner at Clearwater Montana Properties! Join us for an evening of networking\, holiday updates\, delicious food\, and fantastic prizes. What makes this Sundowner extra special? We’re adding a dash of festive fun with an ugly sweater contest! Dig into your attic treasures or get crafty—everyone’s invited to showcase their most creatively tacky sweaters on December 12th. \nPlan to attend and network with business professionals in the community and hear about upcoming events.  Don’t forget to bring a few dollars for raffle tickets for you chance to win great prizes! The Public is welcome and there is no cost to attend! \n\nSundowners are always held the 2nd Thursday of the month at 5 pm. Location varies.
URL:https://bigfork.org/event/sundowner-at-clearwater-mt-properties/
LOCATION:Clearwater Montana Properties\, 459 Electric Avenue\, Bigfork\, MT\, 59911\, United States
CATEGORIES:Community,Special Events
ATTACH;FMTTYPE=image/jpeg:https://bigfork.org/wp-content/uploads/2024/01/z-ugly-sweater.jpg
GEO:48.061612;-114.0729115
X-APPLE-STRUCTURED-LOCATION;VALUE=URI;X-ADDRESS=Clearwater Montana Properties 459 Electric Avenue Bigfork MT 59911 United States;X-APPLE-RADIUS=500;X-TITLE=459 Electric Avenue:geo:-114.0729115,48.061612
END:VEVENT
BEGIN:VEVENT
DTSTART;TZID=America/Denver:20241212T173000
DTEND;TZID=America/Denver:20241212T173000
DTSTAMP:20260424T024625
CREATED:20240926T170340Z
LAST-MODIFIED:20240926T180053Z
UID:10013285-1734024600-1734024600@bigfork.org
SUMMARY:Bingo at VFW
DESCRIPTION:Join us at the Bigfork VFW for BINGO night every Thursday at 5:30pm.  Restaurant open until 9pm.
URL:https://bigfork.org/event/bingo-at-vfw-3-2/2024-12-12/
LOCATION:VFW Post 4042 Bigfork\, 8098 Montana Highway 35\, Bigfork\, MT\, 59911\, United States
CATEGORIES:Community
ATTACH;FMTTYPE=image/jpeg:https://bigfork.org/wp-content/uploads/2024/09/z-vfw-bingo.jpg
GEO:48.0739296;-114.0802386
X-APPLE-STRUCTURED-LOCATION;VALUE=URI;X-ADDRESS=VFW Post 4042 Bigfork 8098 Montana Highway 35 Bigfork MT 59911 United States;X-APPLE-RADIUS=500;X-TITLE=8098 Montana Highway 35:geo:-114.0802386,48.0739296
END:VEVENT
BEGIN:VEVENT
DTSTART;TZID=America/Denver:20241212T180000
DTEND;TZID=America/Denver:20241212T193000
DTSTAMP:20260424T024625
CREATED:20241121T170355Z
LAST-MODIFIED:20241121T170355Z
UID:10029923-1734026400-1734031800@bigfork.org
SUMMARY:Simply Sound: Healing Frequency Meditation at The Nook
DESCRIPTION:Join us for Simply Sound\, guided by Ai-Yuasa Green from 6:00pm-7:30pm at The Nook at Bigfork Bay. This gathering allows you to put your mind and body at ease with the soothing sounds of traditional instruments. Meditators of all levels are welcomed to include Simply Sound as a part of your wellness routine!\nSave your space at www.thenookbigfork.com
URL:https://bigfork.org/event/simply-sound-healing-frequency-meditation-at-the-nook/
LOCATION:The Nook at Bigfork Bay\, 470 Electric Avenue\, Bigfork\, Montana\, 59911
CATEGORIES:Community
ATTACH;FMTTYPE=image/png:https://bigfork.org/wp-content/uploads/2024/11/Simply-Sound.png
GEO:48.0617408;-114.0736903
X-APPLE-STRUCTURED-LOCATION;VALUE=URI;X-ADDRESS=The Nook at Bigfork Bay 470 Electric Avenue Bigfork Montana 59911;X-APPLE-RADIUS=500;X-TITLE=470 Electric Avenue:geo:-114.0736903,48.0617408
END:VEVENT
BEGIN:VEVENT
DTSTART;TZID=America/Denver:20241212T180000
DTEND;TZID=America/Denver:20241212T210000
DTSTAMP:20260424T024625
CREATED:20240718T152103Z
LAST-MODIFIED:20240718T152103Z
UID:10028002-1734026400-1734037200@bigfork.org
SUMMARY:LIVE Music at The Buffalo Saloon
DESCRIPTION:Join us at the Buffalo Saloon & Casino for LIVE music every Thursday and Saturday night!  We’ve got a great lineup for you! Come out and support your live music venue!
URL:https://bigfork.org/event/live-music-at-the-buffalo-saloon/2024-12-12/
LOCATION:Buffalo Saloon & Casino\, 5 Swan Way\, Bigfork\, MT\, 59911\, United States
CATEGORIES:Community,Food,Music
ATTACH;FMTTYPE=image/jpeg:https://bigfork.org/wp-content/uploads/2024/07/z-buffalo.jpg
GEO:48.0780922;-114.0488518
X-APPLE-STRUCTURED-LOCATION;VALUE=URI;X-ADDRESS=Buffalo Saloon & Casino 5 Swan Way Bigfork MT 59911 United States;X-APPLE-RADIUS=500;X-TITLE=5 Swan Way:geo:-114.0488518,48.0780922
END:VEVENT
BEGIN:VEVENT
DTSTART;TZID=America/Denver:20241212T183000
DTEND;TZID=America/Denver:20241212T183000
DTSTAMP:20260424T024625
CREATED:20241121T200853Z
LAST-MODIFIED:20241121T200853Z
UID:10029944-1734028200-1734028200@bigfork.org
SUMMARY:Sip N Paint at BACC
DESCRIPTION:Join us at the Bigfork Arts and Cultural Center on\n December 12th\n at 6:30 PM\nfor a Christmas Tree Gnome Sip & Paint Class hosted by Will Smith.\n.\n What to expect:\n• Create a charming Christmas Tree Gnome using acrylic paints on a 16×12 stretched canvas.\n• All supplies are included\, so just bring your creativity (and your favorite beverage)!\n Participant Fee: $35  Where: Bigfork Arts and Cultural Center  Sign-up: Use the QR code on the flyer!!!\n\nDon’t miss this chance to get into the holiday spirit and take home your festive masterpiece.
URL:https://bigfork.org/event/sip-n-paint-at-bacc/
LOCATION:Bigfork Art and Cultural Center\, 525 Electric Ave\, Bigfork\, MT\, 59911\, United States
CATEGORIES:Art,Community
ATTACH;FMTTYPE=image/jpeg:https://bigfork.org/wp-content/uploads/2024/11/z-bacc-1.jpg
GEO:48.0622919;-114.0730779
X-APPLE-STRUCTURED-LOCATION;VALUE=URI;X-ADDRESS=Bigfork Art and Cultural Center 525 Electric Ave Bigfork MT 59911 United States;X-APPLE-RADIUS=500;X-TITLE=525 Electric Ave:geo:-114.0730779,48.0622919
END:VEVENT
BEGIN:VEVENT
DTSTART;TZID=America/Denver:20241212T190000
DTEND;TZID=America/Denver:20241212T210000
DTSTAMP:20260424T024625
CREATED:20241203T171214Z
LAST-MODIFIED:20241203T171214Z
UID:10029962-1734030000-1734037200@bigfork.org
SUMMARY:Andy's Crafthouse Christmas Party With Tommy Sr.
DESCRIPTION:Join us for Andy’s Christmas Party! 🎄\nThursday\, December 12th \nGet into the holiday spirit with live music by Tommy Edwards Sr. and our festive Whistling Wonderland Christmas Pop-Up Bar.\nSip on Christmas themed cocktails and enjoy good company.\nSee you at The Crafthouse!
URL:https://bigfork.org/event/andys-crafthouse-christmas-party-with-tommy-sr/
LOCATION:Andy’s Crafthouse\, 8020 MT HIGHWAY 35\, Bigfork\, MT\, 59911\, United States
CATEGORIES:Community,Food,Music
ATTACH;FMTTYPE=image/png:https://bigfork.org/wp-content/uploads/2024/12/CH-Christmas-Party-with-Tommy-Sr-12.12.24-Ev-Cover.png
ORGANIZER;CN="Andy's Crafthouse":MAILTO:marketing@sleepeatdrink.com
GEO:48.0579345;-114.0752677
X-APPLE-STRUCTURED-LOCATION;VALUE=URI;X-ADDRESS=Andy’s Crafthouse 8020 MT HIGHWAY 35 Bigfork MT 59911 United States;X-APPLE-RADIUS=500;X-TITLE=8020 MT HIGHWAY 35:geo:-114.0752677,48.0579345
END:VEVENT
END:VCALENDAR