BEGIN:VCALENDAR
VERSION:2.0
PRODID:-//Bigfork | Small Village - Big Adventure - ECPv6.15.20//NONSGML v1.0//EN
CALSCALE:GREGORIAN
METHOD:PUBLISH
X-ORIGINAL-URL:https://bigfork.org
X-WR-CALDESC:Events for Bigfork | Small Village - Big Adventure
REFRESH-INTERVAL;VALUE=DURATION:PT1H
X-Robots-Tag:noindex
X-PUBLISHED-TTL:PT1H
BEGIN:VTIMEZONE
TZID:America/Denver
BEGIN:DAYLIGHT
TZOFFSETFROM:-0700
TZOFFSETTO:-0600
TZNAME:MDT
DTSTART:20230312T090000
END:DAYLIGHT
BEGIN:STANDARD
TZOFFSETFROM:-0600
TZOFFSETTO:-0700
TZNAME:MST
DTSTART:20231105T080000
END:STANDARD
BEGIN:DAYLIGHT
TZOFFSETFROM:-0700
TZOFFSETTO:-0600
TZNAME:MDT
DTSTART:20240310T090000
END:DAYLIGHT
BEGIN:STANDARD
TZOFFSETFROM:-0600
TZOFFSETTO:-0700
TZNAME:MST
DTSTART:20241103T080000
END:STANDARD
BEGIN:DAYLIGHT
TZOFFSETFROM:-0700
TZOFFSETTO:-0600
TZNAME:MDT
DTSTART:20250309T090000
END:DAYLIGHT
BEGIN:STANDARD
TZOFFSETFROM:-0600
TZOFFSETTO:-0700
TZNAME:MST
DTSTART:20251102T080000
END:STANDARD
END:VTIMEZONE
BEGIN:VEVENT
DTSTART;TZID=America/Denver:20241113T083000
DTEND;TZID=America/Denver:20241113T090000
DTSTAMP:20260420T141631
CREATED:20240827T170841Z
LAST-MODIFIED:20240903T185057Z
UID:10028715-1731486600-1731488400@bigfork.org
SUMMARY:Community Sound Meditation
DESCRIPTION:Weekly Sound Meditation\, Cost – Donation-Based\n\n\nGuided by aiology works\, this morning sound meditation is designed as a part of “The Nook Routine” to help you bring forward your highest intention for the day. Set the tone for your day with our mindfulness community! Meditators of all levels are welcome. Register to reserve your space at thenookbigfork.com. \n  \n 
URL:https://bigfork.org/event/weekly-sound-meditation-2-2-2-2-2-2-2-2/2024-11-13/
LOCATION:The Nook at Bigfork Bay\, 470 Electric Avenue\, Bigfork\, Montana\, 59911
CATEGORIES:Community
ATTACH;FMTTYPE=image/png:https://bigfork.org/wp-content/uploads/2024/08/z-sound-meditation.png
GEO:48.0617408;-114.0736903
X-APPLE-STRUCTURED-LOCATION;VALUE=URI;X-ADDRESS=The Nook at Bigfork Bay 470 Electric Avenue Bigfork Montana 59911;X-APPLE-RADIUS=500;X-TITLE=470 Electric Avenue:geo:-114.0736903,48.0617408
END:VEVENT
BEGIN:VEVENT
DTSTART;TZID=America/Denver:20241113T170000
DTEND;TZID=America/Denver:20241113T190000
DTSTAMP:20260420T141631
CREATED:20241107T181219Z
LAST-MODIFIED:20241107T181219Z
UID:10029833-1731517200-1731524400@bigfork.org
SUMMARY:Chloe Wine Imports at Woods Bay Wine
DESCRIPTION:Chloe Wine Imports \nPortfolio Wines from a Wine Import Company from Seattle\, WA. \nWines from; Burgundy\, Champagne\, Tuscany\, and More! \nWednesday\, Nov. 13th   5 p.m. – 7 p.m. \n$30 \nCasual\, so swing by anytime.
URL:https://bigfork.org/event/chloe-wine-imports-at-woods-bay-wine/
LOCATION:Woods Bay Wine
CATEGORIES:Community,Food
ATTACH;FMTTYPE=image/png:https://bigfork.org/wp-content/uploads/2024/11/z-wine.png
GEO:48.0014136;-114.0500774
END:VEVENT
BEGIN:VEVENT
DTSTART;TZID=America/Denver:20241113T180000
DTEND;TZID=America/Denver:20241113T180000
DTSTAMP:20260420T141631
CREATED:20240827T152444Z
LAST-MODIFIED:20241219T183458Z
UID:10015668-1731520800-1731520800@bigfork.org
SUMMARY:Free Community Dinner
DESCRIPTION:Free Community Dinner at Bethany Lutheran Church every Wednesday! \nDoors open at 5:45pm and dinner will be served at 6:00pm.  We welcome all to join us.  A short\, optional testimony service will be held afterward. \nIt’s FREE!  We are located next to Rosa’s Pizza on MT Highway 35.  We hope to see you!!
URL:https://bigfork.org/event/free-community-dinner-2/2024-11-13/
LOCATION:Bethany Lutheran Church\, 8559 Montana 35\, Bigfork\, MT\, 59911\, United States
CATEGORIES:Community,Food
ATTACH;FMTTYPE=image/jpeg:https://bigfork.org/wp-content/uploads/2023/09/z-bethany-lutheran.jpg
GEO:48.0565486;-114.0733994
X-APPLE-STRUCTURED-LOCATION;VALUE=URI;X-ADDRESS=Bethany Lutheran Church 8559 Montana 35 Bigfork MT 59911 United States;X-APPLE-RADIUS=500;X-TITLE=8559 Montana 35:geo:-114.0733994,48.0565486
END:VEVENT
BEGIN:VEVENT
DTSTART;TZID=America/Denver:20241113T180000
DTEND;TZID=America/Denver:20241113T210000
DTSTAMP:20260420T141631
CREATED:20241119T190231Z
LAST-MODIFIED:20241119T190231Z
UID:10025591-1731520800-1731531600@bigfork.org
SUMMARY:Open Mic Night Andy's Crafthouse
DESCRIPTION:Calling all singers\, songwriters\, poets and comedians!\nIt’s Open Mic Night TONIGHT at Andy’s Crafthouse\, hosted by Crismore & Co. \nGet ready for a night of good food\, good drinks\, and good local talent! \nCome on down and: \nShare your musical talents\nCheer on your favorite performers\nEnjoy delicious eats and refreshing drinks from Andy’s Crafthouse! \n  \n 
URL:https://bigfork.org/event/open-mic-night-andys-crafthouse-2/2024-11-13/
LOCATION:Andy’s Crafthouse\, 8030 MT Hwy 35\, Bigfork\, MT\, 59911\, United States
CATEGORIES:Community,Music
ATTACH;FMTTYPE=image/jpeg:https://bigfork.org/wp-content/uploads/2024/04/434066277_10162226143182994_2943022007598771669_n.jpg
GEO:48.0768413;-114.0793403
X-APPLE-STRUCTURED-LOCATION;VALUE=URI;X-ADDRESS=Andy’s Crafthouse 8030 MT Hwy 35 Bigfork MT 59911 United States;X-APPLE-RADIUS=500;X-TITLE=8030 MT Hwy 35:geo:-114.0793403,48.0768413
END:VEVENT
BEGIN:VEVENT
DTSTART;TZID=America/Denver:20241113T183000
DTEND;TZID=America/Denver:20241113T200000
DTSTAMP:20260420T141631
CREATED:20241008T180425Z
LAST-MODIFIED:20241219T182853Z
UID:10028954-1731522600-1731528000@bigfork.org
SUMMARY:Trivia Night at Flathead Lake Brewery
DESCRIPTION:Experience fine Flathead Lake Brewing Co. brews and food while you play trivia for a chance to win $5 FLBC cash for every person on your team at the Pubhouse in Bigfork!\nOur friends at Professional Therapy Associates are back as trivia sponsors! Play on a PTA night for a chance to win the grand prize of a $120 gift certificate to the FLBC Pubhouse.\nPTA is sponsoring the first Wednesday of every month!Oct 2nd / Nov 6th / Dec 4th / Jan 1st / Feb 5th / Mar 5th / Apr 2nd / May 7th\nTrivia Guidelines:– Make sure at least one person on your team has a Smartphone and we will provide instructions on how to join the game when you get here!– We have limited tables available for teams. Please check in with our host so we can accurately seat you.– Come early to secure a table! Once our tables are full we will not be able to let in more teams.
URL:https://bigfork.org/event/trivia-night-at-flathead-lake-brewery-2/2024-11-13/
LOCATION:Flathead Lake Brewing Co. Pubhouse\, 116 Holt Drive\, Bigfork\, MT\, 59911\, United States
CATEGORIES:Community,Food
ATTACH;FMTTYPE=image/jpeg:https://bigfork.org/wp-content/uploads/2024/10/z-trivia.jpg
GEO:48.0642137;-114.0836354
X-APPLE-STRUCTURED-LOCATION;VALUE=URI;X-ADDRESS=Flathead Lake Brewing Co. Pubhouse 116 Holt Drive Bigfork MT 59911 United States;X-APPLE-RADIUS=500;X-TITLE=116 Holt Drive:geo:-114.0836354,48.0642137
END:VEVENT
BEGIN:VEVENT
DTSTART;TZID=America/Denver:20241113T190000
DTEND;TZID=America/Denver:20241113T190000
DTSTAMP:20260420T141631
CREATED:20230302T185742Z
LAST-MODIFIED:20241219T183151Z
UID:10010913-1731524400-1731524400@bigfork.org
SUMMARY:Karaoke Night at Buffalo Saloon
DESCRIPTION:Wednesday Nights! Open Mic/Karaoke with Mike Russ! The unbelievable talent in our area will blow your mind. This isnt your typical karaoke. Come on Flathead! Show us what you’ve got!
URL:https://bigfork.org/event/karaoke-night-at-buffalo-saloon/2024-11-13/
LOCATION:Buffalo Saloon & Casino\, 5 Swan Way\, Bigfork\, MT\, 59911\, United States
CATEGORIES:Community,Music
GEO:48.0780922;-114.0488518
X-APPLE-STRUCTURED-LOCATION;VALUE=URI;X-ADDRESS=Buffalo Saloon & Casino 5 Swan Way Bigfork MT 59911 United States;X-APPLE-RADIUS=500;X-TITLE=5 Swan Way:geo:-114.0488518,48.0780922
END:VEVENT
END:VCALENDAR