BEGIN:VCALENDAR
VERSION:2.0
PRODID:-//Bigfork | Small Village - Big Adventure - ECPv6.15.20//NONSGML v1.0//EN
CALSCALE:GREGORIAN
METHOD:PUBLISH
X-ORIGINAL-URL:https://bigfork.org
X-WR-CALDESC:Events for Bigfork | Small Village - Big Adventure
REFRESH-INTERVAL;VALUE=DURATION:PT1H
X-Robots-Tag:noindex
X-PUBLISHED-TTL:PT1H
BEGIN:VTIMEZONE
TZID:America/Denver
BEGIN:DAYLIGHT
TZOFFSETFROM:-0700
TZOFFSETTO:-0600
TZNAME:MDT
DTSTART:20230312T090000
END:DAYLIGHT
BEGIN:STANDARD
TZOFFSETFROM:-0600
TZOFFSETTO:-0700
TZNAME:MST
DTSTART:20231105T080000
END:STANDARD
BEGIN:DAYLIGHT
TZOFFSETFROM:-0700
TZOFFSETTO:-0600
TZNAME:MDT
DTSTART:20240310T090000
END:DAYLIGHT
BEGIN:STANDARD
TZOFFSETFROM:-0600
TZOFFSETTO:-0700
TZNAME:MST
DTSTART:20241103T080000
END:STANDARD
BEGIN:DAYLIGHT
TZOFFSETFROM:-0700
TZOFFSETTO:-0600
TZNAME:MDT
DTSTART:20250309T090000
END:DAYLIGHT
BEGIN:STANDARD
TZOFFSETFROM:-0600
TZOFFSETTO:-0700
TZNAME:MST
DTSTART:20251102T080000
END:STANDARD
END:VTIMEZONE
BEGIN:VEVENT
DTSTART;TZID=America/Denver:20240921T100000
DTEND;TZID=America/Denver:20240921T140000
DTSTAMP:20260425T145423
CREATED:20240730T152041Z
LAST-MODIFIED:20240730T152138Z
UID:10028633-1726912800-1726927200@bigfork.org
SUMMARY:Teen Switch Days (grades 6-12)
DESCRIPTION:Bring your friends or come solo and battle it out on the Nintendo Switch in our Teen Zone. \nBigfork Falls Teen Zone: Fridays 10am-6pm and Saturdays 10am-2pm
URL:https://bigfork.org/event/teen-switch-days-grades-6-12/2024-09-21/
LOCATION:Flathead County Library – Bigfork\, 186 Bridge St\, Bigfork\, MT\, 59911\, United States
CATEGORIES:Community
ATTACH;FMTTYPE=image/jpeg:https://bigfork.org/wp-content/uploads/2024/07/Teen-Event-Rectangle.jpg
ORGANIZER;CN="ImagineIF Libraries":MAILTO:astivers@imagineiflibraries.org
END:VEVENT
BEGIN:VEVENT
DTSTART;TZID=America/Denver:20240921T120000
DTEND;TZID=America/Denver:20240921T140000
DTSTAMP:20260425T145423
CREATED:20240903T160455Z
LAST-MODIFIED:20240903T160455Z
UID:10028787-1726920000-1726927200@bigfork.org
SUMMARY:Macrame Class at Fiber
DESCRIPTION:Macrame Class is back @ Fiber! Grab your spot as classes are small. \nThis introductory class will review basic macramé knots\, and how to make simple designs that are practical in home décor\, specifically for hanging wall planters. All materials included in the class. \nExperience level: no experience needed \nAbout the Instructor: Alyse discovered macramé as a teenager and was instantly attracted to this groovy and stylish fiber art form! Alyse enjoys making macramé bracelets\, wall hangings and plant hangers. Macramé is a fun and easy hobby with a beautiful end product. Come explore your macramé creativity with Alyse! \nAll materials included.  For registration and details go to: \n https://fiberyarns.com/classes/beginner-macram-class-feb-18th \n 
URL:https://bigfork.org/event/macrame-class-at-fiber/
LOCATION:Fiber\, LLC\, 7984 Highway 35\, Bigfork\, MT\, 59911\, United States
CATEGORIES:Community,Education
ATTACH;FMTTYPE=image/jpeg:https://bigfork.org/wp-content/uploads/2024/09/z-macramae.jpg
GEO:48.0777333;-114.0790862
X-APPLE-STRUCTURED-LOCATION;VALUE=URI;X-ADDRESS=Fiber LLC 7984 Highway 35 Bigfork MT 59911 United States;X-APPLE-RADIUS=500;X-TITLE=7984 Highway 35:geo:-114.0790862,48.0777333
END:VEVENT
BEGIN:VEVENT
DTSTART;TZID=America/Denver:20240921T140000
DTEND;TZID=America/Denver:20240921T160000
DTSTAMP:20260425T145423
CREATED:20240905T180320Z
LAST-MODIFIED:20240905T180320Z
UID:10028802-1726927200-1726934400@bigfork.org
SUMMARY:Book Release & Author Talk at BACC
DESCRIPTION:Book release & author talk\nSaturday | September 21\, 2024\n2:00 PM – 4:00 PM \nw/ Leslie Budewitz\n\nThe stories in All God’s Sparrows imagine the life and heart of Mary Fields (1832-1914)\, a real-life woman born into slavery who spent her last 30 years in Montana\, where she found freedom and community\, and her own place in the West\, bringing solace and justice to those in need. The title story won the 2018 Agatha Award for Best Short Story.
URL:https://bigfork.org/event/book-release-author-talk-at-bacc/
LOCATION:Bigfork Art and Cultural Center\, 525 Electric Ave\, Bigfork\, MT\, 59911\, United States
CATEGORIES:Community
ATTACH;FMTTYPE=image/png:https://bigfork.org/wp-content/uploads/2024/09/z-author.png
GEO:48.0622919;-114.0730779
X-APPLE-STRUCTURED-LOCATION;VALUE=URI;X-ADDRESS=Bigfork Art and Cultural Center 525 Electric Ave Bigfork MT 59911 United States;X-APPLE-RADIUS=500;X-TITLE=525 Electric Ave:geo:-114.0730779,48.0622919
END:VEVENT
BEGIN:VEVENT
DTSTART;TZID=America/Denver:20240921T150000
DTEND;TZID=America/Denver:20240921T210000
DTSTAMP:20260425T145423
CREATED:20240919T162147Z
LAST-MODIFIED:20240919T162147Z
UID:10028834-1726930800-1726952400@bigfork.org
SUMMARY:Intro to Austrian Wines
DESCRIPTION:Intro to Austrian Wines \nGet to know some of the Growing Regions & Grape Varietals of Austria as we begin our month of ‘Oktoberfest Dinners’ and Featured Austrian Tastings. Class led by CMS- Sommelier. \nFeaturing Wines from; Niederösterreich (Weinviertel DAC\, Kamptal DAC\, Kremstal DAC\, Wachau DAC\, Thermenregion DAC)\, Burgenland\, Sudsteiermark DAC.  We hope to see you!! \n 
URL:https://bigfork.org/event/intro-to-austrian-wines/2024-09-21/
LOCATION:Woods Bay Wine
CATEGORIES:Community,Food
ATTACH;FMTTYPE=image/png:https://bigfork.org/wp-content/uploads/2024/09/z-wines.png
GEO:48.0014136;-114.0500774
END:VEVENT
BEGIN:VEVENT
DTSTART;TZID=America/Denver:20240921T180000
DTEND;TZID=America/Denver:20240921T200000
DTSTAMP:20260425T145423
CREATED:20240910T182716Z
LAST-MODIFIED:20240910T182716Z
UID:10028814-1726941600-1726948800@bigfork.org
SUMMARY:Whiskey & War Stores at Buffalo Saloon
DESCRIPTION:Join us for our biggest event of the year! On September 21st\, The Buffalo Saloon in Bigfork is hosting the Whiskey and War Stories Event with special guest John Koko; one of the owners of the Horse Soldier Distillery. Buy your tickets before they’re gone! ONLY 50 ARE AVAILABLE TO SELL. Can’t wait to see you there\, Cheers!
URL:https://bigfork.org/event/whiskey-war-stores-at-buffalo-saloon/
LOCATION:Buffalo Saloon & Casino\, 5 Swan Way\, Bigfork\, MT\, 59911\, United States
CATEGORIES:Community,Food
ATTACH;FMTTYPE=image/jpeg:https://bigfork.org/wp-content/uploads/2024/09/z-buffalo-saloon.jpg
GEO:48.0780922;-114.0488518
X-APPLE-STRUCTURED-LOCATION;VALUE=URI;X-ADDRESS=Buffalo Saloon & Casino 5 Swan Way Bigfork MT 59911 United States;X-APPLE-RADIUS=500;X-TITLE=5 Swan Way:geo:-114.0488518,48.0780922
END:VEVENT
BEGIN:VEVENT
DTSTART;TZID=America/Denver:20240921T190000
DTEND;TZID=America/Denver:20240921T210000
DTSTAMP:20260425T145423
CREATED:20240815T150728Z
LAST-MODIFIED:20240815T155445Z
UID:10028699-1726945200-1726952400@bigfork.org
SUMMARY:Miller Campbell LIVE at Andy's Crafthouse
DESCRIPTION:Bring your dancing boots or sit down for an engaging listen with Seattle based singer songwriter Miller Campbell. Come for the music stay for the delicious food and tasty beverages.
URL:https://bigfork.org/event/miller-campbell-live-at-andys-crafthouse-2/
LOCATION:Andy’s Crafthouse\, 8020 MT HIGHWAY 35\, Bigfork\, MT\, 59911\, United States
CATEGORIES:Community,Food,Music
ATTACH;FMTTYPE=image/png:https://bigfork.org/wp-content/uploads/2024/08/Miller-Campbell-Crafthouse-9.21-eventcover.png
ORGANIZER;CN="Andy's Crafthouse":MAILTO:marketing@sleepeatdrink.com
GEO:48.0579345;-114.0752677
X-APPLE-STRUCTURED-LOCATION;VALUE=URI;X-ADDRESS=Andy’s Crafthouse 8020 MT HIGHWAY 35 Bigfork MT 59911 United States;X-APPLE-RADIUS=500;X-TITLE=8020 MT HIGHWAY 35:geo:-114.0752677,48.0579345
END:VEVENT
BEGIN:VEVENT
DTSTART;TZID=America/Denver:20240921T190000
DTEND;TZID=America/Denver:20240921T220000
DTSTAMP:20260425T145423
CREATED:20240827T171240Z
LAST-MODIFIED:20240827T171241Z
UID:10028251-1726945200-1726956000@bigfork.org
SUMMARY:LIVE Music at the Buffalo Saloon
DESCRIPTION:Live music every Thursday and Saturday night! We’ve got a great lineup for you! Make sure you join us and support your live music venue!
URL:https://bigfork.org/event/live-music-at-the-buffalo-saloon-2-2/2024-09-21/
LOCATION:Buffalo Saloon & Casino\, 5 Swan Way\, Bigfork\, MT\, 59911\, United States
CATEGORIES:Community,Food,Music
ATTACH;FMTTYPE=image/jpeg:https://bigfork.org/wp-content/uploads/2024/07/z-buffalo.jpg
GEO:48.0780922;-114.0488518
X-APPLE-STRUCTURED-LOCATION;VALUE=URI;X-ADDRESS=Buffalo Saloon & Casino 5 Swan Way Bigfork MT 59911 United States;X-APPLE-RADIUS=500;X-TITLE=5 Swan Way:geo:-114.0488518,48.0780922
END:VEVENT
BEGIN:VEVENT
DTSTART;TZID=America/Denver:20240921T193000
DTEND;TZID=America/Denver:20240921T193000
DTSTAMP:20260425T145423
CREATED:20240910T180505Z
LAST-MODIFIED:20240910T180548Z
UID:10028810-1726947000-1726947000@bigfork.org
SUMMARY:The Little Mermaid\, Jr.
DESCRIPTION:TICKETS ON SALE NOW!\n\n\n\nDive into the magical world of The Little Mermaid\, Jr. with the Bigfork Playhouse Children’s Theatre!  Join Ariel and all her undersea friends for a delightful adventure filled with music\, fun\, and unforgettable moments into the magical world of The Little Mermaid\, Jr. with the Bigfork Playhouse Children’s Theatre!\n\n\n\n Show Dates: September 20\, 21 & 27\, 28 | 7:30 PM\nSeptember 29 | 2:00PM\n\n Location: Bigfork Center for the Performing Arts\n\n\n\nTickets available at the door and online at: https://ci.ovationtix.com/35549/production/1213517
URL:https://bigfork.org/event/the-little-mermaid-jr/2024-09-21/
LOCATION:Bigfork Center for the Performing Arts\, 526 Electric Ave\, Bigfork\, MT\, 59911\, United States
CATEGORIES:Community,Music
ATTACH;FMTTYPE=image/jpeg:https://bigfork.org/wp-content/uploads/2024/09/z-little-mermaid.jpg
GEO:48.0623155;-114.0736919
X-APPLE-STRUCTURED-LOCATION;VALUE=URI;X-ADDRESS=Bigfork Center for the Performing Arts 526 Electric Ave Bigfork MT 59911 United States;X-APPLE-RADIUS=500;X-TITLE=526 Electric Ave:geo:-114.0736919,48.0623155
END:VEVENT
BEGIN:VEVENT
DTSTART;TZID=America/Denver:20240921T210000
DTEND;TZID=America/Denver:20240921T210000
DTSTAMP:20260425T145423
CREATED:20240125T172540Z
LAST-MODIFIED:20241010T170708Z
UID:10023026-1726952400-1726952400@bigfork.org
SUMMARY:Karaoke at the Sitting Duck
DESCRIPTION:Karaoke at The Sitting Duck on Flathead Lake! 9pm-12am. Come sing your heart out on our upgraded sound system! Don’t forget to step outside to take in the incredible stargazing across flathead lake from our deck directly on the water. Kitchen serves food (including prime rib!) until 8pm\, come early to grab a bite and a drink. We also have karaoke Saturday nights too! \n 
URL:https://bigfork.org/event/karaoke-at-the-sitting-duck/2024-09-21/
LOCATION:The Sitting Duck\, 15265 Montana Hwy 35\, Bigfork\, MT\, 59911\, United States
CATEGORIES:Community,Food,Music
ATTACH;FMTTYPE=image/jpeg:https://bigfork.org/wp-content/uploads/2024/01/z-karaoke.jpg
GEO:47.9981859;-114.0464208
X-APPLE-STRUCTURED-LOCATION;VALUE=URI;X-ADDRESS=The Sitting Duck 15265 Montana Hwy 35 Bigfork MT 59911 United States;X-APPLE-RADIUS=500;X-TITLE=15265 Montana Hwy 35:geo:-114.0464208,47.9981859
END:VEVENT
END:VCALENDAR