BEGIN:VCALENDAR
VERSION:2.0
PRODID:-//Bigfork | Small Village - Big Adventure - ECPv6.15.20//NONSGML v1.0//EN
CALSCALE:GREGORIAN
METHOD:PUBLISH
X-ORIGINAL-URL:https://bigfork.org
X-WR-CALDESC:Events for Bigfork | Small Village - Big Adventure
REFRESH-INTERVAL;VALUE=DURATION:PT1H
X-Robots-Tag:noindex
X-PUBLISHED-TTL:PT1H
BEGIN:VTIMEZONE
TZID:America/Denver
BEGIN:DAYLIGHT
TZOFFSETFROM:-0700
TZOFFSETTO:-0600
TZNAME:MDT
DTSTART:20230312T090000
END:DAYLIGHT
BEGIN:STANDARD
TZOFFSETFROM:-0600
TZOFFSETTO:-0700
TZNAME:MST
DTSTART:20231105T080000
END:STANDARD
BEGIN:DAYLIGHT
TZOFFSETFROM:-0700
TZOFFSETTO:-0600
TZNAME:MDT
DTSTART:20240310T090000
END:DAYLIGHT
BEGIN:STANDARD
TZOFFSETFROM:-0600
TZOFFSETTO:-0700
TZNAME:MST
DTSTART:20241103T080000
END:STANDARD
BEGIN:DAYLIGHT
TZOFFSETFROM:-0700
TZOFFSETTO:-0600
TZNAME:MDT
DTSTART:20250309T090000
END:DAYLIGHT
BEGIN:STANDARD
TZOFFSETFROM:-0600
TZOFFSETTO:-0700
TZNAME:MST
DTSTART:20251102T080000
END:STANDARD
END:VTIMEZONE
BEGIN:VEVENT
DTSTART;TZID=America/Denver:20240903T080000
DTEND;TZID=America/Denver:20240903T170000
DTSTAMP:20260419T184750
CREATED:20240903T185629Z
LAST-MODIFIED:20240903T185629Z
UID:10028797-1725350400-1725382800@bigfork.org
SUMMARY:Theta Night at The Nook
DESCRIPTION:Theta Night\n\nJoin us from 6-7:30pm. Theta Night event will offer donation-based ThetaHealing sessions to the general public and emerging practitioners. \n\nBuy Tickets\n  \nThis will be a workshop/practice group for ThetaHealers. There will be a lecture offered at the beginning to further their training\, and will have session exchange time afterwards to brush up their practitioner skills. \nTheta Night will be open to general public who wants to come experience sessions by emerging practitioners\, on a donation basis.
URL:https://bigfork.org/event/theta-night-at-the-nook-2/
LOCATION:The Nook at Bigfork Bay\, 470 Electric Avenue\, Bigfork\, Montana\, 59911
CATEGORIES:Community,Education
ATTACH;FMTTYPE=image/png:https://bigfork.org/wp-content/uploads/2024/09/z-theta.png
GEO:48.0617408;-114.0736903
X-APPLE-STRUCTURED-LOCATION;VALUE=URI;X-ADDRESS=The Nook at Bigfork Bay 470 Electric Avenue Bigfork Montana 59911;X-APPLE-RADIUS=500;X-TITLE=470 Electric Avenue:geo:-114.0736903,48.0617408
END:VEVENT
BEGIN:VEVENT
DTSTART;TZID=America/Denver:20240903T190000
DTEND;TZID=America/Denver:20240903T200000
DTSTAMP:20260419T184750
CREATED:20230907T174024Z
LAST-MODIFIED:20230907T174024Z
UID:10015397-1725390000-1725393600@bigfork.org
SUMMARY:Bingo at Buffalo Saloon
DESCRIPTION:When was the last time you played BINGO?  Come out and have some fun at Buffalo Saloon.
URL:https://bigfork.org/event/bingo-at-buffalo-saloon-4/2024-09-03/
LOCATION:Buffalo Saloon & Casino\, 5 Swan Way\, Bigfork\, MT\, 59911\, United States
CATEGORIES:Community,Food
GEO:48.0780922;-114.0488518
X-APPLE-STRUCTURED-LOCATION;VALUE=URI;X-ADDRESS=Buffalo Saloon & Casino 5 Swan Way Bigfork MT 59911 United States;X-APPLE-RADIUS=500;X-TITLE=5 Swan Way:geo:-114.0488518,48.0780922
END:VEVENT
END:VCALENDAR