BEGIN:VCALENDAR
VERSION:2.0
PRODID:-//Bigfork | Small Village - Big Adventure - ECPv6.15.20//NONSGML v1.0//EN
CALSCALE:GREGORIAN
METHOD:PUBLISH
X-WR-CALNAME:Bigfork | Small Village - Big Adventure
X-ORIGINAL-URL:https://bigfork.org
X-WR-CALDESC:Events for Bigfork | Small Village - Big Adventure
REFRESH-INTERVAL;VALUE=DURATION:PT1H
X-Robots-Tag:noindex
X-PUBLISHED-TTL:PT1H
BEGIN:VTIMEZONE
TZID:America/Denver
BEGIN:DAYLIGHT
TZOFFSETFROM:-0700
TZOFFSETTO:-0600
TZNAME:MDT
DTSTART:20230312T090000
END:DAYLIGHT
BEGIN:STANDARD
TZOFFSETFROM:-0600
TZOFFSETTO:-0700
TZNAME:MST
DTSTART:20231105T080000
END:STANDARD
BEGIN:DAYLIGHT
TZOFFSETFROM:-0700
TZOFFSETTO:-0600
TZNAME:MDT
DTSTART:20240310T090000
END:DAYLIGHT
BEGIN:STANDARD
TZOFFSETFROM:-0600
TZOFFSETTO:-0700
TZNAME:MST
DTSTART:20241103T080000
END:STANDARD
BEGIN:DAYLIGHT
TZOFFSETFROM:-0700
TZOFFSETTO:-0600
TZNAME:MDT
DTSTART:20250309T090000
END:DAYLIGHT
BEGIN:STANDARD
TZOFFSETFROM:-0600
TZOFFSETTO:-0700
TZNAME:MST
DTSTART:20251102T080000
END:STANDARD
END:VTIMEZONE
BEGIN:VEVENT
DTSTART;TZID=America/Denver:20240822T090000
DTEND;TZID=America/Denver:20240822T121500
DTSTAMP:20260425T073723
CREATED:20240711T151707Z
LAST-MODIFIED:20240711T151821Z
UID:10027400-1724317200-1724328900@bigfork.org
SUMMARY:Vacation Bible School
DESCRIPTION:Vacation Bible Camp at Bigfork Community United Methodist Church August 19-22\, 2024:\n\nFor: Kids Ages 3-12 (going into 6th grade) \nIncludes: Breakfast\, Bible Stories\, Music\, Games\, Crafts\, Science\, Snacks\, Raptors & More! \nQuestions?: Call (406) 837-4547 \nEmail: bigforkcumc@gmail.com or register here:  https://bigforkumc.org/vacation-bible-school
URL:https://bigfork.org/event/vacation-bible-school/2024-08-22/
LOCATION:Bigfork Community United Methodist Church\, 750 Electric Ave\, Bigfork\, Montana\, 59911
CATEGORIES:Community
ATTACH;FMTTYPE=image/png:https://bigfork.org/wp-content/uploads/2024/07/z-bible-school.png
GEO:48.064484;-114.073689
X-APPLE-STRUCTURED-LOCATION;VALUE=URI;X-ADDRESS=Bigfork Community United Methodist Church 750 Electric Ave Bigfork Montana 59911;X-APPLE-RADIUS=500;X-TITLE=750 Electric Ave:geo:-114.073689,48.064484
END:VEVENT
BEGIN:VEVENT
DTSTART;TZID=America/Denver:20240822T110000
DTEND;TZID=America/Denver:20240822T130000
DTSTAMP:20260425T073723
CREATED:20231122T203928Z
LAST-MODIFIED:20251113T203138Z
UID:10016180-1724324400-1724331600@bigfork.org
SUMMARY:Drop in Fiber Circle
DESCRIPTION:Working on a project?  Come join us at Fiber on Thursdays from 11-1 and bring your project and meet other knitters and crocheters!!
URL:https://bigfork.org/event/drop-in-fiber-circle-2/2024-08-22/
LOCATION:Fiber\, LLC\, 7984 Highway 35\, Bigfork\, MT\, 59911\, United States
CATEGORIES:Community
GEO:48.0777333;-114.0790862
X-APPLE-STRUCTURED-LOCATION;VALUE=URI;X-ADDRESS=Fiber LLC 7984 Highway 35 Bigfork MT 59911 United States;X-APPLE-RADIUS=500;X-TITLE=7984 Highway 35:geo:-114.0790862,48.0777333
END:VEVENT
BEGIN:VEVENT
DTSTART;TZID=America/Denver:20240822T150000
DTEND;TZID=America/Denver:20240822T210000
DTSTAMP:20260425T073723
CREATED:20240822T154311Z
LAST-MODIFIED:20240822T154311Z
UID:10028726-1724338800-1724360400@bigfork.org
SUMMARY:Weingut Schauer Takeover at Woods Bay Wine
DESCRIPTION:Weingut Schauer Takeover\nAug. 21\, 22\, & 23\n3 p.m. – 9 p.m.  \nOne of the best Wineries in an area making exceptional Sauvignon Blanc & Riesling. \nTrue to the overall Austrian character of Riesling\, these are dry\, crisp\, elegant\, & worthy of a place in any Wine Collector’s cellar.\nSchauer Sauvignon Blanc is on another level!\nEnjoy multiple Vintages & several different Single Vineyard Sites as we have bring these delicious wines to you!\nWe had the great fortune of meeting and staying with Weingut Schauer in Austria.\nLocated just south of Graz\, Austria and near the Slovenian border. They offer exceptional wines\, a B&B\, and Restaurant. 
URL:https://bigfork.org/event/weingut-schauer-takeover-at-woods-bay-wine/2024-08-22/
LOCATION:Woods Bay Wine
CATEGORIES:Community,Food
ATTACH;FMTTYPE=image/jpeg:https://bigfork.org/wp-content/uploads/2024/08/z-wine.jpg
GEO:48.0014136;-114.0500774
END:VEVENT
BEGIN:VEVENT
DTSTART;TZID=America/Denver:20240822T163000
DTEND;TZID=America/Denver:20240822T183000
DTSTAMP:20260425T073723
CREATED:20240813T152145Z
LAST-MODIFIED:20240813T152409Z
UID:10028693-1724344200-1724351400@bigfork.org
SUMMARY:Open House at Lakeside Garages
DESCRIPTION:Open House at Lakeside Garages:\nJoin us on Thursday August 22nd from 4:30 – 6:30 PM at Lakeside Garages at 150 Clothier Lane in Lakeside\, MT (up Bierney Creek from Lakeside Marina) for a Hawaiian-themed celebration!\nWe’ll have Food & Beverages\,  Fun Activities and Exciting Prizes.  Dress the part! Wear your best Hawaiian shirts and apparel as you explore our upscale\, heated garages\, man caves\, and she sheds. Each unit features insulation\, electric door openers\, a man door\, and access to a clubhouse with a restroom and kitchenette.\n\nCheck them out online at LakesideGarages.com.  \n\nShow off your toys! Whether it’s cars\, boats\, RVs\, motorcycles\, or anything else\, our spacious units (24’x29′ & 24’x49′) are perfect for storing and tinkering on your prized possessions.\nCome see what Lakeside Garages has to offer and enjoy a fun-filled evening with us!\n\n  \n 
URL:https://bigfork.org/event/open-house-at-lakeside-garages/
LOCATION:Lakeside Garages\, 150 Clothier Lane\, Lakeside\, MT\, 59922\, United States
CATEGORIES:Community,Special Events
ATTACH;FMTTYPE=image/jpeg:https://bigfork.org/wp-content/uploads/2024/08/z-lakeside.jpg
END:VEVENT
BEGIN:VEVENT
DTSTART;TZID=America/Denver:20240822T173000
DTEND;TZID=America/Denver:20240822T173000
DTSTAMP:20260425T073723
CREATED:20230627T230214Z
LAST-MODIFIED:20230627T230214Z
UID:10013269-1724347800-1724347800@bigfork.org
SUMMARY:Bingo at VFW
DESCRIPTION:Join us at Bigfork VFW for BINGO at 5:30pm!
URL:https://bigfork.org/event/bingo-at-vfw-3/2024-08-22/
LOCATION:VFW Post 4042 Bigfork\, 8098 Montana Highway 35\, Bigfork\, MT\, 59911\, United States
CATEGORIES:Community
GEO:48.0739296;-114.0802386
X-APPLE-STRUCTURED-LOCATION;VALUE=URI;X-ADDRESS=VFW Post 4042 Bigfork 8098 Montana Highway 35 Bigfork MT 59911 United States;X-APPLE-RADIUS=500;X-TITLE=8098 Montana Highway 35:geo:-114.0802386,48.0739296
END:VEVENT
BEGIN:VEVENT
DTSTART;TZID=America/Denver:20240822T180000
DTEND;TZID=America/Denver:20240822T210000
DTSTAMP:20260425T073723
CREATED:20240718T152103Z
LAST-MODIFIED:20240718T152103Z
UID:10027986-1724349600-1724360400@bigfork.org
SUMMARY:LIVE Music at The Buffalo Saloon
DESCRIPTION:Join us at the Buffalo Saloon & Casino for LIVE music every Thursday and Saturday night!  We’ve got a great lineup for you! Come out and support your live music venue!
URL:https://bigfork.org/event/live-music-at-the-buffalo-saloon/2024-08-22/
LOCATION:Buffalo Saloon & Casino\, 5 Swan Way\, Bigfork\, MT\, 59911\, United States
CATEGORIES:Community,Food,Music
ATTACH;FMTTYPE=image/jpeg:https://bigfork.org/wp-content/uploads/2024/07/z-buffalo.jpg
GEO:48.0780922;-114.0488518
X-APPLE-STRUCTURED-LOCATION;VALUE=URI;X-ADDRESS=Buffalo Saloon & Casino 5 Swan Way Bigfork MT 59911 United States;X-APPLE-RADIUS=500;X-TITLE=5 Swan Way:geo:-114.0488518,48.0780922
END:VEVENT
BEGIN:VEVENT
DTSTART;TZID=America/Denver:20240822T180000
DTEND;TZID=America/Denver:20240822T210000
DTSTAMP:20260425T073723
CREATED:20240730T171212Z
LAST-MODIFIED:20240730T171212Z
UID:10028658-1724349600-1724360400@bigfork.org
SUMMARY:Miller Campbell LIVE at River View Bar
DESCRIPTION:RIVER VIEW BAR – A GATHERING PLACE FOR FOOD\, DRINK AND LIVE MUSIC!\nWe are an outdoor venue ideally located in downtown Bigfork overlooking the Swan River. Our casual vibe is perfect for all ages and anyone looking to unwind with food\, drinks\, lawn games\, and live music. \n\nVisit our website for a complete summer line up of LIVE Music at River View Bar. https://lake-baked.com/river-view-bar/ \n 
URL:https://bigfork.org/event/miller-campbell-live-at-river-view-bar/
LOCATION:River View Bar
CATEGORIES:Community,Food,Music
ATTACH;FMTTYPE=image/webp:https://bigfork.org/wp-content/uploads/2024/05/z-river-view.webp
GEO:48.0610275;-114.0718917
END:VEVENT
BEGIN:VEVENT
DTSTART;TZID=America/Denver:20240822T190000
DTEND;TZID=America/Denver:20240822T190000
DTSTAMP:20260425T073723
CREATED:20240806T160608Z
LAST-MODIFIED:20240806T160608Z
UID:10028678-1724353200-1724353200@bigfork.org
SUMMARY:Paul Cataldo LIVE at Andy's Crafthouse
DESCRIPTION:Join us for LIVE music at Andy’s Crafthouse with Paul Cataldo.
URL:https://bigfork.org/event/paul-cataldo-live-at-andys-crafthouse-2/2024-08-22/
LOCATION:Andy’s Crafthouse\, 8030 MT Hwy 35\, Bigfork\, MT\, 59911\, United States
CATEGORIES:Community,Food,Music
ATTACH;FMTTYPE=image/jpeg:https://bigfork.org/wp-content/uploads/2024/08/z-andys.jpg
GEO:48.0768413;-114.0793403
X-APPLE-STRUCTURED-LOCATION;VALUE=URI;X-ADDRESS=Andy’s Crafthouse 8030 MT Hwy 35 Bigfork MT 59911 United States;X-APPLE-RADIUS=500;X-TITLE=8030 MT Hwy 35:geo:-114.0793403,48.0768413
END:VEVENT
BEGIN:VEVENT
DTSTART;TZID=America/Denver:20240822T193000
DTEND;TZID=America/Denver:20240822T193000
DTSTAMP:20260425T073723
CREATED:20240409T180435Z
LAST-MODIFIED:20240820T163714Z
UID:10025919-1724355000-1724355000@bigfork.org
SUMMARY:The Hits of the 50's\,60's & 70's
DESCRIPTION:The Hits of the 50’s\, 60’s & 70’s (PG)\nAugust 22\, 23\, 24\, 25\, 29\, 30\, 31\n\n\nThe 50s\, 60s & 70s were 3 decades of some of the finest Rock and Roll music! Enjoy an evening of staged hits from artists like The Spaniels\, Roy Orbison\, Elvis Presley\, Chubby Checker\, Tina Turner\, Lynyrd Skynyrd\, The Beatles\, Billy Joel and more as the Bigfork Summer Playhouse brings you the Hits from the 50s\, 60s & 70s\, live onstage!\n\n\n\nDifferent than last year’s lineup — and more fun! \nFor more information\, please contact the Bigfork Summer Playhouse box office lines at (406) 837-4886. All performances start at 7:30 pm except for certain Sunday matinees that start at 2:00 pm. \n\n\nhttps://bigforksummerplayhouse.com/season-shows/
URL:https://bigfork.org/event/the-hits-of-the-50s60s-70s/2024-08-22/
LOCATION:Bigfork Center for the Performing Arts\, 526 Electric Ave\, Bigfork\, MT\, 59911\, United States
CATEGORIES:Art,Community
ATTACH;FMTTYPE=image/jpeg:https://bigfork.org/wp-content/uploads/2024/04/z-rock.jpg
GEO:48.0623155;-114.0736919
X-APPLE-STRUCTURED-LOCATION;VALUE=URI;X-ADDRESS=Bigfork Center for the Performing Arts 526 Electric Ave Bigfork MT 59911 United States;X-APPLE-RADIUS=500;X-TITLE=526 Electric Ave:geo:-114.0736919,48.0623155
END:VEVENT
END:VCALENDAR