BEGIN:VCALENDAR
VERSION:2.0
PRODID:-//Bigfork | Small Village - Big Adventure - ECPv6.15.20//NONSGML v1.0//EN
CALSCALE:GREGORIAN
METHOD:PUBLISH
X-ORIGINAL-URL:https://bigfork.org
X-WR-CALDESC:Events for Bigfork | Small Village - Big Adventure
REFRESH-INTERVAL;VALUE=DURATION:PT1H
X-Robots-Tag:noindex
X-PUBLISHED-TTL:PT1H
BEGIN:VTIMEZONE
TZID:America/Denver
BEGIN:DAYLIGHT
TZOFFSETFROM:-0700
TZOFFSETTO:-0600
TZNAME:MDT
DTSTART:20230312T090000
END:DAYLIGHT
BEGIN:STANDARD
TZOFFSETFROM:-0600
TZOFFSETTO:-0700
TZNAME:MST
DTSTART:20231105T080000
END:STANDARD
BEGIN:DAYLIGHT
TZOFFSETFROM:-0700
TZOFFSETTO:-0600
TZNAME:MDT
DTSTART:20240310T090000
END:DAYLIGHT
BEGIN:STANDARD
TZOFFSETFROM:-0600
TZOFFSETTO:-0700
TZNAME:MST
DTSTART:20241103T080000
END:STANDARD
BEGIN:DAYLIGHT
TZOFFSETFROM:-0700
TZOFFSETTO:-0600
TZNAME:MDT
DTSTART:20250309T090000
END:DAYLIGHT
BEGIN:STANDARD
TZOFFSETFROM:-0600
TZOFFSETTO:-0700
TZNAME:MST
DTSTART:20251102T080000
END:STANDARD
END:VTIMEZONE
BEGIN:VEVENT
DTSTART;TZID=America/Denver:20240528T160000
DTEND;TZID=America/Denver:20240528T170000
DTSTAMP:20260421T074545
CREATED:20240430T213850Z
LAST-MODIFIED:20240430T213850Z
UID:10026104-1716912000-1716915600@bigfork.org
SUMMARY:B.Y.O. Book Club: A Silent Book Club for Introverts
DESCRIPTION:Bring your own book and read silently in a beautiful setting alongside other readers. Then chat with the group about the book you’re reading\, make new friends\, and find new books! Afterwards\, feel free to explore Wayfarers State Park’s trails and shoreline. All welcome\, even the extroverts. Cohosted with Flathead Lake State Park Wayfarers Unit.\nThis program is for adults only. \nWayfarers State Park\, Harry Horn Picnic Shelter: May 14\, 21 & 28\, 4-5pm
URL:https://bigfork.org/event/b-y-o-book-club-a-silent-book-club-for-introverts/2024-05-28/
LOCATION:Wayfarer’s Unit of Flathead Lake State Park\, 8600 Montana Hwy 35\, Bigfork\, MT\, 59911\, United States
CATEGORIES:Community
ATTACH;FMTTYPE=image/jpeg:https://bigfork.org/wp-content/uploads/2024/04/BYO-Book-Club.jpg
ORGANIZER;CN="ImagineIF Libraries":MAILTO:astivers@imagineiflibraries.org
GEO:48.0544296;-114.0754516
X-APPLE-STRUCTURED-LOCATION;VALUE=URI;X-ADDRESS=Wayfarer’s Unit of Flathead Lake State Park 8600 Montana Hwy 35 Bigfork MT 59911 United States;X-APPLE-RADIUS=500;X-TITLE=8600 Montana Hwy 35:geo:-114.0754516,48.0544296
END:VEVENT
BEGIN:VEVENT
DTSTART;TZID=America/Denver:20240528T190000
DTEND;TZID=America/Denver:20240528T200000
DTSTAMP:20260421T074545
CREATED:20230907T174024Z
LAST-MODIFIED:20230907T174024Z
UID:10015383-1716922800-1716926400@bigfork.org
SUMMARY:Bingo at Buffalo Saloon
DESCRIPTION:When was the last time you played BINGO?  Come out and have some fun at Buffalo Saloon.
URL:https://bigfork.org/event/bingo-at-buffalo-saloon-4/2024-05-28/
LOCATION:Buffalo Saloon & Casino\, 5 Swan Way\, Bigfork\, MT\, 59911\, United States
CATEGORIES:Community,Food
GEO:48.0780922;-114.0488518
X-APPLE-STRUCTURED-LOCATION;VALUE=URI;X-ADDRESS=Buffalo Saloon & Casino 5 Swan Way Bigfork MT 59911 United States;X-APPLE-RADIUS=500;X-TITLE=5 Swan Way:geo:-114.0488518,48.0780922
END:VEVENT
END:VCALENDAR