BEGIN:VCALENDAR
VERSION:2.0
PRODID:-//Bigfork | Small Village - Big Adventure - ECPv6.15.20//NONSGML v1.0//EN
CALSCALE:GREGORIAN
METHOD:PUBLISH
X-WR-CALNAME:Bigfork | Small Village - Big Adventure
X-ORIGINAL-URL:https://bigfork.org
X-WR-CALDESC:Events for Bigfork | Small Village - Big Adventure
REFRESH-INTERVAL;VALUE=DURATION:PT1H
X-Robots-Tag:noindex
X-PUBLISHED-TTL:PT1H
BEGIN:VTIMEZONE
TZID:America/Denver
BEGIN:DAYLIGHT
TZOFFSETFROM:-0700
TZOFFSETTO:-0600
TZNAME:MDT
DTSTART:20220313T090000
END:DAYLIGHT
BEGIN:STANDARD
TZOFFSETFROM:-0600
TZOFFSETTO:-0700
TZNAME:MST
DTSTART:20221106T080000
END:STANDARD
BEGIN:DAYLIGHT
TZOFFSETFROM:-0700
TZOFFSETTO:-0600
TZNAME:MDT
DTSTART:20230312T090000
END:DAYLIGHT
BEGIN:STANDARD
TZOFFSETFROM:-0600
TZOFFSETTO:-0700
TZNAME:MST
DTSTART:20231105T080000
END:STANDARD
BEGIN:DAYLIGHT
TZOFFSETFROM:-0700
TZOFFSETTO:-0600
TZNAME:MDT
DTSTART:20240310T090000
END:DAYLIGHT
BEGIN:STANDARD
TZOFFSETFROM:-0600
TZOFFSETTO:-0700
TZNAME:MST
DTSTART:20241103T080000
END:STANDARD
END:VTIMEZONE
BEGIN:VEVENT
DTSTART;VALUE=DATE:20231020
DTEND;VALUE=DATE:20231021
DTSTAMP:20260423T154556
CREATED:20231017T183952Z
LAST-MODIFIED:20231017T183952Z
UID:10017802-1697760000-1697846399@bigfork.org
SUMMARY:LIVE Music
DESCRIPTION:The Raven:  Tommy Edwards and Chance Cole at 7pm \n 
URL:https://bigfork.org/event/live-music-167/
LOCATION:MT
END:VEVENT
BEGIN:VEVENT
DTSTART;TZID=America/Denver:20231020T110000
DTEND;TZID=America/Denver:20231020T110000
DTSTAMP:20260423T154556
CREATED:20230627T225820Z
LAST-MODIFIED:20230627T225921Z
UID:10012964-1697799600-1697799600@bigfork.org
SUMMARY:Friday Fish Fry at VFW
DESCRIPTION:Weekly Fish Fry with Hushpuppies and Coleslaw at Bigfork VFW.  11am til it’s gone! Price varies on fish of the week.
URL:https://bigfork.org/event/friday-fish-fry-at-vfw/2023-10-20/
LOCATION:VFW Post 4042 Bigfork\, 8098 Montana Highway 35\, Bigfork\, MT\, 59911\, United States
CATEGORIES:Community,Food
GEO:48.0739296;-114.0802386
X-APPLE-STRUCTURED-LOCATION;VALUE=URI;X-ADDRESS=VFW Post 4042 Bigfork 8098 Montana Highway 35 Bigfork MT 59911 United States;X-APPLE-RADIUS=500;X-TITLE=8098 Montana Highway 35:geo:-114.0802386,48.0739296
END:VEVENT
BEGIN:VEVENT
DTSTART;TZID=America/Denver:20231020T180000
DTEND;TZID=America/Denver:20231020T180000
DTSTAMP:20260423T154556
CREATED:20231019T171648Z
LAST-MODIFIED:20231019T171648Z
UID:10018078-1697824800-1697824800@bigfork.org
SUMMARY:1st Year Anniversary
DESCRIPTION:Come celebrate our 1 year anniversary at the Buffalo Saloon and Casino this Friday!  We’ll have live music with Turtle Mountain Band!
URL:https://bigfork.org/event/1st-year-anniversary/
LOCATION:Buffalo Saloon & Casino\, 5 Swan Way\, Bigfork\, MT\, 59911\, United States
CATEGORIES:Community,Food,Music
GEO:48.0780922;-114.0488518
X-APPLE-STRUCTURED-LOCATION;VALUE=URI;X-ADDRESS=Buffalo Saloon & Casino 5 Swan Way Bigfork MT 59911 United States;X-APPLE-RADIUS=500;X-TITLE=5 Swan Way:geo:-114.0488518,48.0780922
END:VEVENT
BEGIN:VEVENT
DTSTART;TZID=America/Denver:20231020T190000
DTEND;TZID=America/Denver:20231020T190000
DTSTAMP:20260423T154556
CREATED:20231019T164505Z
LAST-MODIFIED:20231019T164525Z
UID:10018075-1697828400-1697828400@bigfork.org
SUMMARY:Country Western Dance Party
DESCRIPTION:Join us for a night of dancing and fun! Andy’s Crafthouse will be hosting weekly Friday nights to get your boot-scootin’ boogie on!
URL:https://bigfork.org/event/country-western-dance-party-2/
LOCATION:Andy’s Crafthouse\, 8030 MT Hwy 35\, Bigfork\, MT\, 59911\, United States
CATEGORIES:Community,Food,Music
GEO:48.0768413;-114.0793403
X-APPLE-STRUCTURED-LOCATION;VALUE=URI;X-ADDRESS=Andy’s Crafthouse 8030 MT Hwy 35 Bigfork MT 59911 United States;X-APPLE-RADIUS=500;X-TITLE=8030 MT Hwy 35:geo:-114.0793403,48.0768413
END:VEVENT
END:VCALENDAR