BEGIN:VCALENDAR
VERSION:2.0
PRODID:-//Bigfork | Small Village - Big Adventure - ECPv6.15.20//NONSGML v1.0//EN
CALSCALE:GREGORIAN
METHOD:PUBLISH
X-WR-CALNAME:Bigfork | Small Village - Big Adventure
X-ORIGINAL-URL:https://bigfork.org
X-WR-CALDESC:Events for Bigfork | Small Village - Big Adventure
REFRESH-INTERVAL;VALUE=DURATION:PT1H
X-Robots-Tag:noindex
X-PUBLISHED-TTL:PT1H
BEGIN:VTIMEZONE
TZID:America/Denver
BEGIN:DAYLIGHT
TZOFFSETFROM:-0700
TZOFFSETTO:-0600
TZNAME:MDT
DTSTART:20220313T090000
END:DAYLIGHT
BEGIN:STANDARD
TZOFFSETFROM:-0600
TZOFFSETTO:-0700
TZNAME:MST
DTSTART:20221106T080000
END:STANDARD
BEGIN:DAYLIGHT
TZOFFSETFROM:-0700
TZOFFSETTO:-0600
TZNAME:MDT
DTSTART:20230312T090000
END:DAYLIGHT
BEGIN:STANDARD
TZOFFSETFROM:-0600
TZOFFSETTO:-0700
TZNAME:MST
DTSTART:20231105T080000
END:STANDARD
BEGIN:DAYLIGHT
TZOFFSETFROM:-0700
TZOFFSETTO:-0600
TZNAME:MDT
DTSTART:20240310T090000
END:DAYLIGHT
BEGIN:STANDARD
TZOFFSETFROM:-0600
TZOFFSETTO:-0700
TZNAME:MST
DTSTART:20241103T080000
END:STANDARD
END:VTIMEZONE
BEGIN:VEVENT
DTSTART;VALUE=DATE:20231018
DTEND;VALUE=DATE:20231019
DTSTAMP:20260421T044144
CREATED:20231017T182431Z
LAST-MODIFIED:20231017T182431Z
UID:10017801-1697587200-1697673599@bigfork.org
SUMMARY:LIVE Music
DESCRIPTION:Andy’s Crafthouse:  Tommy Edwards and Chance Cole at 7pm \n 
URL:https://bigfork.org/event/live-music-166/
END:VEVENT
BEGIN:VEVENT
DTSTART;TZID=America/Denver:20231018T083000
DTEND;TZID=America/Denver:20231018T090000
DTSTAMP:20260421T044144
CREATED:20231003T163735Z
LAST-MODIFIED:20231024T172654Z
UID:10017425-1697617800-1697619600@bigfork.org
SUMMARY:Community Sound Meditation
DESCRIPTION:Weekly Sound Meditation\, 8:30-9am\, Cost – Donation-Based\n\n\nGuided by aiology works\, this morning sound meditation is designed as a part of “The Nook Routine” to help you bring forward your highest intention for the day. Set the tone for your day with our mindfulness community! Meditators of all levels are welcome. Register to reserve your space at thenookbigfork.com. \n 
URL:https://bigfork.org/event/weekly-sound-meditation/2023-10-18/
LOCATION:The Nook at Bigfork Bay\, 470 Electric Avenue\, Bigfork\, Montana\, 59911
CATEGORIES:Community
GEO:48.0617408;-114.0736903
X-APPLE-STRUCTURED-LOCATION;VALUE=URI;X-ADDRESS=The Nook at Bigfork Bay 470 Electric Avenue Bigfork Montana 59911;X-APPLE-RADIUS=500;X-TITLE=470 Electric Avenue:geo:-114.0736903,48.0617408
END:VEVENT
BEGIN:VEVENT
DTSTART;TZID=America/Denver:20231018T090000
DTEND;TZID=America/Denver:20231018T150000
DTSTAMP:20260421T044145
CREATED:20231012T181556Z
LAST-MODIFIED:20231012T181642Z
UID:10017771-1697619600-1697641200@bigfork.org
SUMMARY:Theta Healing Training
DESCRIPTION:Monday\, October 16th – Wednesday\, October 18th \nTheta Healing Basic DNA Practitioner Training\, 9am-3pm Daily\, Cost – $500 \nIf you feel energies and vibrations all around you and want to harness that sensitivity in moving yourself forward\, this is the class for you. ThetaHealing training will gently guide practitioners and clients to harness and unlock our underutilized innate abilities. In a way\, it is a training to re-member and awaken what we already know deep within ourselves. It is a journey to rediscover yourself and the world around you in a whole new perspective—it’s a paradigm shift. ThetaHealing utilizes active meditation methods which guides practitioners and clients into Theta brain state. In the Theta brain state\, we have access to both conscious and subconscious mind. This opens up a gateway for us to tap into unlimited potentials including deeper emotional\, spiritual and physical healing in impactful ways. \nRegister for the course at our website\, www.thenookbigfork.com.\nhttps://www.thenookbigfork.com/…/theta-healing-basic…
URL:https://bigfork.org/event/theta-healing-training/2023-10-18/
LOCATION:The Nook at Bigfork Bay\, 470 Electric Avenue\, Bigfork\, Montana\, 59911
CATEGORIES:Community
GEO:48.0617408;-114.0736903
X-APPLE-STRUCTURED-LOCATION;VALUE=URI;X-ADDRESS=The Nook at Bigfork Bay 470 Electric Avenue Bigfork Montana 59911;X-APPLE-RADIUS=500;X-TITLE=470 Electric Avenue:geo:-114.0736903,48.0617408
END:VEVENT
BEGIN:VEVENT
DTSTART;TZID=America/Denver:20231018T180000
DTEND;TZID=America/Denver:20231018T180000
DTSTAMP:20260421T044145
CREATED:20230907T175013Z
LAST-MODIFIED:20240213T204116Z
UID:10015612-1697652000-1697652000@bigfork.org
SUMMARY:Free Community Dinner
DESCRIPTION:Free Community Dinner at Bethany Lutheran Church every Wednesday! \nDoors open at 5:45pm and dinner will be served at 6:00pm.  We welcome all to join us.  A short\, optional testimony service will be held afterward. \nIt’s FREE!  We are located next to Rosa’s Pizza on MT Highway 35.  We hope to see you!!
URL:https://bigfork.org/event/free-community-dinner/2023-10-18/
LOCATION:Bethany Lutheran Church\, 8559 Montana 35\, Bigfork\, MT\, 59911\, United States
CATEGORIES:Community,Food
GEO:48.0565486;-114.0733994
X-APPLE-STRUCTURED-LOCATION;VALUE=URI;X-ADDRESS=Bethany Lutheran Church 8559 Montana 35 Bigfork MT 59911 United States;X-APPLE-RADIUS=500;X-TITLE=8559 Montana 35:geo:-114.0733994,48.0565486
END:VEVENT
BEGIN:VEVENT
DTSTART;TZID=America/Denver:20231018T180000
DTEND;TZID=America/Denver:20231018T210000
DTSTAMP:20260421T044145
CREATED:20230926T202554Z
LAST-MODIFIED:20230926T202912Z
UID:10017355-1697652000-1697662800@bigfork.org
SUMMARY:Open Mic Night
DESCRIPTION:We’re excited to announce the start of a brand new weekly open mic night here in Bigfork at the Andy’s Crafthouse starting Wednesday\, September 27th\, from 6 to 9pm.\n\n\nFREE drink to those who sign up to perform. There will also be specials on food and drinks for the evening…What’s not to love about that?!
URL:https://bigfork.org/event/open-mic-night/2023-10-18/
LOCATION:Andy’s Crafthouse\, 8030 MT Hwy 35\, Bigfork\, MT\, 59911\, United States
CATEGORIES:Community,Food,Music
GEO:48.0768413;-114.0793403
X-APPLE-STRUCTURED-LOCATION;VALUE=URI;X-ADDRESS=Andy’s Crafthouse 8030 MT Hwy 35 Bigfork MT 59911 United States;X-APPLE-RADIUS=500;X-TITLE=8030 MT Hwy 35:geo:-114.0793403,48.0768413
END:VEVENT
BEGIN:VEVENT
DTSTART;TZID=America/Denver:20231018T183000
DTEND;TZID=America/Denver:20231018T200000
DTSTAMP:20260421T044145
CREATED:20231003T184524Z
LAST-MODIFIED:20231003T184524Z
UID:10017491-1697653800-1697659200@bigfork.org
SUMMARY:Trivia Night at the Brewery
DESCRIPTION:Join us at Flathead Lake Brewery for TRIVIA NIGHT every Wednesday.
URL:https://bigfork.org/event/trivia-night-at-the-brewery/2023-10-18/
LOCATION:Flathead Lake Brewing Co. Pubhouse\, 116 Holt Drive\, Bigfork\, MT\, 59911\, United States
CATEGORIES:Community,Food
GEO:48.0642137;-114.0836354
X-APPLE-STRUCTURED-LOCATION;VALUE=URI;X-ADDRESS=Flathead Lake Brewing Co. Pubhouse 116 Holt Drive Bigfork MT 59911 United States;X-APPLE-RADIUS=500;X-TITLE=116 Holt Drive:geo:-114.0836354,48.0642137
END:VEVENT
BEGIN:VEVENT
DTSTART;TZID=America/Denver:20231018T190000
DTEND;TZID=America/Denver:20231018T190000
DTSTAMP:20260421T044145
CREATED:20230302T185742Z
LAST-MODIFIED:20241219T183151Z
UID:10010752-1697655600-1697655600@bigfork.org
SUMMARY:Karaoke Night at Buffalo Saloon
DESCRIPTION:Wednesday Nights! Open Mic/Karaoke with Mike Russ! The unbelievable talent in our area will blow your mind. This isnt your typical karaoke. Come on Flathead! Show us what you’ve got!
URL:https://bigfork.org/event/karaoke-night-at-buffalo-saloon/2023-10-18/
LOCATION:Buffalo Saloon & Casino\, 5 Swan Way\, Bigfork\, MT\, 59911\, United States
CATEGORIES:Community,Music
GEO:48.0780922;-114.0488518
X-APPLE-STRUCTURED-LOCATION;VALUE=URI;X-ADDRESS=Buffalo Saloon & Casino 5 Swan Way Bigfork MT 59911 United States;X-APPLE-RADIUS=500;X-TITLE=5 Swan Way:geo:-114.0488518,48.0780922
END:VEVENT
END:VCALENDAR